BEGIN:VCALENDAR
VERSION:2.0
PRODID:-//Ashlands Primary School - ECPv6.15.17.1//NONSGML v1.0//EN
CALSCALE:GREGORIAN
METHOD:PUBLISH
X-ORIGINAL-URL:https://www.ashlandsprimary.org.uk
X-WR-CALDESC:Events for Ashlands Primary School
REFRESH-INTERVAL;VALUE=DURATION:PT1H
X-Robots-Tag:noindex
X-PUBLISHED-TTL:PT1H
BEGIN:VTIMEZONE
TZID:UTC
BEGIN:STANDARD
TZOFFSETFROM:+0000
TZOFFSETTO:+0000
TZNAME:UTC
DTSTART:20210101T000000
END:STANDARD
END:VTIMEZONE
BEGIN:VEVENT
DTSTART;TZID=UTC:20220405T160000
DTEND;TZID=UTC:20220405T190000
DTSTAMP:20260422T023305
CREATED:20220401T104602Z
LAST-MODIFIED:20220401T104700Z
UID:844-1649174400-1649185200@www.ashlandsprimary.org.uk
SUMMARY:Spring Term Parents Evening
DESCRIPTION:For whole school except 4 Yew
URL:https://www.ashlandsprimary.org.uk/event/spring-term-parents-evening/
END:VEVENT
END:VCALENDAR