BEGIN:VCALENDAR
VERSION:2.0
PRODID:-//Ashlands Primary School - ECPv6.15.17.1//NONSGML v1.0//EN
CALSCALE:GREGORIAN
METHOD:PUBLISH
X-WR-CALNAME:Ashlands Primary School
X-ORIGINAL-URL:https://www.ashlandsprimary.org.uk
X-WR-CALDESC:Events for Ashlands Primary School
REFRESH-INTERVAL;VALUE=DURATION:PT1H
X-Robots-Tag:noindex
X-PUBLISHED-TTL:PT1H
BEGIN:VTIMEZONE
TZID:UTC
BEGIN:STANDARD
TZOFFSETFROM:+0000
TZOFFSETTO:+0000
TZNAME:UTC
DTSTART:20210101T000000
END:STANDARD
END:VTIMEZONE
BEGIN:VEVENT
DTSTART;TZID=UTC:20220516T090000
DTEND;TZID=UTC:20220520T170000
DTSTAMP:20260422T011556
CREATED:20220504T075451Z
LAST-MODIFIED:20220504T154628Z
UID:1256-1652691600-1653066000@www.ashlandsprimary.org.uk
SUMMARY:End of Year Assessments - Year 2 only
DESCRIPTION:W/C 16th May 2022
URL:https://www.ashlandsprimary.org.uk/event/end-of-year-assessments-year-2-only-w-c-16th-may/
END:VEVENT
BEGIN:VEVENT
DTSTART;TZID=UTC:20220516T133000
DTEND;TZID=UTC:20220516T150000
DTSTAMP:20260422T011556
CREATED:20220503T152129Z
LAST-MODIFIED:20220503T152129Z
UID:1209-1652707800-1652713200@www.ashlandsprimary.org.uk
SUMMARY:Nursery Open Afternoon
DESCRIPTION:Booking required at the school office.
URL:https://www.ashlandsprimary.org.uk/event/nursery-open-afternoon/
END:VEVENT
END:VCALENDAR