BEGIN:VCALENDAR
VERSION:2.0
PRODID:-//Ashlands Primary School - ECPv6.15.17.1//NONSGML v1.0//EN
CALSCALE:GREGORIAN
METHOD:PUBLISH
X-WR-CALNAME:Ashlands Primary School
X-ORIGINAL-URL:https://www.ashlandsprimary.org.uk
X-WR-CALDESC:Events for Ashlands Primary School
REFRESH-INTERVAL;VALUE=DURATION:PT1H
X-Robots-Tag:noindex
X-PUBLISHED-TTL:PT1H
BEGIN:VTIMEZONE
TZID:UTC
BEGIN:STANDARD
TZOFFSETFROM:+0000
TZOFFSETTO:+0000
TZNAME:UTC
DTSTART:20210101T000000
END:STANDARD
END:VTIMEZONE
BEGIN:VEVENT
DTSTART;TZID=UTC:20220609T144500
DTEND;TZID=UTC:20220609T152000
DTSTAMP:20260421T234822
CREATED:20220516T102258Z
LAST-MODIFIED:20220516T102344Z
UID:1364-1654785900-1654788000@www.ashlandsprimary.org.uk
SUMMARY:Stay & play Ash class
DESCRIPTION:You are welcome to come into class and look at your child’s work\, have them give you a ‘guided tour’ of their classroom and stay and play before home time. \nPlease let us know if you would like to attend so we know numbers to expect. \n 
URL:https://www.ashlandsprimary.org.uk/event/ash-class-thursday-9th-june-2-45-3-20pm/
END:VEVENT
END:VCALENDAR