BEGIN:VCALENDAR
VERSION:2.0
PRODID:-//Ashlands Primary School - ECPv6.15.17.1//NONSGML v1.0//EN
CALSCALE:GREGORIAN
METHOD:PUBLISH
X-WR-CALNAME:Ashlands Primary School
X-ORIGINAL-URL:https://www.ashlandsprimary.org.uk
X-WR-CALDESC:Events for Ashlands Primary School
REFRESH-INTERVAL;VALUE=DURATION:PT1H
X-Robots-Tag:noindex
X-PUBLISHED-TTL:PT1H
BEGIN:VTIMEZONE
TZID:UTC
BEGIN:STANDARD
TZOFFSETFROM:+0000
TZOFFSETTO:+0000
TZNAME:UTC
DTSTART:20210101T000000
END:STANDARD
END:VTIMEZONE
BEGIN:VEVENT
DTSTART;TZID=UTC:20220613T090000
DTEND;TZID=UTC:20220617T153000
DTSTAMP:20260421T234800
CREATED:20220504T151100Z
LAST-MODIFIED:20220504T151100Z
UID:1281-1655110800-1655479800@www.ashlandsprimary.org.uk
SUMMARY:Cycling Proficiency Year 5
DESCRIPTION:W/c 13th June \nBlock 1
URL:https://www.ashlandsprimary.org.uk/event/cycling-proficiency-year-5/
END:VEVENT
BEGIN:VEVENT
DTSTART;VALUE=DATE:20220617
DTEND;VALUE=DATE:20220620
DTSTAMP:20260421T234800
CREATED:20220504T145025Z
LAST-MODIFIED:20220504T145025Z
UID:1267-1655424000-1655683199@www.ashlandsprimary.org.uk
SUMMARY:Friends of Ashlands Camping Trip
DESCRIPTION:The Masons Campsite\, Appletreewick
URL:https://www.ashlandsprimary.org.uk/event/friends-of-ashlands-camping-trip/
END:VEVENT
BEGIN:VEVENT
DTSTART;TZID=UTC:20220617T080000
DTEND;TZID=UTC:20220617T120000
DTSTAMP:20260421T234800
CREATED:20220614T150011Z
LAST-MODIFIED:20220614T150011Z
UID:1676-1655452800-1655467200@www.ashlandsprimary.org.uk
SUMMARY:Year 4 trip to Ilkley Tennis Tournament - AM
DESCRIPTION:Year 3 trip to Ilkley Tennis Tournament – AM
URL:https://www.ashlandsprimary.org.uk/event/year-4-trip-to-ilkley-tennis-tournament-am/
END:VEVENT
BEGIN:VEVENT
DTSTART;TZID=UTC:20220617T080000
DTEND;TZID=UTC:20220617T170000
DTSTAMP:20260421T234800
CREATED:20220614T143858Z
LAST-MODIFIED:20220614T143858Z
UID:1670-1655452800-1655485200@www.ashlandsprimary.org.uk
SUMMARY:Year 3 Big Breakfast
DESCRIPTION:As an introduction to our new topic ‘Food and Farming’\, we are inviting the children to share breakfast. \nWe are asking your Year 4 child come to school in their pyjamas and bring in their favourite breakfast foods. \nPlease remember NO NUTS as we have children with severe allergies within the year group. \n 
URL:https://www.ashlandsprimary.org.uk/event/year-3-big-breakfast/
END:VEVENT
END:VCALENDAR