BEGIN:VCALENDAR
VERSION:2.0
PRODID:-//Ashlands Primary School - ECPv6.15.17.1//NONSGML v1.0//EN
CALSCALE:GREGORIAN
METHOD:PUBLISH
X-WR-CALNAME:Ashlands Primary School
X-ORIGINAL-URL:https://www.ashlandsprimary.org.uk
X-WR-CALDESC:Events for Ashlands Primary School
REFRESH-INTERVAL;VALUE=DURATION:PT1H
X-Robots-Tag:noindex
X-PUBLISHED-TTL:PT1H
BEGIN:VTIMEZONE
TZID:UTC
BEGIN:STANDARD
TZOFFSETFROM:+0000
TZOFFSETTO:+0000
TZNAME:UTC
DTSTART:20210101T000000
END:STANDARD
END:VTIMEZONE
BEGIN:VEVENT
DTSTART;TZID=UTC:20220711T090000
DTEND;TZID=UTC:20220715T153000
DTSTAMP:20260421T222437
CREATED:20220504T151216Z
LAST-MODIFIED:20220504T151216Z
UID:1285-1657530000-1657899000@www.ashlandsprimary.org.uk
SUMMARY:Cycling Proficiency Year 5
DESCRIPTION:w/c 11th July 2022 \nBlock 2
URL:https://www.ashlandsprimary.org.uk/event/cycling-proficiency-year-5-2/
END:VEVENT
BEGIN:VEVENT
DTSTART;TZID=UTC:20220712T163000
DTEND;TZID=UTC:20220712T173000
DTSTAMP:20260421T222437
CREATED:20220504T152404Z
LAST-MODIFIED:20220705T112532Z
UID:1293-1657643400-1657647000@www.ashlandsprimary.org.uk
SUMMARY:Reception to Year 1 Transition Meeting for parents
DESCRIPTION:Information session for parents and carers of children currently in Reception and moving up to Year 1 in September. \n4.30 – 5.30 \n 
URL:https://www.ashlandsprimary.org.uk/event/reception-to-year-1-transition-meeting-for-parents/
END:VEVENT
END:VCALENDAR