BEGIN:VCALENDAR
VERSION:2.0
PRODID:-//Ashlands Primary School - ECPv6.15.17.1//NONSGML v1.0//EN
CALSCALE:GREGORIAN
METHOD:PUBLISH
X-ORIGINAL-URL:https://www.ashlandsprimary.org.uk
X-WR-CALDESC:Events for Ashlands Primary School
REFRESH-INTERVAL;VALUE=DURATION:PT1H
X-Robots-Tag:noindex
X-PUBLISHED-TTL:PT1H
BEGIN:VTIMEZONE
TZID:UTC
BEGIN:STANDARD
TZOFFSETFROM:+0000
TZOFFSETTO:+0000
TZNAME:UTC
DTSTART:20210101T000000
END:STANDARD
END:VTIMEZONE
BEGIN:VEVENT
DTSTART;TZID=UTC:20221004T090000
DTEND;TZID=UTC:20221004T130000
DTSTAMP:20260421T181912
CREATED:20220916T142326Z
LAST-MODIFIED:20220916T142326Z
UID:2267-1664874000-1664888400@www.ashlandsprimary.org.uk
SUMMARY:Flu Immunisation Reception to Year 6
DESCRIPTION:
URL:https://www.ashlandsprimary.org.uk/event/flu-immunisation-reception-to-year-6/
END:VEVENT
END:VCALENDAR