BEGIN:VCALENDAR
VERSION:2.0
PRODID:-//Ashlands Primary School - ECPv6.15.17.1//NONSGML v1.0//EN
CALSCALE:GREGORIAN
METHOD:PUBLISH
X-WR-CALNAME:Ashlands Primary School
X-ORIGINAL-URL:https://www.ashlandsprimary.org.uk
X-WR-CALDESC:Events for Ashlands Primary School
REFRESH-INTERVAL;VALUE=DURATION:PT1H
X-Robots-Tag:noindex
X-PUBLISHED-TTL:PT1H
BEGIN:VTIMEZONE
TZID:UTC
BEGIN:STANDARD
TZOFFSETFROM:+0000
TZOFFSETTO:+0000
TZNAME:UTC
DTSTART:20220101T000000
END:STANDARD
END:VTIMEZONE
BEGIN:VEVENT
DTSTART;TZID=UTC:20230302T080000
DTEND;TZID=UTC:20230302T170000
DTSTAMP:20260421T113057
CREATED:20230210T152449Z
LAST-MODIFIED:20230210T152449Z
UID:3438-1677744000-1677776400@www.ashlandsprimary.org.uk
SUMMARY:World Book Day
DESCRIPTION:come to school dressed as a character from your favourite book
URL:https://www.ashlandsprimary.org.uk/event/world-book-day/
END:VEVENT
END:VCALENDAR