BEGIN:VCALENDAR
VERSION:2.0
PRODID:-//Ashlands Primary School - ECPv6.15.17.1//NONSGML v1.0//EN
CALSCALE:GREGORIAN
METHOD:PUBLISH
X-ORIGINAL-URL:https://www.ashlandsprimary.org.uk
X-WR-CALDESC:Events for Ashlands Primary School
REFRESH-INTERVAL;VALUE=DURATION:PT1H
X-Robots-Tag:noindex
X-PUBLISHED-TTL:PT1H
BEGIN:VTIMEZONE
TZID:UTC
BEGIN:STANDARD
TZOFFSETFROM:+0000
TZOFFSETTO:+0000
TZNAME:UTC
DTSTART:20220101T000000
END:STANDARD
END:VTIMEZONE
BEGIN:VEVENT
DTSTART;TZID=UTC:20230323T034500
DTEND;TZID=UTC:20230323T190000
DTSTAMP:20260421T125324
CREATED:20230306T105145Z
LAST-MODIFIED:20230306T105145Z
UID:3577-1679543100-1679598000@www.ashlandsprimary.org.uk
SUMMARY:Children's Disco
DESCRIPTION:Nursery & Reception 3.45pm – 4.30pm \nKS1  4.45pm – 5.45pm \nKS2 6.00pm – 7.00pm
URL:https://www.ashlandsprimary.org.uk/event/childrens-disco/
END:VEVENT
BEGIN:VEVENT
DTSTART;TZID=UTC:20230323T145000
DTEND;TZID=UTC:20230323T152000
DTSTAMP:20260421T125324
CREATED:20230210T153103Z
LAST-MODIFIED:20230210T153103Z
UID:3457-1679583000-1679584800@www.ashlandsprimary.org.uk
SUMMARY:Year 6 Share and Celebrate
DESCRIPTION:
URL:https://www.ashlandsprimary.org.uk/event/year-6-share-and-celebrate-2/
END:VEVENT
END:VCALENDAR