BEGIN:VCALENDAR
VERSION:2.0
PRODID:-//Ashlands Primary School - ECPv6.15.17.1//NONSGML v1.0//EN
CALSCALE:GREGORIAN
METHOD:PUBLISH
X-ORIGINAL-URL:https://www.ashlandsprimary.org.uk
X-WR-CALDESC:Events for Ashlands Primary School
REFRESH-INTERVAL;VALUE=DURATION:PT1H
X-Robots-Tag:noindex
X-PUBLISHED-TTL:PT1H
BEGIN:VTIMEZONE
TZID:UTC
BEGIN:STANDARD
TZOFFSETFROM:+0000
TZOFFSETTO:+0000
TZNAME:UTC
DTSTART:20220101T000000
END:STANDARD
END:VTIMEZONE
BEGIN:VEVENT
DTSTART;TZID=UTC:20230331T080000
DTEND;TZID=UTC:20230331T170000
DTSTAMP:20260421T101251
CREATED:20230310T091940Z
LAST-MODIFIED:20230310T091940Z
UID:3609-1680249600-1680282000@www.ashlandsprimary.org.uk
SUMMARY:NO Razzmatazz today
DESCRIPTION:
URL:https://www.ashlandsprimary.org.uk/event/no-razzmatazz-today/
END:VEVENT
BEGIN:VEVENT
DTSTART;TZID=UTC:20230331T153000
DTEND;TZID=UTC:20230331T153000
DTSTAMP:20260421T101251
CREATED:20230112T151910Z
LAST-MODIFIED:20230112T151910Z
UID:3209-1680276600-1680276600@www.ashlandsprimary.org.uk
SUMMARY:Break Up
DESCRIPTION:
URL:https://www.ashlandsprimary.org.uk/event/break-up-6/
END:VEVENT
END:VCALENDAR