BEGIN:VCALENDAR
VERSION:2.0
PRODID:-//Ashlands Primary School - ECPv6.15.17.1//NONSGML v1.0//EN
CALSCALE:GREGORIAN
METHOD:PUBLISH
X-ORIGINAL-URL:https://www.ashlandsprimary.org.uk
X-WR-CALDESC:Events for Ashlands Primary School
REFRESH-INTERVAL;VALUE=DURATION:PT1H
X-Robots-Tag:noindex
X-PUBLISHED-TTL:PT1H
BEGIN:VTIMEZONE
TZID:UTC
BEGIN:STANDARD
TZOFFSETFROM:+0000
TZOFFSETTO:+0000
TZNAME:UTC
DTSTART:20220101T000000
END:STANDARD
END:VTIMEZONE
BEGIN:VEVENT
DTSTART;TZID=UTC:20230517T090000
DTEND;TZID=UTC:20230517T113000
DTSTAMP:20260421T090214
CREATED:20230502T134455Z
LAST-MODIFIED:20230502T134457Z
UID:4080-1684314000-1684323000@www.ashlandsprimary.org.uk
SUMMARY:Year 6 - Coram Life Education
DESCRIPTION:
URL:https://www.ashlandsprimary.org.uk/event/year-6-coram-life-education/
END:VEVENT
BEGIN:VEVENT
DTSTART;TZID=UTC:20230517T090000
DTEND;TZID=UTC:20230517T120000
DTSTAMP:20260421T090214
CREATED:20230502T134354Z
LAST-MODIFIED:20230502T134357Z
UID:4078-1684314000-1684324800@www.ashlandsprimary.org.uk
SUMMARY:Years 3 and 4 - Kings Hall - Stars Talent Show
DESCRIPTION:
URL:https://www.ashlandsprimary.org.uk/event/years-3-and-4-kings-hall-stars-talent-show/
END:VEVENT
END:VCALENDAR