BEGIN:VCALENDAR
VERSION:2.0
PRODID:-//Ashlands Primary School - ECPv6.15.17.1//NONSGML v1.0//EN
CALSCALE:GREGORIAN
METHOD:PUBLISH
X-ORIGINAL-URL:https://www.ashlandsprimary.org.uk
X-WR-CALDESC:Events for Ashlands Primary School
REFRESH-INTERVAL;VALUE=DURATION:PT1H
X-Robots-Tag:noindex
X-PUBLISHED-TTL:PT1H
BEGIN:VTIMEZONE
TZID:UTC
BEGIN:STANDARD
TZOFFSETFROM:+0000
TZOFFSETTO:+0000
TZNAME:UTC
DTSTART:20220101T000000
END:STANDARD
END:VTIMEZONE
BEGIN:VEVENT
DTSTART;TZID=UTC:20231002T090000
DTEND;TZID=UTC:20231002T153000
DTSTAMP:20260421T020340
CREATED:20230906T105831Z
LAST-MODIFIED:20230906T110317Z
UID:4968-1696237200-1696260600@www.ashlandsprimary.org.uk
SUMMARY:Key Stage 1\, Reception and Nursery - Individual and Sibling Photos
DESCRIPTION:
URL:https://www.ashlandsprimary.org.uk/event/key-stage-1-reception-and-nursery-individual-and-sibling-photos/
END:VEVENT
END:VCALENDAR