BEGIN:VCALENDAR
VERSION:2.0
PRODID:-//Ashlands Primary School - ECPv6.15.17.1//NONSGML v1.0//EN
CALSCALE:GREGORIAN
METHOD:PUBLISH
X-ORIGINAL-URL:https://www.ashlandsprimary.org.uk
X-WR-CALDESC:Events for Ashlands Primary School
REFRESH-INTERVAL;VALUE=DURATION:PT1H
X-Robots-Tag:noindex
X-PUBLISHED-TTL:PT1H
BEGIN:VTIMEZONE
TZID:UTC
BEGIN:STANDARD
TZOFFSETFROM:+0000
TZOFFSETTO:+0000
TZNAME:UTC
DTSTART:20220101T000000
END:STANDARD
END:VTIMEZONE
BEGIN:VEVENT
DTSTART;TZID=UTC:20231019T083000
DTEND;TZID=UTC:20231019T153000
DTSTAMP:20260421T020341
CREATED:20230921T075009Z
LAST-MODIFIED:20230921T075012Z
UID:5106-1697704200-1697729400@www.ashlandsprimary.org.uk
SUMMARY:Class 5 Hawthorn trip to Oakwell Hall
DESCRIPTION:
URL:https://www.ashlandsprimary.org.uk/event/class-5-hawthorn-trip-to-oakwell-hall/
END:VEVENT
END:VCALENDAR