BEGIN:VCALENDAR
VERSION:2.0
PRODID:-//Ashlands Primary School - ECPv6.15.17.1//NONSGML v1.0//EN
CALSCALE:GREGORIAN
METHOD:PUBLISH
X-ORIGINAL-URL:https://www.ashlandsprimary.org.uk
X-WR-CALDESC:Events for Ashlands Primary School
REFRESH-INTERVAL;VALUE=DURATION:PT1H
X-Robots-Tag:noindex
X-PUBLISHED-TTL:PT1H
BEGIN:VTIMEZONE
TZID:UTC
BEGIN:STANDARD
TZOFFSETFROM:+0000
TZOFFSETTO:+0000
TZNAME:UTC
DTSTART:20220101T000000
END:STANDARD
END:VTIMEZONE
BEGIN:VEVENT
DTSTART;TZID=UTC:20231020T090000
DTEND;TZID=UTC:20231020T153000
DTSTAMP:20260421T020341
CREATED:20231004T130346Z
LAST-MODIFIED:20231004T130349Z
UID:5345-1697792400-1697815800@www.ashlandsprimary.org.uk
SUMMARY:Halloween Day and Pumpkin Carving
DESCRIPTION:Optional dressing up
URL:https://www.ashlandsprimary.org.uk/event/halloween-day-and-pumpkin-carving/
END:VEVENT
BEGIN:VEVENT
DTSTART;TZID=UTC:20231020T153000
DTEND;TZID=UTC:20231020T153000
DTSTAMP:20260421T020341
CREATED:20230112T152517Z
LAST-MODIFIED:20230112T152517Z
UID:3221-1697815800-1697815800@www.ashlandsprimary.org.uk
SUMMARY:Break Up
DESCRIPTION:
URL:https://www.ashlandsprimary.org.uk/event/break-up-9/
END:VEVENT
END:VCALENDAR