BEGIN:VCALENDAR
VERSION:2.0
PRODID:-//Ashlands Primary School - ECPv6.15.17.1//NONSGML v1.0//EN
CALSCALE:GREGORIAN
METHOD:PUBLISH
X-ORIGINAL-URL:https://www.ashlandsprimary.org.uk
X-WR-CALDESC:Events for Ashlands Primary School
REFRESH-INTERVAL;VALUE=DURATION:PT1H
X-Robots-Tag:noindex
X-PUBLISHED-TTL:PT1H
BEGIN:VTIMEZONE
TZID:UTC
BEGIN:STANDARD
TZOFFSETFROM:+0000
TZOFFSETTO:+0000
TZNAME:UTC
DTSTART:20220101T000000
END:STANDARD
END:VTIMEZONE
BEGIN:VEVENT
DTSTART;TZID=UTC:20231121T144500
DTEND;TZID=UTC:20231121T153000
DTSTAMP:20260421T004600
CREATED:20231115T113954Z
LAST-MODIFIED:20231120T115527Z
UID:6274-1700577900-1700580600@www.ashlandsprimary.org.uk
SUMMARY:Year 3 - Celebration Assembly
DESCRIPTION:
URL:https://www.ashlandsprimary.org.uk/event/year-3-celebration-assembly/
END:VEVENT
END:VCALENDAR