BEGIN:VCALENDAR
VERSION:2.0
PRODID:-//Ashlands Primary School - ECPv6.15.17.1//NONSGML v1.0//EN
CALSCALE:GREGORIAN
METHOD:PUBLISH
X-WR-CALNAME:Ashlands Primary School
X-ORIGINAL-URL:https://www.ashlandsprimary.org.uk
X-WR-CALDESC:Events for Ashlands Primary School
REFRESH-INTERVAL;VALUE=DURATION:PT1H
X-Robots-Tag:noindex
X-PUBLISHED-TTL:PT1H
BEGIN:VTIMEZONE
TZID:UTC
BEGIN:STANDARD
TZOFFSETFROM:+0000
TZOFFSETTO:+0000
TZNAME:UTC
DTSTART:20220101T000000
END:STANDARD
END:VTIMEZONE
BEGIN:VEVENT
DTSTART;TZID=UTC:20231124T093000
DTEND;TZID=UTC:20231124T110000
DTSTAMP:20260421T004457
CREATED:20231115T115543Z
LAST-MODIFIED:20231115T115546Z
UID:6283-1700818200-1700823600@www.ashlandsprimary.org.uk
SUMMARY:Reception visit to the Fire Station
DESCRIPTION:
URL:https://www.ashlandsprimary.org.uk/event/reception-visit-to-the-fire-station/
END:VEVENT
BEGIN:VEVENT
DTSTART;TZID=UTC:20231124T150000
DTEND;TZID=UTC:20231124T153000
DTSTAMP:20260421T004457
CREATED:20231115T115735Z
LAST-MODIFIED:20231120T113734Z
UID:6286-1700838000-1700839800@www.ashlandsprimary.org.uk
SUMMARY:Year 2 Share and Celebrate
DESCRIPTION:
URL:https://www.ashlandsprimary.org.uk/event/year-2-share-and-celebrate-2-45pm/
END:VEVENT
END:VCALENDAR