BEGIN:VCALENDAR
VERSION:2.0
PRODID:-//Ashlands Primary School - ECPv6.15.17.1//NONSGML v1.0//EN
CALSCALE:GREGORIAN
METHOD:PUBLISH
X-ORIGINAL-URL:https://www.ashlandsprimary.org.uk
X-WR-CALDESC:Events for Ashlands Primary School
REFRESH-INTERVAL;VALUE=DURATION:PT1H
X-Robots-Tag:noindex
X-PUBLISHED-TTL:PT1H
BEGIN:VTIMEZONE
TZID:UTC
BEGIN:STANDARD
TZOFFSETFROM:+0000
TZOFFSETTO:+0000
TZNAME:UTC
DTSTART:20230101T000000
END:STANDARD
END:VTIMEZONE
BEGIN:VEVENT
DTSTART;TZID=UTC:20240203T090000
DTEND;TZID=UTC:20240203T120000
DTSTAMP:20260420T202703
CREATED:20240105T110525Z
LAST-MODIFIED:20240105T115303Z
UID:6526-1706950800-1706961600@www.ashlandsprimary.org.uk
SUMMARY:Ben Rhydding Cross Country
DESCRIPTION:
URL:https://www.ashlandsprimary.org.uk/event/ben-rhydding-cross-country/
END:VEVENT
END:VCALENDAR