BEGIN:VCALENDAR
VERSION:2.0
PRODID:-//Ashlands Primary School - ECPv6.15.17.1//NONSGML v1.0//EN
CALSCALE:GREGORIAN
METHOD:PUBLISH
X-WR-CALNAME:Ashlands Primary School
X-ORIGINAL-URL:https://www.ashlandsprimary.org.uk
X-WR-CALDESC:Events for Ashlands Primary School
REFRESH-INTERVAL;VALUE=DURATION:PT1H
X-Robots-Tag:noindex
X-PUBLISHED-TTL:PT1H
BEGIN:VTIMEZONE
TZID:UTC
BEGIN:STANDARD
TZOFFSETFROM:+0000
TZOFFSETTO:+0000
TZNAME:UTC
DTSTART:20230101T000000
END:STANDARD
END:VTIMEZONE
BEGIN:VEVENT
DTSTART;TZID=UTC:20240318T090000
DTEND;TZID=UTC:20240322T153000
DTSTAMP:20260420T185401
CREATED:20240105T114337Z
LAST-MODIFIED:20240105T114339Z
UID:6553-1710752400-1711121400@www.ashlandsprimary.org.uk
SUMMARY:Book Week
DESCRIPTION:
URL:https://www.ashlandsprimary.org.uk/event/book-week/
END:VEVENT
BEGIN:VEVENT
DTSTART;TZID=UTC:20240319T193000
DTEND;TZID=UTC:20240319T210000
DTSTAMP:20260420T185401
CREATED:20240105T115408Z
LAST-MODIFIED:20240105T115410Z
UID:6555-1710876600-1710882000@www.ashlandsprimary.org.uk
SUMMARY:Friends of Ashlands (PTA) - meeting at the Black Hat\, Ilkley (All welcome)
DESCRIPTION:
URL:https://www.ashlandsprimary.org.uk/event/friends-of-ashlands-pta-meeting-at-the-black-hat-ilkley-all-welcome/
END:VEVENT
END:VCALENDAR