BEGIN:VCALENDAR
VERSION:2.0
PRODID:-//Ashlands Primary School - ECPv6.15.17.1//NONSGML v1.0//EN
CALSCALE:GREGORIAN
METHOD:PUBLISH
X-ORIGINAL-URL:https://www.ashlandsprimary.org.uk
X-WR-CALDESC:Events for Ashlands Primary School
REFRESH-INTERVAL;VALUE=DURATION:PT1H
X-Robots-Tag:noindex
X-PUBLISHED-TTL:PT1H
BEGIN:VTIMEZONE
TZID:UTC
BEGIN:STANDARD
TZOFFSETFROM:+0000
TZOFFSETTO:+0000
TZNAME:UTC
DTSTART:20230101T000000
END:STANDARD
END:VTIMEZONE
BEGIN:VEVENT
DTSTART;TZID=UTC:20240410T083000
DTEND;TZID=UTC:20240410T153000
DTSTAMP:20260420T174008
CREATED:20240221T165631Z
LAST-MODIFIED:20240221T165756Z
UID:6779-1712737800-1712763000@www.ashlandsprimary.org.uk
SUMMARY:Year 6 Trip to Eden Camp
DESCRIPTION:
URL:https://www.ashlandsprimary.org.uk/event/year-6-trip-to-eden-camp/
END:VEVENT
END:VCALENDAR