BEGIN:VCALENDAR
VERSION:2.0
PRODID:-//Ashlands Primary School - ECPv6.15.17.1//NONSGML v1.0//EN
CALSCALE:GREGORIAN
METHOD:PUBLISH
X-ORIGINAL-URL:https://www.ashlandsprimary.org.uk
X-WR-CALDESC:Events for Ashlands Primary School
REFRESH-INTERVAL;VALUE=DURATION:PT1H
X-Robots-Tag:noindex
X-PUBLISHED-TTL:PT1H
BEGIN:VTIMEZONE
TZID:UTC
BEGIN:STANDARD
TZOFFSETFROM:+0000
TZOFFSETTO:+0000
TZNAME:UTC
DTSTART:20230101T000000
END:STANDARD
END:VTIMEZONE
BEGIN:VEVENT
DTSTART;TZID=UTC:20240417T143000
DTEND;TZID=UTC:20240417T151500
DTSTAMP:20260420T174009
CREATED:20240408T085100Z
LAST-MODIFIED:20240408T085103Z
UID:6988-1713364200-1713366900@www.ashlandsprimary.org.uk
SUMMARY:Spring Music Concert
DESCRIPTION:
URL:https://www.ashlandsprimary.org.uk/event/spring-music-concert-2/
END:VEVENT
END:VCALENDAR