BEGIN:VCALENDAR
VERSION:2.0
PRODID:-//Ashlands Primary School - ECPv6.15.17.1//NONSGML v1.0//EN
CALSCALE:GREGORIAN
METHOD:PUBLISH
X-ORIGINAL-URL:https://www.ashlandsprimary.org.uk
X-WR-CALDESC:Events for Ashlands Primary School
REFRESH-INTERVAL;VALUE=DURATION:PT1H
X-Robots-Tag:noindex
X-PUBLISHED-TTL:PT1H
BEGIN:VTIMEZONE
TZID:UTC
BEGIN:STANDARD
TZOFFSETFROM:+0000
TZOFFSETTO:+0000
TZNAME:UTC
DTSTART:20230101T000000
END:STANDARD
END:VTIMEZONE
BEGIN:VEVENT
DTSTART;TZID=UTC:20240523T083000
DTEND;TZID=UTC:20240523T090000
DTSTAMP:20260420T161513
CREATED:20240517T132436Z
LAST-MODIFIED:20240517T132438Z
UID:7354-1716453000-1716454800@www.ashlandsprimary.org.uk
SUMMARY:Walk to School - Bring your breakfast to the playground
DESCRIPTION:
URL:https://www.ashlandsprimary.org.uk/event/walk-to-school-bring-your-breakfast-to-the-playground/
END:VEVENT
BEGIN:VEVENT
DTSTART;TZID=UTC:20240523T090000
DTEND;TZID=UTC:20240523T153000
DTSTAMP:20260420T161513
CREATED:20240517T132215Z
LAST-MODIFIED:20240517T132218Z
UID:7352-1716454800-1716478200@www.ashlandsprimary.org.uk
SUMMARY:Crazy Hair Day for Diabetes
DESCRIPTION:
URL:https://www.ashlandsprimary.org.uk/event/crazy-hair-day-for-diabetes/
END:VEVENT
END:VCALENDAR