BEGIN:VCALENDAR
VERSION:2.0
PRODID:-//Ashlands Primary School - ECPv6.15.17.1//NONSGML v1.0//EN
CALSCALE:GREGORIAN
METHOD:PUBLISH
X-ORIGINAL-URL:https://www.ashlandsprimary.org.uk
X-WR-CALDESC:Events for Ashlands Primary School
REFRESH-INTERVAL;VALUE=DURATION:PT1H
X-Robots-Tag:noindex
X-PUBLISHED-TTL:PT1H
BEGIN:VTIMEZONE
TZID:UTC
BEGIN:STANDARD
TZOFFSETFROM:+0000
TZOFFSETTO:+0000
TZNAME:UTC
DTSTART:20230101T000000
END:STANDARD
END:VTIMEZONE
BEGIN:VEVENT
DTSTART;TZID=UTC:20240524T090000
DTEND;TZID=UTC:20240524T093000
DTSTAMP:20260420T161513
CREATED:20240418T130406Z
LAST-MODIFIED:20240418T130406Z
UID:7087-1716541200-1716543000@www.ashlandsprimary.org.uk
SUMMARY:Class 4 Rowan Swimming
DESCRIPTION:
URL:https://www.ashlandsprimary.org.uk/event/class-4-rowan-swimming-3/
END:VEVENT
BEGIN:VEVENT
DTSTART;TZID=UTC:20240524T153000
DTEND;TZID=UTC:20240524T170000
DTSTAMP:20260420T161513
CREATED:20230112T153140Z
LAST-MODIFIED:20230112T153140Z
UID:3239-1716564600-1716570000@www.ashlandsprimary.org.uk
SUMMARY:Break Up
DESCRIPTION:
URL:https://www.ashlandsprimary.org.uk/event/break-up-13/
END:VEVENT
END:VCALENDAR