BEGIN:VCALENDAR
VERSION:2.0
PRODID:-//Ashlands Primary School - ECPv6.15.17.1//NONSGML v1.0//EN
CALSCALE:GREGORIAN
METHOD:PUBLISH
X-WR-CALNAME:Ashlands Primary School
X-ORIGINAL-URL:https://www.ashlandsprimary.org.uk
X-WR-CALDESC:Events for Ashlands Primary School
REFRESH-INTERVAL;VALUE=DURATION:PT1H
X-Robots-Tag:noindex
X-PUBLISHED-TTL:PT1H
BEGIN:VTIMEZONE
TZID:UTC
BEGIN:STANDARD
TZOFFSETFROM:+0000
TZOFFSETTO:+0000
TZNAME:UTC
DTSTART:20230101T000000
END:STANDARD
END:VTIMEZONE
BEGIN:VEVENT
DTSTART;TZID=UTC:20240703T090000
DTEND;TZID=UTC:20240703T120000
DTSTAMP:20260420T133202
CREATED:20240517T124729Z
LAST-MODIFIED:20240517T124732Z
UID:7346-1719997200-1720008000@www.ashlandsprimary.org.uk
SUMMARY:Key Stage 1 Sports Day - AM
DESCRIPTION:
URL:https://www.ashlandsprimary.org.uk/event/key-stage-1-sports-day-am/
END:VEVENT
END:VCALENDAR