BEGIN:VCALENDAR
VERSION:2.0
PRODID:-//Ashlands Primary School - ECPv6.15.17.1//NONSGML v1.0//EN
CALSCALE:GREGORIAN
METHOD:PUBLISH
X-ORIGINAL-URL:https://www.ashlandsprimary.org.uk
X-WR-CALDESC:Events for Ashlands Primary School
REFRESH-INTERVAL;VALUE=DURATION:PT1H
X-Robots-Tag:noindex
X-PUBLISHED-TTL:PT1H
BEGIN:VTIMEZONE
TZID:UTC
BEGIN:STANDARD
TZOFFSETFROM:+0000
TZOFFSETTO:+0000
TZNAME:UTC
DTSTART:20240101T000000
END:STANDARD
END:VTIMEZONE
BEGIN:VEVENT
DTSTART;TZID=UTC:20250207T085500
DTEND;TZID=UTC:20250207T093000
DTSTAMP:20260420T022917
CREATED:20241002T145102Z
LAST-MODIFIED:20241002T150515Z
UID:8161-1738918500-1738920600@www.ashlandsprimary.org.uk
SUMMARY:Class 3 Maple Swimming
DESCRIPTION:
URL:https://www.ashlandsprimary.org.uk/event/class-3-maple-swimming-19/
END:VEVENT
BEGIN:VEVENT
DTSTART;TZID=UTC:20250207T090000
DTEND;TZID=UTC:20250207T100000
DTSTAMP:20260420T022917
CREATED:20250130T111309Z
LAST-MODIFIED:20250130T111312Z
UID:8776-1738918800-1738922400@www.ashlandsprimary.org.uk
SUMMARY:Reception Eye Tests
DESCRIPTION:
URL:https://www.ashlandsprimary.org.uk/event/reception-eye-tests/
END:VEVENT
BEGIN:VEVENT
DTSTART;TZID=UTC:20250207T090000
DTEND;TZID=UTC:20250207T153000
DTSTAMP:20260420T022917
CREATED:20250124T114819Z
LAST-MODIFIED:20250124T114823Z
UID:8727-1738918800-1738942200@www.ashlandsprimary.org.uk
SUMMARY:Dress Up Day - Digits - NSPCC
DESCRIPTION:
URL:https://www.ashlandsprimary.org.uk/event/dress-up-day-digits-nspcc/
END:VEVENT
BEGIN:VEVENT
DTSTART;TZID=UTC:20250207T103000
DTEND;TZID=UTC:20250207T170000
DTSTAMP:20260420T022917
CREATED:20250120T162551Z
LAST-MODIFIED:20250120T162559Z
UID:8712-1738924200-1738947600@www.ashlandsprimary.org.uk
SUMMARY:Young Voices singing in Manchester
DESCRIPTION:
URL:https://www.ashlandsprimary.org.uk/event/young-voices-singing-in-manchester/
END:VEVENT
END:VCALENDAR