BEGIN:VCALENDAR
VERSION:2.0
PRODID:-//Ashlands Primary School - ECPv6.15.17.1//NONSGML v1.0//EN
CALSCALE:GREGORIAN
METHOD:PUBLISH
X-WR-CALNAME:Ashlands Primary School
X-ORIGINAL-URL:https://www.ashlandsprimary.org.uk
X-WR-CALDESC:Events for Ashlands Primary School
REFRESH-INTERVAL;VALUE=DURATION:PT1H
X-Robots-Tag:noindex
X-PUBLISHED-TTL:PT1H
BEGIN:VTIMEZONE
TZID:UTC
BEGIN:STANDARD
TZOFFSETFROM:+0000
TZOFFSETTO:+0000
TZNAME:UTC
DTSTART:20240101T000000
END:STANDARD
END:VTIMEZONE
BEGIN:VEVENT
DTSTART;TZID=UTC:20250307T080000
DTEND;TZID=UTC:20250322T170000
DTSTAMP:20260420T010702
CREATED:20240925T125724Z
LAST-MODIFIED:20240925T125726Z
UID:7964-1741334400-1742662800@www.ashlandsprimary.org.uk
SUMMARY:Promises Auction
DESCRIPTION:
URL:https://www.ashlandsprimary.org.uk/event/promises-auction/
END:VEVENT
BEGIN:VEVENT
DTSTART;TZID=UTC:20250320T150000
DTEND;TZID=UTC:20250320T153000
DTSTAMP:20260420T010702
CREATED:20250130T112824Z
LAST-MODIFIED:20250130T112827Z
UID:8799-1742482800-1742484600@www.ashlandsprimary.org.uk
SUMMARY:Year 5 Celebration Assembly
DESCRIPTION:
URL:https://www.ashlandsprimary.org.uk/event/year-5-celebration-assembly-3/
END:VEVENT
BEGIN:VEVENT
DTSTART;TZID=UTC:20250320T153000
DTEND;TZID=UTC:20250320T190000
DTSTAMP:20260420T010702
CREATED:20250127T114851Z
LAST-MODIFIED:20250127T114910Z
UID:8742-1742484600-1742497200@www.ashlandsprimary.org.uk
SUMMARY:School Disco
DESCRIPTION:
URL:https://www.ashlandsprimary.org.uk/event/school-disco-3/
END:VEVENT
END:VCALENDAR