BEGIN:VCALENDAR
VERSION:2.0
PRODID:-//Ashlands Primary School - ECPv6.15.17.1//NONSGML v1.0//EN
CALSCALE:GREGORIAN
METHOD:PUBLISH
X-ORIGINAL-URL:https://www.ashlandsprimary.org.uk
X-WR-CALDESC:Events for Ashlands Primary School
REFRESH-INTERVAL;VALUE=DURATION:PT1H
X-Robots-Tag:noindex
X-PUBLISHED-TTL:PT1H
BEGIN:VTIMEZONE
TZID:UTC
BEGIN:STANDARD
TZOFFSETFROM:+0000
TZOFFSETTO:+0000
TZNAME:UTC
DTSTART:20240101T000000
END:STANDARD
END:VTIMEZONE
BEGIN:VEVENT
DTSTART;TZID=UTC:20250328T085500
DTEND;TZID=UTC:20250328T093000
DTSTAMP:20260420T022917
CREATED:20241002T145630Z
LAST-MODIFIED:20241002T145631Z
UID:8193-1743152100-1743154200@www.ashlandsprimary.org.uk
SUMMARY:Class 3 Apple Swimming
DESCRIPTION:
URL:https://www.ashlandsprimary.org.uk/event/class-3-apple-swimming-5/
END:VEVENT
BEGIN:VEVENT
DTSTART;TZID=UTC:20250328T130000
DTEND;TZID=UTC:20250328T150000
DTSTAMP:20260420T022917
CREATED:20250326T162916Z
LAST-MODIFIED:20250326T162920Z
UID:9347-1743166800-1743174000@www.ashlandsprimary.org.uk
SUMMARY:Carnival maker afternoon
DESCRIPTION:
URL:https://www.ashlandsprimary.org.uk/event/carnival-maker-afternoon/
END:VEVENT
END:VCALENDAR