BEGIN:VCALENDAR
VERSION:2.0
PRODID:-//Ashlands Primary School - ECPv6.15.17.1//NONSGML v1.0//EN
CALSCALE:GREGORIAN
METHOD:PUBLISH
X-ORIGINAL-URL:https://www.ashlandsprimary.org.uk
X-WR-CALDESC:Events for Ashlands Primary School
REFRESH-INTERVAL;VALUE=DURATION:PT1H
X-Robots-Tag:noindex
X-PUBLISHED-TTL:PT1H
BEGIN:VTIMEZONE
TZID:UTC
BEGIN:STANDARD
TZOFFSETFROM:+0000
TZOFFSETTO:+0000
TZNAME:UTC
DTSTART:20240101T000000
END:STANDARD
END:VTIMEZONE
BEGIN:VEVENT
DTSTART;TZID=UTC:20250401T085500
DTEND;TZID=UTC:20250401T153000
DTSTAMP:20260420T000151
CREATED:20250304T132600Z
LAST-MODIFIED:20250304T132603Z
UID:9070-1743497700-1743521400@www.ashlandsprimary.org.uk
SUMMARY:Year 3 Trip to The Manor House\, Museum - Class 3 Maple (AM) and Class 3 Apple (PM)
DESCRIPTION:
URL:https://www.ashlandsprimary.org.uk/event/year-3-trip-to-the-manor-house-museum-class-3-maple-am-and-class-3-apple-pm/
END:VEVENT
BEGIN:VEVENT
DTSTART;TZID=UTC:20250401T160000
DTEND;TZID=UTC:20250401T190000
DTSTAMP:20260420T000151
CREATED:20250326T145556Z
LAST-MODIFIED:20250326T145556Z
UID:9338-1743523200-1743534000@www.ashlandsprimary.org.uk
SUMMARY:Parents Evening
DESCRIPTION:
URL:https://www.ashlandsprimary.org.uk/event/parents-evening-8/
END:VEVENT
END:VCALENDAR