BEGIN:VCALENDAR
VERSION:2.0
PRODID:-//Ashlands Primary School - ECPv6.15.17.1//NONSGML v1.0//EN
CALSCALE:GREGORIAN
METHOD:PUBLISH
X-WR-CALNAME:Ashlands Primary School
X-ORIGINAL-URL:https://www.ashlandsprimary.org.uk
X-WR-CALDESC:Events for Ashlands Primary School
REFRESH-INTERVAL;VALUE=DURATION:PT1H
X-Robots-Tag:noindex
X-PUBLISHED-TTL:PT1H
BEGIN:VTIMEZONE
TZID:UTC
BEGIN:STANDARD
TZOFFSETFROM:+0000
TZOFFSETTO:+0000
TZNAME:UTC
DTSTART:20240101T000000
END:STANDARD
END:VTIMEZONE
BEGIN:VEVENT
DTSTART;TZID=UTC:20250506T090000
DTEND;TZID=UTC:20250506T153000
DTSTAMP:20260419T223050
CREATED:20250326T163332Z
LAST-MODIFIED:20250326T163349Z
UID:9351-1746522000-1746545400@www.ashlandsprimary.org.uk
SUMMARY:School Photos - Class\, Individual and Sibling
DESCRIPTION:
URL:https://www.ashlandsprimary.org.uk/event/school-photos-class-individual-and-sibling/
END:VEVENT
END:VCALENDAR