BEGIN:VCALENDAR
VERSION:2.0
PRODID:-//Ashlands Primary School - ECPv6.15.17.1//NONSGML v1.0//EN
CALSCALE:GREGORIAN
METHOD:PUBLISH
X-WR-CALNAME:Ashlands Primary School
X-ORIGINAL-URL:https://www.ashlandsprimary.org.uk
X-WR-CALDESC:Events for Ashlands Primary School
REFRESH-INTERVAL;VALUE=DURATION:PT1H
X-Robots-Tag:noindex
X-PUBLISHED-TTL:PT1H
BEGIN:VTIMEZONE
TZID:UTC
BEGIN:STANDARD
TZOFFSETFROM:+0000
TZOFFSETTO:+0000
TZNAME:UTC
DTSTART:20240101T000000
END:STANDARD
END:VTIMEZONE
BEGIN:VEVENT
DTSTART;TZID=UTC:20250704T085500
DTEND;TZID=UTC:20250704T093000
DTSTAMP:20260419T200503
CREATED:20241002T152355Z
LAST-MODIFIED:20241002T152357Z
UID:8244-1751619300-1751621400@www.ashlandsprimary.org.uk
SUMMARY:Class 3 Apple Swimming
DESCRIPTION:
URL:https://www.ashlandsprimary.org.uk/event/class-3-apple-swimming-16/
END:VEVENT
BEGIN:VEVENT
DTSTART;TZID=UTC:20250704T090000
DTEND;TZID=UTC:20250704T153000
DTSTAMP:20260419T200503
CREATED:20250424T142821Z
LAST-MODIFIED:20250424T142825Z
UID:9435-1751619600-1751643000@www.ashlandsprimary.org.uk
SUMMARY:Wear it Blue Day - Donate £1.00 to Airedale Hospital
DESCRIPTION:
URL:https://www.ashlandsprimary.org.uk/event/wear-it-blue-day-donate-1-00-to-airedale-hospital/
END:VEVENT
BEGIN:VEVENT
DTSTART;TZID=UTC:20250704T154500
DTEND;TZID=UTC:20250704T183000
DTSTAMP:20260419T200503
CREATED:20240925T130346Z
LAST-MODIFIED:20250613T130544Z
UID:7976-1751643900-1751653800@www.ashlandsprimary.org.uk
SUMMARY:Summer Fair
DESCRIPTION:
URL:https://www.ashlandsprimary.org.uk/event/summer-fair-2/
END:VEVENT
END:VCALENDAR