BEGIN:VCALENDAR
VERSION:2.0
PRODID:-//Ashlands Primary School - ECPv6.15.17.1//NONSGML v1.0//EN
CALSCALE:GREGORIAN
METHOD:PUBLISH
X-ORIGINAL-URL:https://www.ashlandsprimary.org.uk
X-WR-CALDESC:Events for Ashlands Primary School
REFRESH-INTERVAL;VALUE=DURATION:PT1H
X-Robots-Tag:noindex
X-PUBLISHED-TTL:PT1H
BEGIN:VTIMEZONE
TZID:UTC
BEGIN:STANDARD
TZOFFSETFROM:+0000
TZOFFSETTO:+0000
TZNAME:UTC
DTSTART:20240101T000000
END:STANDARD
END:VTIMEZONE
BEGIN:VEVENT
DTSTART;TZID=UTC:20250711T085500
DTEND;TZID=UTC:20250711T093000
DTSTAMP:20260419T195139
CREATED:20241002T153240Z
LAST-MODIFIED:20241002T153301Z
UID:8249-1752224100-1752226200@www.ashlandsprimary.org.uk
SUMMARY:Class 3 Apple Swimming
DESCRIPTION:
URL:https://www.ashlandsprimary.org.uk/event/class-3-apple-swimming-17/
END:VEVENT
END:VCALENDAR