BEGIN:VCALENDAR
VERSION:2.0
PRODID:-//Ashlands Primary School - ECPv6.15.17.1//NONSGML v1.0//EN
CALSCALE:GREGORIAN
METHOD:PUBLISH
X-ORIGINAL-URL:https://www.ashlandsprimary.org.uk
X-WR-CALDESC:Events for Ashlands Primary School
REFRESH-INTERVAL;VALUE=DURATION:PT1H
X-Robots-Tag:noindex
X-PUBLISHED-TTL:PT1H
BEGIN:VTIMEZONE
TZID:UTC
BEGIN:STANDARD
TZOFFSETFROM:+0000
TZOFFSETTO:+0000
TZNAME:UTC
DTSTART:20240101T000000
END:STANDARD
END:VTIMEZONE
BEGIN:VEVENT
DTSTART;VALUE=DATE:20251023
DTEND;VALUE=DATE:20251024
DTSTAMP:20260419T150757
CREATED:20241118T145731Z
LAST-MODIFIED:20241118T145734Z
UID:8520-1761177600-1761263999@www.ashlandsprimary.org.uk
SUMMARY:Break Up
DESCRIPTION:
URL:https://www.ashlandsprimary.org.uk/event/break-up-27/
END:VEVENT
BEGIN:VEVENT
DTSTART;TZID=UTC:20251023T144500
DTEND;TZID=UTC:20251023T152000
DTSTAMP:20260419T150757
CREATED:20250923T074748Z
LAST-MODIFIED:20250923T074753Z
UID:10032-1761230700-1761232800@www.ashlandsprimary.org.uk
SUMMARY:Foundation Stage Harvest Songs (parents welcome)
DESCRIPTION:
URL:https://www.ashlandsprimary.org.uk/event/foundation-stage-harvest-songs-parents-welcome/
END:VEVENT
END:VCALENDAR