BEGIN:VCALENDAR
VERSION:2.0
PRODID:-//Ashlands Primary School - ECPv6.15.17.1//NONSGML v1.0//EN
CALSCALE:GREGORIAN
METHOD:PUBLISH
X-WR-CALNAME:Ashlands Primary School
X-ORIGINAL-URL:https://www.ashlandsprimary.org.uk
X-WR-CALDESC:Events for Ashlands Primary School
REFRESH-INTERVAL;VALUE=DURATION:PT1H
X-Robots-Tag:noindex
X-PUBLISHED-TTL:PT1H
BEGIN:VTIMEZONE
TZID:UTC
BEGIN:STANDARD
TZOFFSETFROM:+0000
TZOFFSETTO:+0000
TZNAME:UTC
DTSTART:20240101T000000
END:STANDARD
END:VTIMEZONE
BEGIN:VEVENT
DTSTART;TZID=UTC:20251114T090000
DTEND;TZID=UTC:20251114T093000
DTSTAMP:20260419T151129
CREATED:20251002T112629Z
LAST-MODIFIED:20251002T112956Z
UID:10190-1763110800-1763112600@www.ashlandsprimary.org.uk
SUMMARY:3 Apple Swimming
DESCRIPTION:
URL:https://www.ashlandsprimary.org.uk/event/3-apple-swimming-5/
END:VEVENT
BEGIN:VEVENT
DTSTART;TZID=UTC:20251114T090000
DTEND;TZID=UTC:20251114T153000
DTSTAMP:20260419T151129
CREATED:20251020T151255Z
LAST-MODIFIED:20251020T151259Z
UID:10308-1763110800-1763134200@www.ashlandsprimary.org.uk
SUMMARY:Children In Need - Wear Spots and Stripes - Non-uniform - please donate online
DESCRIPTION:
URL:https://www.ashlandsprimary.org.uk/event/children-in-need-wear-spots-and-stripes-non-uniform-please-donate-online/
END:VEVENT
END:VCALENDAR