BEGIN:VCALENDAR
VERSION:2.0
PRODID:-//Ashlands Primary School - ECPv6.15.17.1//NONSGML v1.0//EN
CALSCALE:GREGORIAN
METHOD:PUBLISH
X-ORIGINAL-URL:https://www.ashlandsprimary.org.uk
X-WR-CALDESC:Events for Ashlands Primary School
REFRESH-INTERVAL;VALUE=DURATION:PT1H
X-Robots-Tag:noindex
X-PUBLISHED-TTL:PT1H
BEGIN:VTIMEZONE
TZID:UTC
BEGIN:STANDARD
TZOFFSETFROM:+0000
TZOFFSETTO:+0000
TZNAME:UTC
DTSTART:20240101T000000
END:STANDARD
END:VTIMEZONE
BEGIN:VEVENT
DTSTART;TZID=UTC:20251211T090000
DTEND;TZID=UTC:20251211T153000
DTSTAMP:20260419T123403
CREATED:20251015T123259Z
LAST-MODIFIED:20251015T123302Z
UID:10294-1765443600-1765467000@www.ashlandsprimary.org.uk
SUMMARY:Christmas Jumper Day and Christmas Dinner
DESCRIPTION:
URL:https://www.ashlandsprimary.org.uk/event/christmas-jumper-day-and-christmas-dinner/
END:VEVENT
BEGIN:VEVENT
DTSTART;TZID=UTC:20251211T153000
DTEND;TZID=UTC:20251211T190000
DTSTAMP:20260419T123403
CREATED:20251002T103538Z
LAST-MODIFIED:20251002T103542Z
UID:10153-1765467000-1765479600@www.ashlandsprimary.org.uk
SUMMARY:Sparke and Shine Disco
DESCRIPTION:
URL:https://www.ashlandsprimary.org.uk/event/sparke-and-shine-disco/
END:VEVENT
END:VCALENDAR