BEGIN:VCALENDAR
VERSION:2.0
PRODID:-//Ashlands Primary School - ECPv6.15.17.1//NONSGML v1.0//EN
CALSCALE:GREGORIAN
METHOD:PUBLISH
X-WR-CALNAME:Ashlands Primary School
X-ORIGINAL-URL:https://www.ashlandsprimary.org.uk
X-WR-CALDESC:Events for Ashlands Primary School
REFRESH-INTERVAL;VALUE=DURATION:PT1H
X-Robots-Tag:noindex
X-PUBLISHED-TTL:PT1H
BEGIN:VTIMEZONE
TZID:UTC
BEGIN:STANDARD
TZOFFSETFROM:+0000
TZOFFSETTO:+0000
TZNAME:UTC
DTSTART:20220101T000000
END:STANDARD
END:VTIMEZONE
BEGIN:VEVENT
DTSTART;TZID=UTC:20230721T153000
DTEND;TZID=UTC:20230721T153000
DTSTAMP:20260421T061553
CREATED:20230112T152312Z
LAST-MODIFIED:20230112T152312Z
UID:3219-1689953400-1689953400@www.ashlandsprimary.org.uk
SUMMARY:Break Up
DESCRIPTION:
URL:https://www.ashlandsprimary.org.uk/event/break-up-8/
END:VEVENT
BEGIN:VEVENT
DTSTART;TZID=UTC:20230716T080000
DTEND;TZID=UTC:20230716T170000
DTSTAMP:20260421T061553
CREATED:20230331T134343Z
LAST-MODIFIED:20230331T134343Z
UID:3930-1689494400-1689526800@www.ashlandsprimary.org.uk
SUMMARY:Ilkley Half Marathon
DESCRIPTION:
URL:https://www.ashlandsprimary.org.uk/event/ilkley-half-marathon/
END:VEVENT
BEGIN:VEVENT
DTSTART;TZID=UTC:20230713T090000
DTEND;TZID=UTC:20230713T153000
DTSTAMP:20260421T061553
CREATED:20230510T145453Z
LAST-MODIFIED:20230510T145606Z
UID:4143-1689238800-1689262200@www.ashlandsprimary.org.uk
SUMMARY:Transition Day
DESCRIPTION:
URL:https://www.ashlandsprimary.org.uk/event/transition-day-2/
END:VEVENT
BEGIN:VEVENT
DTSTART;TZID=UTC:20230710T134500
DTEND;TZID=UTC:20230710T151500
DTSTAMP:20260421T061553
CREATED:20230510T145353Z
LAST-MODIFIED:20230630T084159Z
UID:4141-1688996700-1689002100@www.ashlandsprimary.org.uk
SUMMARY:KS1 Sports Day
DESCRIPTION:
URL:https://www.ashlandsprimary.org.uk/event/ks1-sports-day/
END:VEVENT
BEGIN:VEVENT
DTSTART;TZID=UTC:20230709T120000
DTEND;TZID=UTC:20230709T160000
DTSTAMP:20260421T061553
CREATED:20230331T134312Z
LAST-MODIFIED:20230630T084230Z
UID:3928-1688904000-1688918400@www.ashlandsprimary.org.uk
SUMMARY:Friends Summer Fair
DESCRIPTION:
URL:https://www.ashlandsprimary.org.uk/event/friends-summer-fair/
END:VEVENT
BEGIN:VEVENT
DTSTART;TZID=UTC:20230704T090000
DTEND;TZID=UTC:20230704T093000
DTSTAMP:20260421T061553
CREATED:20230510T145252Z
LAST-MODIFIED:20230510T145254Z
UID:4139-1688461200-1688463000@www.ashlandsprimary.org.uk
SUMMARY:Years 5 and 6 Celebration Assembly
DESCRIPTION:
URL:https://www.ashlandsprimary.org.uk/event/years-5-and-6-celebration-assembly/
END:VEVENT
BEGIN:VEVENT
DTSTART;TZID=UTC:20230628T150000
DTEND;TZID=UTC:20230628T153000
DTSTAMP:20260421T061553
CREATED:20230605T110540Z
LAST-MODIFIED:20230605T110543Z
UID:4458-1687964400-1687966200@www.ashlandsprimary.org.uk
SUMMARY:Year 6 Share and Celebrate - 2.50pm
DESCRIPTION:
URL:https://www.ashlandsprimary.org.uk/event/year-6-share-and-celebrate-2-50pm/
END:VEVENT
BEGIN:VEVENT
DTSTART;TZID=UTC:20230627T000000
DTEND;TZID=UTC:20230627T000000
DTSTAMP:20260421T061553
CREATED:20230510T145120Z
LAST-MODIFIED:20230511T132430Z
UID:4137-1687824000-1687824000@www.ashlandsprimary.org.uk
SUMMARY:Reception Sports Day - PM
DESCRIPTION:
URL:https://www.ashlandsprimary.org.uk/event/reception-sports-day-2/
END:VEVENT
BEGIN:VEVENT
DTSTART;TZID=UTC:20230626T130000
DTEND;TZID=UTC:20230626T150000
DTSTAMP:20260421T061553
CREATED:20230510T145040Z
LAST-MODIFIED:20230510T145046Z
UID:4135-1687784400-1687791600@www.ashlandsprimary.org.uk
SUMMARY:KS2 Sports day
DESCRIPTION:
URL:https://www.ashlandsprimary.org.uk/event/ks2-sports-day/
END:VEVENT
BEGIN:VEVENT
DTSTART;TZID=UTC:20230621T150000
DTEND;TZID=UTC:20230621T153000
DTSTAMP:20260421T061553
CREATED:20230510T144103Z
LAST-MODIFIED:20230510T144555Z
UID:4131-1687359600-1687361400@www.ashlandsprimary.org.uk
SUMMARY:Year 5 Share and Celebrate
DESCRIPTION:
URL:https://www.ashlandsprimary.org.uk/event/year-5-share-and-celebrate-3/
END:VEVENT
BEGIN:VEVENT
DTSTART;TZID=UTC:20230620T150000
DTEND;TZID=UTC:20230620T153000
DTSTAMP:20260421T061553
CREATED:20230510T144015Z
LAST-MODIFIED:20230510T144018Z
UID:4129-1687273200-1687275000@www.ashlandsprimary.org.uk
SUMMARY:Year 4 Share and Celebrate
DESCRIPTION:
URL:https://www.ashlandsprimary.org.uk/event/year-4-share-and-celebrate-3/
END:VEVENT
BEGIN:VEVENT
DTSTART;TZID=UTC:20230620T090000
DTEND;TZID=UTC:20230620T093000
DTSTAMP:20260421T061553
CREATED:20230510T143434Z
LAST-MODIFIED:20230510T143436Z
UID:4127-1687251600-1687253400@www.ashlandsprimary.org.uk
SUMMARY:Key Stage 1 Celebration Assembly
DESCRIPTION:
URL:https://www.ashlandsprimary.org.uk/event/key-stage-1-celebration-assembly/
END:VEVENT
BEGIN:VEVENT
DTSTART;TZID=UTC:20230619T150000
DTEND;TZID=UTC:20230619T153000
DTSTAMP:20260421T061553
CREATED:20230510T143341Z
LAST-MODIFIED:20230510T143343Z
UID:4125-1687186800-1687188600@www.ashlandsprimary.org.uk
SUMMARY:Year 3 Share and Celebrate
DESCRIPTION:
URL:https://www.ashlandsprimary.org.uk/event/year-3-share-and-celebrate-3/
END:VEVENT
BEGIN:VEVENT
DTSTART;TZID=UTC:20230617T080000
DTEND;TZID=UTC:20230618T170000
DTSTAMP:20260421T061553
CREATED:20230331T134237Z
LAST-MODIFIED:20230331T134237Z
UID:3926-1686988800-1687107600@www.ashlandsprimary.org.uk
SUMMARY:Friends Camping Weekend
DESCRIPTION:
URL:https://www.ashlandsprimary.org.uk/event/friends-camping-weekend/
END:VEVENT
BEGIN:VEVENT
DTSTART;TZID=UTC:20230616T150000
DTEND;TZID=UTC:20230616T153000
DTSTAMP:20260421T061553
CREATED:20230510T143250Z
LAST-MODIFIED:20230510T143252Z
UID:4123-1686927600-1686929400@www.ashlandsprimary.org.uk
SUMMARY:Year 2 Share and Celebrate
DESCRIPTION:
URL:https://www.ashlandsprimary.org.uk/event/year-2-share-and-celebrate-3/
END:VEVENT
BEGIN:VEVENT
DTSTART;TZID=UTC:20230615T150000
DTEND;TZID=UTC:20230615T153000
DTSTAMP:20260421T061553
CREATED:20230510T143038Z
LAST-MODIFIED:20230510T143038Z
UID:4121-1686841200-1686843000@www.ashlandsprimary.org.uk
SUMMARY:Year 1 Share and Celebrate
DESCRIPTION:
URL:https://www.ashlandsprimary.org.uk/event/year-1-share-and-celebrate-3/
END:VEVENT
BEGIN:VEVENT
DTSTART;TZID=UTC:20230614T150000
DTEND;TZID=UTC:20230614T153000
DTSTAMP:20260421T061553
CREATED:20230510T142944Z
LAST-MODIFIED:20230510T142946Z
UID:4119-1686754800-1686756600@www.ashlandsprimary.org.uk
SUMMARY:Reception Stay and Play
DESCRIPTION:
URL:https://www.ashlandsprimary.org.uk/event/reception-stay-and-play-2/
END:VEVENT
BEGIN:VEVENT
DTSTART;TZID=UTC:20230614T100000
DTEND;TZID=UTC:20230614T120000
DTSTAMP:20260421T061553
CREATED:20230607T140402Z
LAST-MODIFIED:20230607T140410Z
UID:4490-1686736800-1686744000@www.ashlandsprimary.org.uk
SUMMARY:Year 5 visit to White Wells
DESCRIPTION:
URL:https://www.ashlandsprimary.org.uk/event/year-5-visit-to-white-wells/
END:VEVENT
BEGIN:VEVENT
DTSTART;TZID=UTC:20230614T090000
DTEND;TZID=UTC:20230614T153000
DTSTAMP:20260421T061553
CREATED:20230510T142851Z
LAST-MODIFIED:20230510T142853Z
UID:4117-1686733200-1686756600@www.ashlandsprimary.org.uk
SUMMARY:Year 6 Bowling Trip
DESCRIPTION:
URL:https://www.ashlandsprimary.org.uk/event/year-6-bowling-trip-2/
END:VEVENT
BEGIN:VEVENT
DTSTART;VALUE=DATE:20230612
DTEND;VALUE=DATE:20230613
DTSTAMP:20260421T061553
CREATED:20230207T114432Z
LAST-MODIFIED:20230207T114500Z
UID:3401-1686528000-1686614399@www.ashlandsprimary.org.uk
SUMMARY:Reception trip to Thornton Country Farm Park
DESCRIPTION:
URL:https://www.ashlandsprimary.org.uk/event/reception-trip-to-thornton-country-farm-park/
END:VEVENT
BEGIN:VEVENT
DTSTART;TZID=UTC:20230606T090000
DTEND;TZID=UTC:20230606T090000
DTSTAMP:20260421T061553
CREATED:20230112T152238Z
LAST-MODIFIED:20230112T152238Z
UID:3217-1686042000-1686042000@www.ashlandsprimary.org.uk
SUMMARY:Return to School
DESCRIPTION:
URL:https://www.ashlandsprimary.org.uk/event/return-to-school-4/
END:VEVENT
BEGIN:VEVENT
DTSTART;TZID=UTC:20230526T153000
DTEND;TZID=UTC:20230526T153000
DTSTAMP:20260421T061553
CREATED:20230112T152142Z
LAST-MODIFIED:20230112T152142Z
UID:3215-1685115000-1685115000@www.ashlandsprimary.org.uk
SUMMARY:Break Up
DESCRIPTION:
URL:https://www.ashlandsprimary.org.uk/event/break-up-7/
END:VEVENT
BEGIN:VEVENT
DTSTART;VALUE=DATE:20230523
DTEND;VALUE=DATE:20230524
DTSTAMP:20260421T061553
CREATED:20230502T132322Z
LAST-MODIFIED:20230502T132326Z
UID:4066-1684800000-1684886399@www.ashlandsprimary.org.uk
SUMMARY:Eureka Trip - Years 1 and 2
DESCRIPTION:
URL:https://www.ashlandsprimary.org.uk/event/eureka-trip-years-1-and-2/
END:VEVENT
BEGIN:VEVENT
DTSTART;TZID=UTC:20230521T100000
DTEND;TZID=UTC:20230521T170000
DTSTAMP:20260421T061553
CREATED:20230306T105411Z
LAST-MODIFIED:20230306T105411Z
UID:3582-1684663200-1684688400@www.ashlandsprimary.org.uk
SUMMARY:Peaks Challenge
DESCRIPTION:See Friends page for more details
URL:https://www.ashlandsprimary.org.uk/event/peaks-challenge/
END:VEVENT
BEGIN:VEVENT
DTSTART;TZID=UTC:20230517T090000
DTEND;TZID=UTC:20230517T120000
DTSTAMP:20260421T061553
CREATED:20230502T134354Z
LAST-MODIFIED:20230502T134357Z
UID:4078-1684314000-1684324800@www.ashlandsprimary.org.uk
SUMMARY:Years 3 and 4 - Kings Hall - Stars Talent Show
DESCRIPTION:
URL:https://www.ashlandsprimary.org.uk/event/years-3-and-4-kings-hall-stars-talent-show/
END:VEVENT
BEGIN:VEVENT
DTSTART;TZID=UTC:20230517T090000
DTEND;TZID=UTC:20230517T113000
DTSTAMP:20260421T061553
CREATED:20230502T134455Z
LAST-MODIFIED:20230502T134457Z
UID:4080-1684314000-1684323000@www.ashlandsprimary.org.uk
SUMMARY:Year 6 - Coram Life Education
DESCRIPTION:
URL:https://www.ashlandsprimary.org.uk/event/year-6-coram-life-education/
END:VEVENT
BEGIN:VEVENT
DTSTART;TZID=UTC:20230516T090000
DTEND;TZID=UTC:20230516T093000
DTSTAMP:20260421T061553
CREATED:20230502T134046Z
LAST-MODIFIED:20230502T134113Z
UID:4076-1684227600-1684229400@www.ashlandsprimary.org.uk
SUMMARY:Years 3 and 4 Celebration Assembly
DESCRIPTION:
URL:https://www.ashlandsprimary.org.uk/event/years-3-and-4-celebration-assembly/
END:VEVENT
BEGIN:VEVENT
DTSTART;TZID=UTC:20230515T000000
DTEND;TZID=UTC:20230515T000000
DTSTAMP:20260421T061553
CREATED:20230124T103116Z
LAST-MODIFIED:20230512T101222Z
UID:3335-1684108800-1684108800@www.ashlandsprimary.org.uk
SUMMARY:Class Photos
DESCRIPTION:
URL:https://www.ashlandsprimary.org.uk/event/class-photos-3/
END:VEVENT
BEGIN:VEVENT
DTSTART;TZID=UTC:20230512T090000
DTEND;TZID=UTC:20230512T100000
DTSTAMP:20260421T061553
CREATED:20230510T141706Z
LAST-MODIFIED:20230510T141709Z
UID:4114-1683882000-1683885600@www.ashlandsprimary.org.uk
SUMMARY:No Razzamatazz
DESCRIPTION:
URL:https://www.ashlandsprimary.org.uk/event/no-razzamatazz/
END:VEVENT
BEGIN:VEVENT
DTSTART;VALUE=DATE:20230510
DTEND;VALUE=DATE:20230511
DTSTAMP:20260421T061553
CREATED:20230502T133523Z
LAST-MODIFIED:20230502T133525Z
UID:4074-1683676800-1683763199@www.ashlandsprimary.org.uk
SUMMARY:Bikeability - Class 5 Cedar
DESCRIPTION:
URL:https://www.ashlandsprimary.org.uk/event/bikeability-class-5-cedar/
END:VEVENT
END:VCALENDAR