BEGIN:VCALENDAR
VERSION:2.0
PRODID:-//Ashlands Primary School - ECPv6.15.17.1//NONSGML v1.0//EN
CALSCALE:GREGORIAN
METHOD:PUBLISH
X-ORIGINAL-URL:https://www.ashlandsprimary.org.uk
X-WR-CALDESC:Events for Ashlands Primary School
REFRESH-INTERVAL;VALUE=DURATION:PT1H
X-Robots-Tag:noindex
X-PUBLISHED-TTL:PT1H
BEGIN:VTIMEZONE
TZID:UTC
BEGIN:STANDARD
TZOFFSETFROM:+0000
TZOFFSETTO:+0000
TZNAME:UTC
DTSTART:20230101T000000
END:STANDARD
END:VTIMEZONE
BEGIN:VEVENT
DTSTART;TZID=UTC:20240621T080000
DTEND;TZID=UTC:20240622T170000
DTSTAMP:20260420T215802
CREATED:20231005T101052Z
LAST-MODIFIED:20231005T101054Z
UID:5589-1718956800-1719075600@www.ashlandsprimary.org.uk
SUMMARY:Friends of Ashlands - Camping Weekend
DESCRIPTION:
URL:https://www.ashlandsprimary.org.uk/event/friends-of-ashlands-camping-weekend/
END:VEVENT
BEGIN:VEVENT
DTSTART;TZID=UTC:20240621T090000
DTEND;TZID=UTC:20240621T093000
DTSTAMP:20260420T215802
CREATED:20240418T130559Z
LAST-MODIFIED:20240418T130559Z
UID:7093-1718960400-1718962200@www.ashlandsprimary.org.uk
SUMMARY:Class 4 Rowan Swimming
DESCRIPTION:
URL:https://www.ashlandsprimary.org.uk/event/class-4-rowan-swimming-6/
END:VEVENT
BEGIN:VEVENT
DTSTART;TZID=UTC:20240628T090000
DTEND;TZID=UTC:20240628T093000
DTSTAMP:20260420T215802
CREATED:20240418T130634Z
LAST-MODIFIED:20240418T130634Z
UID:7095-1719565200-1719567000@www.ashlandsprimary.org.uk
SUMMARY:Class 4 Rowan Swimming
DESCRIPTION:
URL:https://www.ashlandsprimary.org.uk/event/class-4-rowan-swimming-7/
END:VEVENT
BEGIN:VEVENT
DTSTART;TZID=UTC:20240702T090000
DTEND;TZID=UTC:20240702T120000
DTSTAMP:20260420T215802
CREATED:20240626T110933Z
LAST-MODIFIED:20240626T110933Z
UID:7591-1719910800-1719921600@www.ashlandsprimary.org.uk
SUMMARY:Sponsored Sports Roadshow -(AM)
DESCRIPTION:
URL:https://www.ashlandsprimary.org.uk/event/sponsored-sports-roadshow-am/
END:VEVENT
BEGIN:VEVENT
DTSTART;TZID=UTC:20240703T090000
DTEND;TZID=UTC:20240703T120000
DTSTAMP:20260420T215802
CREATED:20240517T124729Z
LAST-MODIFIED:20240517T124732Z
UID:7346-1719997200-1720008000@www.ashlandsprimary.org.uk
SUMMARY:Key Stage 1 Sports Day - AM
DESCRIPTION:
URL:https://www.ashlandsprimary.org.uk/event/key-stage-1-sports-day-am/
END:VEVENT
BEGIN:VEVENT
DTSTART;TZID=UTC:20240705T090000
DTEND;TZID=UTC:20240705T093000
DTSTAMP:20260420T215802
CREATED:20240418T130712Z
LAST-MODIFIED:20240418T130712Z
UID:7097-1720170000-1720171800@www.ashlandsprimary.org.uk
SUMMARY:Class 4 Rowan Swimming
DESCRIPTION:
URL:https://www.ashlandsprimary.org.uk/event/class-4-rowan-swimming-8/
END:VEVENT
BEGIN:VEVENT
DTSTART;TZID=UTC:20240705T153000
DTEND;TZID=UTC:20240705T190000
DTSTAMP:20260420T215802
CREATED:20231005T100615Z
LAST-MODIFIED:20240523T084801Z
UID:5582-1720193400-1720206000@www.ashlandsprimary.org.uk
SUMMARY:Summer Fair
DESCRIPTION:
URL:https://www.ashlandsprimary.org.uk/event/summer-fair/
END:VEVENT
BEGIN:VEVENT
DTSTART;TZID=UTC:20240708T090000
DTEND;TZID=UTC:20240708T153000
DTSTAMP:20260420T215802
CREATED:20240501T125944Z
LAST-MODIFIED:20240501T125946Z
UID:7214-1720429200-1720452600@www.ashlandsprimary.org.uk
SUMMARY:Year 1 Trip to Harlow Carr\, Harrogate
DESCRIPTION:
URL:https://www.ashlandsprimary.org.uk/event/year-1-trip-to-harlow-carr-harrogate/
END:VEVENT
BEGIN:VEVENT
DTSTART;TZID=UTC:20240709T143000
DTEND;TZID=UTC:20240709T151500
DTSTAMP:20260420T215802
CREATED:20240523T084857Z
LAST-MODIFIED:20240523T084900Z
UID:7371-1720535400-1720538100@www.ashlandsprimary.org.uk
SUMMARY:Reception Sports Day
DESCRIPTION:
URL:https://www.ashlandsprimary.org.uk/event/reception-sports-day-3/
END:VEVENT
BEGIN:VEVENT
DTSTART;TZID=UTC:20240709T180000
DTEND;TZID=UTC:20240709T193000
DTSTAMP:20260420T215802
CREATED:20240626T111057Z
LAST-MODIFIED:20240626T111057Z
UID:7593-1720548000-1720553400@www.ashlandsprimary.org.uk
SUMMARY:Year 6 Leaver's Disco
DESCRIPTION:
URL:https://www.ashlandsprimary.org.uk/event/year-6-leavers-disco/
END:VEVENT
BEGIN:VEVENT
DTSTART;TZID=UTC:20240709T193000
DTEND;TZID=UTC:20240709T210000
DTSTAMP:20260420T215802
CREATED:20240626T111204Z
LAST-MODIFIED:20240626T111204Z
UID:7595-1720553400-1720558800@www.ashlandsprimary.org.uk
SUMMARY:Friends of Ashlands (PTA) Meeting - The Black Hat
DESCRIPTION:
URL:https://www.ashlandsprimary.org.uk/event/friends-of-ashlands-pta-meeting-the-black-hat/
END:VEVENT
BEGIN:VEVENT
DTSTART;TZID=UTC:20240710T090000
DTEND;TZID=UTC:20240710T120000
DTSTAMP:20260420T215802
CREATED:20240517T125134Z
LAST-MODIFIED:20240517T125136Z
UID:7349-1720602000-1720612800@www.ashlandsprimary.org.uk
SUMMARY:Key Stage 2 Sports Day - AM
DESCRIPTION:
URL:https://www.ashlandsprimary.org.uk/event/key-stage-2-sports-day-am/
END:VEVENT
BEGIN:VEVENT
DTSTART;TZID=UTC:20240710T123000
DTEND;TZID=UTC:20240710T150000
DTSTAMP:20260420T215802
CREATED:20240626T111437Z
LAST-MODIFIED:20240626T111437Z
UID:7599-1720614600-1720623600@www.ashlandsprimary.org.uk
SUMMARY:Year 6 - Park visit
DESCRIPTION:
URL:https://www.ashlandsprimary.org.uk/event/year-6-park-visit/
END:VEVENT
BEGIN:VEVENT
DTSTART;TZID=UTC:20240710T130000
DTEND;TZID=UTC:20240710T150000
DTSTAMP:20260420T215802
CREATED:20240626T111356Z
LAST-MODIFIED:20240626T111356Z
UID:7597-1720616400-1720623600@www.ashlandsprimary.org.uk
SUMMARY:Year 5 - Bastille Day Picnic
DESCRIPTION:
URL:https://www.ashlandsprimary.org.uk/event/year-5-bastille-day-picnic/
END:VEVENT
BEGIN:VEVENT
DTSTART;TZID=UTC:20240711T090000
DTEND;TZID=UTC:20240711T120000
DTSTAMP:20260420T215802
CREATED:20240626T111540Z
LAST-MODIFIED:20240626T122732Z
UID:7601-1720688400-1720699200@www.ashlandsprimary.org.uk
SUMMARY:Transition Morning
DESCRIPTION:
URL:https://www.ashlandsprimary.org.uk/event/transition-day-3/
END:VEVENT
BEGIN:VEVENT
DTSTART;TZID=UTC:20240712T090000
DTEND;TZID=UTC:20240712T093000
DTSTAMP:20260420T215802
CREATED:20240418T130901Z
LAST-MODIFIED:20240418T130901Z
UID:7101-1720774800-1720776600@www.ashlandsprimary.org.uk
SUMMARY:Class 4 Rowan Swimming (last one)
DESCRIPTION:
URL:https://www.ashlandsprimary.org.uk/event/class-4-rowan-swimming-last-one/
END:VEVENT
BEGIN:VEVENT
DTSTART;TZID=UTC:20240712T090000
DTEND;TZID=UTC:20240712T153000
DTSTAMP:20260420T215802
CREATED:20240626T111645Z
LAST-MODIFIED:20240626T111645Z
UID:7603-1720774800-1720798200@www.ashlandsprimary.org.uk
SUMMARY:Year 6 - IGS Sports
DESCRIPTION:
URL:https://www.ashlandsprimary.org.uk/event/year-6-igs-sports/
END:VEVENT
BEGIN:VEVENT
DTSTART;TZID=UTC:20240715T190000
DTEND;TZID=UTC:20240715T200000
DTSTAMP:20260420T215802
CREATED:20240524T093012Z
LAST-MODIFIED:20240524T093015Z
UID:7400-1721070000-1721073600@www.ashlandsprimary.org.uk
SUMMARY:Year 6 Show
DESCRIPTION:
URL:https://www.ashlandsprimary.org.uk/event/year-6-show/
END:VEVENT
BEGIN:VEVENT
DTSTART;TZID=UTC:20240716T143000
DTEND;TZID=UTC:20240716T151500
DTSTAMP:20260420T215802
CREATED:20240523T084946Z
LAST-MODIFIED:20240523T084948Z
UID:7373-1721140200-1721142900@www.ashlandsprimary.org.uk
SUMMARY:Reception Graduation Garden Party
DESCRIPTION:
URL:https://www.ashlandsprimary.org.uk/event/reception-graduation-garden-party/
END:VEVENT
BEGIN:VEVENT
DTSTART;TZID=UTC:20240716T190000
DTEND;TZID=UTC:20240716T200000
DTSTAMP:20260420T215802
CREATED:20240524T093057Z
LAST-MODIFIED:20240524T093059Z
UID:7402-1721156400-1721160000@www.ashlandsprimary.org.uk
SUMMARY:Year 6 Show
DESCRIPTION:
URL:https://www.ashlandsprimary.org.uk/event/year-6-show-2/
END:VEVENT
BEGIN:VEVENT
DTSTART;TZID=UTC:20240717T091500
DTEND;TZID=UTC:20240717T113000
DTSTAMP:20260420T215802
CREATED:20240710T131800Z
LAST-MODIFIED:20240710T131802Z
UID:7647-1721207700-1721215800@www.ashlandsprimary.org.uk
SUMMARY:KS2 Sports Day (rearranged)
DESCRIPTION:
URL:https://www.ashlandsprimary.org.uk/event/ks2-sports-day-rearranged/
END:VEVENT
BEGIN:VEVENT
DTSTART;TZID=UTC:20240717T120000
DTEND;TZID=UTC:20240717T130000
DTSTAMP:20260420T215802
CREATED:20240710T131903Z
LAST-MODIFIED:20240710T131906Z
UID:7649-1721217600-1721221200@www.ashlandsprimary.org.uk
SUMMARY:Year 6 - Pizza on the Field
DESCRIPTION:
URL:https://www.ashlandsprimary.org.uk/event/year-6-pizza-on-the-field/
END:VEVENT
BEGIN:VEVENT
DTSTART;TZID=UTC:20240719T091500
DTEND;TZID=UTC:20240719T100000
DTSTAMP:20260420T215802
CREATED:20240710T132049Z
LAST-MODIFIED:20240710T132052Z
UID:7651-1721380500-1721383200@www.ashlandsprimary.org.uk
SUMMARY:Year 6 Leavers Assembly
DESCRIPTION:
URL:https://www.ashlandsprimary.org.uk/event/year-6-leavers-assembly-2/
END:VEVENT
BEGIN:VEVENT
DTSTART;TZID=UTC:20240719T153000
DTEND;TZID=UTC:20240719T153000
DTSTAMP:20260420T215802
CREATED:20230112T153644Z
LAST-MODIFIED:20230112T153644Z
UID:3243-1721403000-1721403000@www.ashlandsprimary.org.uk
SUMMARY:Break Up
DESCRIPTION:
URL:https://www.ashlandsprimary.org.uk/event/break-up-14/
END:VEVENT
BEGIN:VEVENT
DTSTART;TZID=UTC:20240903T085500
DTEND;TZID=UTC:20240903T153000
DTSTAMP:20260420T215802
CREATED:20240710T132307Z
LAST-MODIFIED:20240710T132310Z
UID:7653-1725353700-1725377400@www.ashlandsprimary.org.uk
SUMMARY:School Re-Opens
DESCRIPTION:
URL:https://www.ashlandsprimary.org.uk/event/school-re-opens/
END:VEVENT
BEGIN:VEVENT
DTSTART;TZID=UTC:20240904T090000
DTEND;TZID=UTC:20240904T100000
DTSTAMP:20260420T215802
CREATED:20240710T134131Z
LAST-MODIFIED:20240710T134134Z
UID:7664-1725440400-1725444000@www.ashlandsprimary.org.uk
SUMMARY:New Reception Parents - Teas and Coffees in the school hall
DESCRIPTION:
URL:https://www.ashlandsprimary.org.uk/event/new-reception-parents-teas-and-coffees-in-the-school-hall/
END:VEVENT
BEGIN:VEVENT
DTSTART;TZID=UTC:20240904T090000
DTEND;TZID=UTC:20240904T153000
DTSTAMP:20260420T215802
CREATED:20240710T133501Z
LAST-MODIFIED:20240710T133705Z
UID:7655-1725440400-1725463800@www.ashlandsprimary.org.uk
SUMMARY:Bikeability Year 6  Level 2
DESCRIPTION:
URL:https://www.ashlandsprimary.org.uk/event/bikeability-level-2-year-6/
END:VEVENT
BEGIN:VEVENT
DTSTART;TZID=UTC:20240905T090000
DTEND;TZID=UTC:20240905T153000
DTSTAMP:20260420T215802
CREATED:20240710T133536Z
LAST-MODIFIED:20240710T133537Z
UID:7657-1725526800-1725550200@www.ashlandsprimary.org.uk
SUMMARY:Bikeability Year 6 Level 2
DESCRIPTION:
URL:https://www.ashlandsprimary.org.uk/event/bikeability-year-6-level-2/
END:VEVENT
BEGIN:VEVENT
DTSTART;TZID=UTC:20240906T090000
DTEND;TZID=UTC:20240906T153000
DTSTAMP:20260420T215802
CREATED:20240710T133609Z
LAST-MODIFIED:20240710T133611Z
UID:7659-1725613200-1725636600@www.ashlandsprimary.org.uk
SUMMARY:Bikeability Year 6 Level 2
DESCRIPTION:
URL:https://www.ashlandsprimary.org.uk/event/bikeability-year-6-level-2-2/
END:VEVENT
BEGIN:VEVENT
DTSTART;TZID=UTC:20240910T193000
DTEND;TZID=UTC:20240910T210000
DTSTAMP:20260420T215802
CREATED:20240905T130545Z
LAST-MODIFIED:20240905T130548Z
UID:7768-1725996600-1726002000@www.ashlandsprimary.org.uk
SUMMARY:Friends of Ashlands meeting (PTA) The Black Hat\, Ilkley - All welcome
DESCRIPTION:
URL:https://www.ashlandsprimary.org.uk/event/friends-of-ashlands-meeting-pta-the-black-hat-ilkley-all-welcome/
END:VEVENT
END:VCALENDAR