BEGIN:VCALENDAR
VERSION:2.0
PRODID:-//Ashlands Primary School - ECPv6.15.17.1//NONSGML v1.0//EN
CALSCALE:GREGORIAN
METHOD:PUBLISH
X-WR-CALNAME:Ashlands Primary School
X-ORIGINAL-URL:https://www.ashlandsprimary.org.uk
X-WR-CALDESC:Events for Ashlands Primary School
REFRESH-INTERVAL;VALUE=DURATION:PT1H
X-Robots-Tag:noindex
X-PUBLISHED-TTL:PT1H
BEGIN:VTIMEZONE
TZID:UTC
BEGIN:STANDARD
TZOFFSETFROM:+0000
TZOFFSETTO:+0000
TZNAME:UTC
DTSTART:20210101T000000
END:STANDARD
END:VTIMEZONE
BEGIN:VEVENT
DTSTART;TZID=UTC:20221105T180000
DTEND;TZID=UTC:20221105T200000
DTSTAMP:20260421T213315
CREATED:20221005T141416Z
LAST-MODIFIED:20221005T141416Z
UID:2372-1667671200-1667678400@www.ashlandsprimary.org.uk
SUMMARY:Friends of Ashlands Bonfire Night
DESCRIPTION:
URL:https://www.ashlandsprimary.org.uk/event/friends-of-ashlands-bonfire-night/
END:VEVENT
BEGIN:VEVENT
DTSTART;TZID=UTC:20221101T090000
DTEND;TZID=UTC:20221101T093000
DTSTAMP:20260421T213315
CREATED:20221005T141157Z
LAST-MODIFIED:20221005T141157Z
UID:2370-1667293200-1667295000@www.ashlandsprimary.org.uk
SUMMARY:Year 5 and Year 6 Celebration Assembly
DESCRIPTION:
URL:https://www.ashlandsprimary.org.uk/event/year-5-and-year-6-celebration-assembly/
END:VEVENT
BEGIN:VEVENT
DTSTART;TZID=UTC:20221021T093000
DTEND;TZID=UTC:20221021T113000
DTSTAMP:20260421T213315
CREATED:20221011T151327Z
LAST-MODIFIED:20221011T151327Z
UID:2494-1666344600-1666351800@www.ashlandsprimary.org.uk
SUMMARY:Year 6 Kings Hall Literature Festival
DESCRIPTION:
URL:https://www.ashlandsprimary.org.uk/event/year-6-kings-hall-literature-festival/
END:VEVENT
BEGIN:VEVENT
DTSTART;TZID=UTC:20221021T090000
DTEND;TZID=UTC:20221021T120000
DTSTAMP:20260421T213315
CREATED:20220916T143518Z
LAST-MODIFIED:20220916T143518Z
UID:2277-1666342800-1666353600@www.ashlandsprimary.org.uk
SUMMARY:Halloween Fancy Dress\, Pumpkin Carving and Bake Sale
DESCRIPTION:
URL:https://www.ashlandsprimary.org.uk/event/halloween-fancy-dress-pumpkin-carving-and-bake-sale/
END:VEVENT
BEGIN:VEVENT
DTSTART;TZID=UTC:20221019T160000
DTEND;TZID=UTC:20221019T190000
DTSTAMP:20260421T213315
CREATED:20220927T072631Z
LAST-MODIFIED:20220927T072631Z
UID:2323-1666195200-1666206000@www.ashlandsprimary.org.uk
SUMMARY:Autumn Term Parents Evening
DESCRIPTION:Parents Evening will be held in the classroom unless you are otherwise notified
URL:https://www.ashlandsprimary.org.uk/event/autumn-term-parents-evening-2/
END:VEVENT
BEGIN:VEVENT
DTSTART;TZID=UTC:20221018T160000
DTEND;TZID=UTC:20221018T190000
DTSTAMP:20260421T213315
CREATED:20220927T072504Z
LAST-MODIFIED:20220927T072504Z
UID:2321-1666108800-1666119600@www.ashlandsprimary.org.uk
SUMMARY:Autumn Term Parents Evening
DESCRIPTION:Parents Evening will be held in the classroom unless you are otherwise notified
URL:https://www.ashlandsprimary.org.uk/event/autumn-term-parents-evening/
END:VEVENT
BEGIN:VEVENT
DTSTART;TZID=UTC:20221018T090000
DTEND;TZID=UTC:20221018T100000
DTSTAMP:20260421T213315
CREATED:20220916T142740Z
LAST-MODIFIED:20220916T142740Z
UID:2275-1666083600-1666087200@www.ashlandsprimary.org.uk
SUMMARY:Year 3 and 4 Celebration Assembly
DESCRIPTION:
URL:https://www.ashlandsprimary.org.uk/event/year-3-and-4-celebration-assembly/
END:VEVENT
BEGIN:VEVENT
DTSTART;TZID=UTC:20221015T090000
DTEND;TZID=UTC:20221015T120000
DTSTAMP:20260421T213315
CREATED:20220916T142532Z
LAST-MODIFIED:20220916T142532Z
UID:2271-1665824400-1665835200@www.ashlandsprimary.org.uk
SUMMARY:Ashlands Cross Country
DESCRIPTION:
URL:https://www.ashlandsprimary.org.uk/event/ashlands-cross-country/
END:VEVENT
BEGIN:VEVENT
DTSTART;TZID=UTC:20221011T090000
DTEND;TZID=UTC:20221011T100000
DTSTAMP:20260421T213315
CREATED:20220916T142423Z
LAST-MODIFIED:20220916T142423Z
UID:2269-1665478800-1665482400@www.ashlandsprimary.org.uk
SUMMARY:Year 1 and 2 Celebration Assembly
DESCRIPTION:
URL:https://www.ashlandsprimary.org.uk/event/year-1-and-2-celebration-assembly/
END:VEVENT
BEGIN:VEVENT
DTSTART;TZID=UTC:20221005T173000
DTEND;TZID=UTC:20221005T183000
DTSTAMP:20260421T213315
CREATED:20221003T104233Z
LAST-MODIFIED:20221003T104233Z
UID:2365-1664991000-1664994600@www.ashlandsprimary.org.uk
SUMMARY:Reception - Parents Information Evening
DESCRIPTION:
URL:https://www.ashlandsprimary.org.uk/event/reception-parents-information-evening/
END:VEVENT
BEGIN:VEVENT
DTSTART;TZID=UTC:20221004T090000
DTEND;TZID=UTC:20221004T130000
DTSTAMP:20260421T213315
CREATED:20220916T142326Z
LAST-MODIFIED:20220916T142326Z
UID:2267-1664874000-1664888400@www.ashlandsprimary.org.uk
SUMMARY:Flu Immunisation Reception to Year 6
DESCRIPTION:
URL:https://www.ashlandsprimary.org.uk/event/flu-immunisation-reception-to-year-6/
END:VEVENT
BEGIN:VEVENT
DTSTART;TZID=UTC:20221003T090000
DTEND;TZID=UTC:20221003T120000
DTSTAMP:20260421T213315
CREATED:20220916T142222Z
LAST-MODIFIED:20220916T142222Z
UID:2265-1664787600-1664798400@www.ashlandsprimary.org.uk
SUMMARY:Pupil Individual and Sibling Photos
DESCRIPTION:
URL:https://www.ashlandsprimary.org.uk/event/pupil-individual-and-sibling-photos-2/
END:VEVENT
BEGIN:VEVENT
DTSTART;TZID=UTC:20221001T090000
DTEND;TZID=UTC:20221001T120000
DTSTAMP:20260421T213315
CREATED:20220909T144234Z
LAST-MODIFIED:20220909T144234Z
UID:2171-1664614800-1664625600@www.ashlandsprimary.org.uk
SUMMARY:Westville House Cross Country at Ilkley Rugby Club
DESCRIPTION:
URL:https://www.ashlandsprimary.org.uk/event/westville-house-cross-country-at-ilkley-rugby-club/
END:VEVENT
BEGIN:VEVENT
DTSTART;TZID=UTC:20220930T090000
DTEND;TZID=UTC:20220930T110000
DTSTAMP:20260421T213315
CREATED:20220916T141307Z
LAST-MODIFIED:20220916T141307Z
UID:2261-1664528400-1664535600@www.ashlandsprimary.org.uk
SUMMARY:MacMillan Coffee Morning for Parents and Carers
DESCRIPTION:
URL:https://www.ashlandsprimary.org.uk/event/macmillan-coffee-morning-for-parents-and-carers/
END:VEVENT
BEGIN:VEVENT
DTSTART;VALUE=DATE:20220926
DTEND;VALUE=DATE:20220927
DTSTAMP:20260421T213315
CREATED:20220916T141207Z
LAST-MODIFIED:20220916T141207Z
UID:2259-1664150400-1664236799@www.ashlandsprimary.org.uk
SUMMARY:Pupil Individual and Sibling Photos
DESCRIPTION:
URL:https://www.ashlandsprimary.org.uk/event/pupil-individual-and-sibling-photos/
END:VEVENT
BEGIN:VEVENT
DTSTART;TZID=UTC:20220923T080000
DTEND;TZID=UTC:20220923T170000
DTSTAMP:20260421T213315
CREATED:20220913T093604Z
LAST-MODIFIED:20220913T093604Z
UID:2193-1663920000-1663952400@www.ashlandsprimary.org.uk
SUMMARY:Jeans for Genes Day
DESCRIPTION:
URL:https://www.ashlandsprimary.org.uk/event/jeans-for-genes-day/
END:VEVENT
BEGIN:VEVENT
DTSTART;TZID=UTC:20220922T080000
DTEND;TZID=UTC:20220922T170000
DTSTAMP:20260421T213315
CREATED:20220920T102843Z
LAST-MODIFIED:20220920T102843Z
UID:2279-1663833600-1663866000@www.ashlandsprimary.org.uk
SUMMARY:World Car Free Day
DESCRIPTION:
URL:https://www.ashlandsprimary.org.uk/event/world-car-free-day/
END:VEVENT
BEGIN:VEVENT
DTSTART;TZID=UTC:20220919T080000
DTEND;TZID=UTC:20220919T170000
DTSTAMP:20260421T213315
CREATED:20220913T095025Z
LAST-MODIFIED:20220913T095025Z
UID:2195-1663574400-1663606800@www.ashlandsprimary.org.uk
SUMMARY:School Closed - Bank Holiday Queen Elizabeth State Funeral
DESCRIPTION:
URL:https://www.ashlandsprimary.org.uk/event/school-closed-bank-holiday-queen-elizabeth-state-funeral/
END:VEVENT
BEGIN:VEVENT
DTSTART;TZID=UTC:20220916T150000
DTEND;TZID=UTC:20220916T153000
DTSTAMP:20260421T213315
CREATED:20220907T151555Z
LAST-MODIFIED:20220907T151555Z
UID:2160-1663340400-1663342200@www.ashlandsprimary.org.uk
SUMMARY:Year 2 Pirate Performance
DESCRIPTION:
URL:https://www.ashlandsprimary.org.uk/event/year-2-pirate-performance/
END:VEVENT
BEGIN:VEVENT
DTSTART;VALUE=DATE:20220725
DTEND;VALUE=DATE:20220726
DTSTAMP:20260421T213315
CREATED:20220401T105243Z
LAST-MODIFIED:20220401T105243Z
UID:869-1658707200-1658793599@www.ashlandsprimary.org.uk
SUMMARY:Training Day
DESCRIPTION:
URL:https://www.ashlandsprimary.org.uk/event/training-day-3/
END:VEVENT
BEGIN:VEVENT
DTSTART;VALUE=DATE:20220722
DTEND;VALUE=DATE:20220723
DTSTAMP:20260421T213315
CREATED:20220401T105225Z
LAST-MODIFIED:20220401T105225Z
UID:867-1658448000-1658534399@www.ashlandsprimary.org.uk
SUMMARY:Training Day
DESCRIPTION:
URL:https://www.ashlandsprimary.org.uk/event/training-day-2/
END:VEVENT
BEGIN:VEVENT
DTSTART;TZID=UTC:20220721T093000
DTEND;TZID=UTC:20220721T103000
DTSTAMP:20260421T213315
CREATED:20220504T153805Z
LAST-MODIFIED:20220504T153805Z
UID:1307-1658395800-1658399400@www.ashlandsprimary.org.uk
SUMMARY:Year 6 Leavers Assembly
DESCRIPTION:Year 6 parents and carers only
URL:https://www.ashlandsprimary.org.uk/event/year-6-leavers-assembly/
END:VEVENT
BEGIN:VEVENT
DTSTART;VALUE=DATE:20220721
DTEND;VALUE=DATE:20220722
DTSTAMP:20260421T213315
CREATED:20220401T105143Z
LAST-MODIFIED:20220401T105143Z
UID:863-1658361600-1658447999@www.ashlandsprimary.org.uk
SUMMARY:Break Up
DESCRIPTION:
URL:https://www.ashlandsprimary.org.uk/event/break-up-3/
END:VEVENT
BEGIN:VEVENT
DTSTART;TZID=UTC:20220720T153000
DTEND;TZID=UTC:20220720T163000
DTSTAMP:20260421T213315
CREATED:20220504T153640Z
LAST-MODIFIED:20220504T153640Z
UID:1305-1658331000-1658334600@www.ashlandsprimary.org.uk
SUMMARY:Report Feedback
DESCRIPTION:Staff are available by appointment to discuss reports from 3.45pm
URL:https://www.ashlandsprimary.org.uk/event/report-feedback/
END:VEVENT
BEGIN:VEVENT
DTSTART;TZID=UTC:20220720T093000
DTEND;TZID=UTC:20220720T113000
DTSTAMP:20260421T213315
CREATED:20220629T073507Z
LAST-MODIFIED:20220718T082745Z
UID:1831-1658309400-1658316600@www.ashlandsprimary.org.uk
SUMMARY:Key Stage 2 Sports Day
DESCRIPTION:
URL:https://www.ashlandsprimary.org.uk/event/key-stage-2-sports-day/
END:VEVENT
BEGIN:VEVENT
DTSTART;TZID=UTC:20220720T093000
DTEND;TZID=UTC:20220720T103000
DTSTAMP:20260421T213315
CREATED:20220504T153509Z
LAST-MODIFIED:20220504T153509Z
UID:1303-1658309400-1658313000@www.ashlandsprimary.org.uk
SUMMARY:Reception Graduation Assembly
DESCRIPTION:
URL:https://www.ashlandsprimary.org.uk/event/reception-graduation-assembly/
END:VEVENT
BEGIN:VEVENT
DTSTART;VALUE=DATE:20220719
DTEND;VALUE=DATE:20220720
DTSTAMP:20260421T213315
CREATED:20220504T153335Z
LAST-MODIFIED:20220504T153335Z
UID:1301-1658188800-1658275199@www.ashlandsprimary.org.uk
SUMMARY:Year 6 End of Year Show
DESCRIPTION:Evening performance – more details to follow
URL:https://www.ashlandsprimary.org.uk/event/year-6-end-of-year-show-2/
END:VEVENT
BEGIN:VEVENT
DTSTART;VALUE=DATE:20220718
DTEND;VALUE=DATE:20220719
DTSTAMP:20260421T213315
CREATED:20220504T153218Z
LAST-MODIFIED:20220504T153218Z
UID:1299-1658102400-1658188799@www.ashlandsprimary.org.uk
SUMMARY:Year 6 End of Year Show
DESCRIPTION:Evening performance – more details to follow
URL:https://www.ashlandsprimary.org.uk/event/year-6-end-of-year-show/
END:VEVENT
BEGIN:VEVENT
DTSTART;TZID=UTC:20220717T120000
DTEND;TZID=UTC:20220717T160000
DTSTAMP:20260421T213315
CREATED:20220504T153035Z
LAST-MODIFIED:20220715T084651Z
UID:1297-1658059200-1658073600@www.ashlandsprimary.org.uk
SUMMARY:Ashlands Summer Fair
DESCRIPTION:
URL:https://www.ashlandsprimary.org.uk/event/ashlands-summer-fair/
END:VEVENT
BEGIN:VEVENT
DTSTART;TZID=UTC:20220715T153000
DTEND;TZID=UTC:20220715T170000
DTSTAMP:20260421T213315
CREATED:20220504T152515Z
LAST-MODIFIED:20220504T152515Z
UID:1295-1657899000-1657904400@www.ashlandsprimary.org.uk
SUMMARY:Reports to parents
DESCRIPTION:
URL:https://www.ashlandsprimary.org.uk/event/reports-to-parents/
END:VEVENT
END:VCALENDAR