BEGIN:VCALENDAR
VERSION:2.0
PRODID:-//Ashlands Primary School - ECPv6.15.17.1//NONSGML v1.0//EN
CALSCALE:GREGORIAN
METHOD:PUBLISH
X-WR-CALNAME:Ashlands Primary School
X-ORIGINAL-URL:https://www.ashlandsprimary.org.uk
X-WR-CALDESC:Events for Ashlands Primary School
REFRESH-INTERVAL;VALUE=DURATION:PT1H
X-Robots-Tag:noindex
X-PUBLISHED-TTL:PT1H
BEGIN:VTIMEZONE
TZID:UTC
BEGIN:STANDARD
TZOFFSETFROM:+0000
TZOFFSETTO:+0000
TZNAME:UTC
DTSTART:20230101T000000
END:STANDARD
END:VTIMEZONE
BEGIN:VEVENT
DTSTART;TZID=UTC:20241216T133000
DTEND;TZID=UTC:20241216T150000
DTSTAMP:20260420T072527
CREATED:20241211T151229Z
LAST-MODIFIED:20241211T151229Z
UID:8609-1734355800-1734361200@www.ashlandsprimary.org.uk
SUMMARY:KS1 Christmas Party
DESCRIPTION:
URL:https://www.ashlandsprimary.org.uk/event/ks1-christmas-party/
END:VEVENT
BEGIN:VEVENT
DTSTART;TZID=UTC:20241213T093000
DTEND;TZID=UTC:20241213T101500
DTSTAMP:20260420T072527
CREATED:20241107T142407Z
LAST-MODIFIED:20241107T142407Z
UID:8405-1734082200-1734084900@www.ashlandsprimary.org.uk
SUMMARY:KS1 Nativity
DESCRIPTION:
URL:https://www.ashlandsprimary.org.uk/event/ks1-nativity/
END:VEVENT
BEGIN:VEVENT
DTSTART;TZID=UTC:20241213T090000
DTEND;TZID=UTC:20241213T153000
DTSTAMP:20260420T072527
CREATED:20241025T141620Z
LAST-MODIFIED:20241025T142020Z
UID:8370-1734080400-1734103800@www.ashlandsprimary.org.uk
SUMMARY:Christmas Dinner - Wear your Christmas jumper and/or Christmas Sock Day - Donate £1.00 to Airedale Hospital
DESCRIPTION:
URL:https://www.ashlandsprimary.org.uk/event/christmas-dinner-wear-your-christmas-jumper-and-or-christmas-sock-day-donate-1-00-to-airedale-hospital/
END:VEVENT
BEGIN:VEVENT
DTSTART;TZID=UTC:20241213T085500
DTEND;TZID=UTC:20241213T093000
DTSTAMP:20260420T072527
CREATED:20241002T144122Z
LAST-MODIFIED:20241002T144255Z
UID:8138-1734080100-1734082200@www.ashlandsprimary.org.uk
SUMMARY:Class 3 Maple Swimming
DESCRIPTION:
URL:https://www.ashlandsprimary.org.uk/event/class-3-maple-swimming-13/
END:VEVENT
BEGIN:VEVENT
DTSTART;TZID=UTC:20241212T144500
DTEND;TZID=UTC:20241212T153000
DTSTAMP:20260420T072527
CREATED:20241107T142142Z
LAST-MODIFIED:20241107T142142Z
UID:8403-1734014700-1734017400@www.ashlandsprimary.org.uk
SUMMARY:Early Years Nativity
DESCRIPTION:
URL:https://www.ashlandsprimary.org.uk/event/early-years-nativity-2/
END:VEVENT
BEGIN:VEVENT
DTSTART;TZID=UTC:20241211T144500
DTEND;TZID=UTC:20241211T153000
DTSTAMP:20260420T072527
CREATED:20241107T141734Z
LAST-MODIFIED:20241107T141734Z
UID:8401-1733928300-1733931000@www.ashlandsprimary.org.uk
SUMMARY:Early Years Nativity
DESCRIPTION:
URL:https://www.ashlandsprimary.org.uk/event/early-years-nativity/
END:VEVENT
BEGIN:VEVENT
DTSTART;TZID=UTC:20241206T160000
DTEND;TZID=UTC:20241206T181500
DTSTAMP:20260420T072527
CREATED:20240925T125330Z
LAST-MODIFIED:20241113T105618Z
UID:7962-1733500800-1733508900@www.ashlandsprimary.org.uk
SUMMARY:Christmas Fair
DESCRIPTION:
URL:https://www.ashlandsprimary.org.uk/event/christmas-fair-3/
END:VEVENT
BEGIN:VEVENT
DTSTART;TZID=UTC:20241206T085500
DTEND;TZID=UTC:20241206T093000
DTSTAMP:20260420T072527
CREATED:20241002T144023Z
LAST-MODIFIED:20241002T144025Z
UID:8136-1733475300-1733477400@www.ashlandsprimary.org.uk
SUMMARY:Class 3 Maple Swimming
DESCRIPTION:
URL:https://www.ashlandsprimary.org.uk/event/class-3-maple-swimming-12/
END:VEVENT
BEGIN:VEVENT
DTSTART;TZID=UTC:20241203T150000
DTEND;TZID=UTC:20241203T153000
DTSTAMP:20260420T072527
CREATED:20241107T141516Z
LAST-MODIFIED:20241107T141516Z
UID:8399-1733238000-1733239800@www.ashlandsprimary.org.uk
SUMMARY:Year 6 Celebration Assembly
DESCRIPTION:
URL:https://www.ashlandsprimary.org.uk/event/year-6-celebration-assembly-2/
END:VEVENT
BEGIN:VEVENT
DTSTART;TZID=UTC:20241129T085500
DTEND;TZID=UTC:20241129T093000
DTSTAMP:20260420T072527
CREATED:20241002T143944Z
LAST-MODIFIED:20241002T153500Z
UID:8134-1732870500-1732872600@www.ashlandsprimary.org.uk
SUMMARY:Class 3 Maple Swimming
DESCRIPTION:
URL:https://www.ashlandsprimary.org.uk/event/class-3-maple-swimming-11/
END:VEVENT
BEGIN:VEVENT
DTSTART;TZID=UTC:20241128T150000
DTEND;TZID=UTC:20241128T153000
DTSTAMP:20260420T072527
CREATED:20241107T140845Z
LAST-MODIFIED:20241107T140845Z
UID:8397-1732806000-1732807800@www.ashlandsprimary.org.uk
SUMMARY:Year 5 Celebration Assembly
DESCRIPTION:
URL:https://www.ashlandsprimary.org.uk/event/year-5-celebration-assembly-2/
END:VEVENT
BEGIN:VEVENT
DTSTART;TZID=UTC:20241127T093000
DTEND;TZID=UTC:20241127T111500
DTSTAMP:20260420T072527
CREATED:20240923T114136Z
LAST-MODIFIED:20240923T114221Z
UID:7927-1732699800-1732706100@www.ashlandsprimary.org.uk
SUMMARY:Open Morning
DESCRIPTION:
URL:https://www.ashlandsprimary.org.uk/event/open-morning-4/
END:VEVENT
BEGIN:VEVENT
DTSTART;TZID=UTC:20241122T085500
DTEND;TZID=UTC:20241122T093000
DTSTAMP:20260420T072527
CREATED:20241002T143834Z
LAST-MODIFIED:20241002T143836Z
UID:8132-1732265700-1732267800@www.ashlandsprimary.org.uk
SUMMARY:Class 3 Maple Swimming
DESCRIPTION:
URL:https://www.ashlandsprimary.org.uk/event/class-3-maple-swimming-10/
END:VEVENT
BEGIN:VEVENT
DTSTART;TZID=UTC:20241121T150000
DTEND;TZID=UTC:20241121T153000
DTSTAMP:20260420T072527
CREATED:20241107T140632Z
LAST-MODIFIED:20241107T140632Z
UID:8395-1732201200-1732203000@www.ashlandsprimary.org.uk
SUMMARY:Year 4 Celebration Assembly
DESCRIPTION:
URL:https://www.ashlandsprimary.org.uk/event/year-4-celebration-assembly-2/
END:VEVENT
BEGIN:VEVENT
DTSTART;TZID=UTC:20241120T093000
DTEND;TZID=UTC:20241120T111500
DTSTAMP:20260420T072527
CREATED:20240923T114032Z
LAST-MODIFIED:20240923T114034Z
UID:7925-1732095000-1732101300@www.ashlandsprimary.org.uk
SUMMARY:Open Morning
DESCRIPTION:
URL:https://www.ashlandsprimary.org.uk/event/open-morning-3/
END:VEVENT
BEGIN:VEVENT
DTSTART;TZID=UTC:20241119T150000
DTEND;TZID=UTC:20241119T153000
DTSTAMP:20260420T072527
CREATED:20241107T140440Z
LAST-MODIFIED:20241107T140440Z
UID:8393-1732028400-1732030200@www.ashlandsprimary.org.uk
SUMMARY:Year 3 Celebration Assembly
DESCRIPTION:
URL:https://www.ashlandsprimary.org.uk/event/year-3-celebration-assembly-3/
END:VEVENT
BEGIN:VEVENT
DTSTART;TZID=UTC:20241118T150000
DTEND;TZID=UTC:20241118T153000
DTSTAMP:20260420T072527
CREATED:20241107T140347Z
LAST-MODIFIED:20241107T140347Z
UID:8391-1731942000-1731943800@www.ashlandsprimary.org.uk
SUMMARY:Year 2 Share and Celebrate
DESCRIPTION:
URL:https://www.ashlandsprimary.org.uk/event/year-2-share-and-celebrate-5/
END:VEVENT
BEGIN:VEVENT
DTSTART;TZID=UTC:20241118T000000
DTEND;TZID=UTC:20241118T000000
DTSTAMP:20260420T072527
CREATED:20241118T142503Z
LAST-MODIFIED:20241118T142505Z
UID:8516-1731888000-1731888000@www.ashlandsprimary.org.uk
SUMMARY:Return to School
DESCRIPTION:
URL:https://www.ashlandsprimary.org.uk/event/return-to-school-11/
END:VEVENT
BEGIN:VEVENT
DTSTART;TZID=UTC:20241118T000000
DTEND;TZID=UTC:20241118T000000
DTSTAMP:20260420T072527
CREATED:20241118T142140Z
LAST-MODIFIED:20241118T142143Z
UID:8514-1731888000-1731888000@www.ashlandsprimary.org.uk
SUMMARY:Break Up
DESCRIPTION:
URL:https://www.ashlandsprimary.org.uk/event/break-up-26/
END:VEVENT
BEGIN:VEVENT
DTSTART;TZID=UTC:20241118T000000
DTEND;TZID=UTC:20241118T000000
DTSTAMP:20260420T072527
CREATED:20241118T142102Z
LAST-MODIFIED:20241118T142105Z
UID:8512-1731888000-1731888000@www.ashlandsprimary.org.uk
SUMMARY:School re-opens
DESCRIPTION:
URL:https://www.ashlandsprimary.org.uk/event/school-re-opens-11/
END:VEVENT
BEGIN:VEVENT
DTSTART;TZID=UTC:20241118T000000
DTEND;TZID=UTC:20241118T000000
DTSTAMP:20260420T072527
CREATED:20241118T142011Z
LAST-MODIFIED:20241118T142014Z
UID:8510-1731888000-1731888000@www.ashlandsprimary.org.uk
SUMMARY:Break Up
DESCRIPTION:
URL:https://www.ashlandsprimary.org.uk/event/break-up-25/
END:VEVENT
BEGIN:VEVENT
DTSTART;TZID=UTC:20241118T000000
DTEND;TZID=UTC:20241118T000000
DTSTAMP:20260420T072527
CREATED:20241118T141630Z
LAST-MODIFIED:20241118T141633Z
UID:8506-1731888000-1731888000@www.ashlandsprimary.org.uk
SUMMARY:School re-opens
DESCRIPTION:
URL:https://www.ashlandsprimary.org.uk/event/school-re-opens-10/
END:VEVENT
BEGIN:VEVENT
DTSTART;TZID=UTC:20241118T000000
DTEND;TZID=UTC:20241118T000000
DTSTAMP:20260420T072527
CREATED:20241118T141549Z
LAST-MODIFIED:20241118T141552Z
UID:8504-1731888000-1731888000@www.ashlandsprimary.org.uk
SUMMARY:Break Up
DESCRIPTION:
URL:https://www.ashlandsprimary.org.uk/event/break-up-24/
END:VEVENT
BEGIN:VEVENT
DTSTART;TZID=UTC:20241118T000000
DTEND;TZID=UTC:20241118T000000
DTSTAMP:20260420T072527
CREATED:20241118T141500Z
LAST-MODIFIED:20241118T141504Z
UID:8502-1731888000-1731888000@www.ashlandsprimary.org.uk
SUMMARY:School re-opens
DESCRIPTION:
URL:https://www.ashlandsprimary.org.uk/event/school-re-opens-9/
END:VEVENT
BEGIN:VEVENT
DTSTART;TZID=UTC:20241118T000000
DTEND;TZID=UTC:20241118T000000
DTSTAMP:20260420T072527
CREATED:20241118T141414Z
LAST-MODIFIED:20241118T141418Z
UID:8500-1731888000-1731888000@www.ashlandsprimary.org.uk
SUMMARY:Break Up
DESCRIPTION:
URL:https://www.ashlandsprimary.org.uk/event/break-up-23/
END:VEVENT
BEGIN:VEVENT
DTSTART;TZID=UTC:20241118T000000
DTEND;TZID=UTC:20241118T000000
DTSTAMP:20260420T072527
CREATED:20241118T141037Z
LAST-MODIFIED:20241118T141046Z
UID:8490-1731888000-1731888000@www.ashlandsprimary.org.uk
SUMMARY:Return to School
DESCRIPTION:
URL:https://www.ashlandsprimary.org.uk/event/return-to-school-10/
END:VEVENT
BEGIN:VEVENT
DTSTART;TZID=UTC:20241116T103000
DTEND;TZID=UTC:20241116T123000
DTSTAMP:20260420T072527
CREATED:20241025T140932Z
LAST-MODIFIED:20241025T140934Z
UID:8368-1731753000-1731760200@www.ashlandsprimary.org.uk
SUMMARY:Open Morning
DESCRIPTION:
URL:https://www.ashlandsprimary.org.uk/event/open-morning-5/
END:VEVENT
BEGIN:VEVENT
DTSTART;TZID=UTC:20241115T090000
DTEND;TZID=UTC:20241115T153000
DTSTAMP:20260420T072527
CREATED:20241025T140824Z
LAST-MODIFIED:20241025T140826Z
UID:8366-1731661200-1731684600@www.ashlandsprimary.org.uk
SUMMARY:Children in Need - Non-Uniform Day - Wear your spots and stripes
DESCRIPTION:
URL:https://www.ashlandsprimary.org.uk/event/children-in-need-non-uniform-day-wear-your-spots-and-stripes/
END:VEVENT
BEGIN:VEVENT
DTSTART;TZID=UTC:20241115T085500
DTEND;TZID=UTC:20241115T093000
DTSTAMP:20260420T072527
CREATED:20241002T141056Z
LAST-MODIFIED:20241002T141136Z
UID:8129-1731660900-1731663000@www.ashlandsprimary.org.uk
SUMMARY:Class 3 Maple Swimming
DESCRIPTION:
URL:https://www.ashlandsprimary.org.uk/event/class-3-maple-swimming-9/
END:VEVENT
BEGIN:VEVENT
DTSTART;TZID=UTC:20241115T081500
DTEND;TZID=UTC:20241115T120000
DTSTAMP:20260420T072527
CREATED:20241014T150511Z
LAST-MODIFIED:20241014T150513Z
UID:8329-1731658500-1731672000@www.ashlandsprimary.org.uk
SUMMARY:6 Chestnut Visit to Sikh Gurdwara
DESCRIPTION:
URL:https://www.ashlandsprimary.org.uk/event/6-chestnut-visit-to-sikh-gurdwara/
END:VEVENT
END:VCALENDAR