BEGIN:VCALENDAR
VERSION:2.0
PRODID:-//Ashlands Primary School - ECPv6.15.17.1//NONSGML v1.0//EN
CALSCALE:GREGORIAN
METHOD:PUBLISH
X-WR-CALNAME:Ashlands Primary School
X-ORIGINAL-URL:https://www.ashlandsprimary.org.uk
X-WR-CALDESC:Events for Ashlands Primary School
REFRESH-INTERVAL;VALUE=DURATION:PT1H
X-Robots-Tag:noindex
X-PUBLISHED-TTL:PT1H
BEGIN:VTIMEZONE
TZID:UTC
BEGIN:STANDARD
TZOFFSETFROM:+0000
TZOFFSETTO:+0000
TZNAME:UTC
DTSTART:20230101T000000
END:STANDARD
END:VTIMEZONE
BEGIN:VEVENT
DTSTART;TZID=UTC:20250205T081500
DTEND;TZID=UTC:20250205T153000
DTSTAMP:20260420T070929
CREATED:20241121T160838Z
LAST-MODIFIED:20241121T160841Z
UID:8570-1738743300-1738769400@www.ashlandsprimary.org.uk
SUMMARY:Class 6 Birch Trip to Drax Power Station
DESCRIPTION:
URL:https://www.ashlandsprimary.org.uk/event/class-6-birch-trip-to-drax-power-station/
END:VEVENT
BEGIN:VEVENT
DTSTART;TZID=UTC:20250204T170000
DTEND;TZID=UTC:20250204T180000
DTSTAMP:20260420T070929
CREATED:20250130T110947Z
LAST-MODIFIED:20250130T110950Z
UID:8773-1738688400-1738692000@www.ashlandsprimary.org.uk
SUMMARY:Year 2 Parents Meeting (Maths and Spellings)
DESCRIPTION:
URL:https://www.ashlandsprimary.org.uk/event/year-2-parents-meeting-maths-and-spellings/
END:VEVENT
BEGIN:VEVENT
DTSTART;TZID=UTC:20250131T085500
DTEND;TZID=UTC:20250131T093000
DTSTAMP:20260420T070929
CREATED:20241002T145029Z
LAST-MODIFIED:20241002T150406Z
UID:8158-1738313700-1738315800@www.ashlandsprimary.org.uk
SUMMARY:Class 3 Maple Swimming
DESCRIPTION:
URL:https://www.ashlandsprimary.org.uk/event/class-3-maple-swimming-18/
END:VEVENT
BEGIN:VEVENT
DTSTART;TZID=UTC:20250124T085500
DTEND;TZID=UTC:20250124T093000
DTSTAMP:20260420T070929
CREATED:20241002T144942Z
LAST-MODIFIED:20241002T150553Z
UID:8153-1737708900-1737711000@www.ashlandsprimary.org.uk
SUMMARY:Class 3 Maple Swimming
DESCRIPTION:
URL:https://www.ashlandsprimary.org.uk/event/class-3-maple-swimming-17/
END:VEVENT
BEGIN:VEVENT
DTSTART;TZID=UTC:20250117T085500
DTEND;TZID=UTC:20250117T093000
DTSTAMP:20260420T070929
CREATED:20241002T144910Z
LAST-MODIFIED:20241002T150311Z
UID:8148-1737104100-1737106200@www.ashlandsprimary.org.uk
SUMMARY:Class 3 Maple Swimming
DESCRIPTION:
URL:https://www.ashlandsprimary.org.uk/event/class-3-maple-swimming-16/
END:VEVENT
BEGIN:VEVENT
DTSTART;TZID=UTC:20250114T193000
DTEND;TZID=UTC:20250114T210000
DTSTAMP:20260420T070929
CREATED:20241118T160824Z
LAST-MODIFIED:20241118T160836Z
UID:8544-1736883000-1736888400@www.ashlandsprimary.org.uk
SUMMARY:Friends of Ashlands (PTA) meeting The Black Hat\, Ilkley 7.30pm - All welcome
DESCRIPTION:
URL:https://www.ashlandsprimary.org.uk/event/friends-of-ashlands-pta-meeting-the-black-hat-ilkley-7-30pm-all-welcome/
END:VEVENT
BEGIN:VEVENT
DTSTART;TZID=UTC:20250110T085500
DTEND;TZID=UTC:20250110T093000
DTSTAMP:20260420T070929
CREATED:20241002T144713Z
LAST-MODIFIED:20241002T144715Z
UID:8146-1736499300-1736501400@www.ashlandsprimary.org.uk
SUMMARY:Class 3 Maple Swimming
DESCRIPTION:
URL:https://www.ashlandsprimary.org.uk/event/class-3-maple-swimming-15/
END:VEVENT
BEGIN:VEVENT
DTSTART;TZID=UTC:20250107T085500
DTEND;TZID=UTC:20250107T085500
DTSTAMP:20260420T070929
CREATED:20240925T130556Z
LAST-MODIFIED:20240925T130558Z
UID:7978-1736240100-1736240100@www.ashlandsprimary.org.uk
SUMMARY:School Re-opens
DESCRIPTION:
URL:https://www.ashlandsprimary.org.uk/event/school-re-opens-3/
END:VEVENT
BEGIN:VEVENT
DTSTART;TZID=UTC:20241220T153000
DTEND;TZID=UTC:20241220T153000
DTSTAMP:20260420T070929
CREATED:20241002T144507Z
LAST-MODIFIED:20241002T144508Z
UID:8142-1734708600-1734708600@www.ashlandsprimary.org.uk
SUMMARY:Break Up
DESCRIPTION:
URL:https://www.ashlandsprimary.org.uk/event/break-up-21/
END:VEVENT
BEGIN:VEVENT
DTSTART;TZID=UTC:20241220T085500
DTEND;TZID=UTC:20241220T093000
DTSTAMP:20260420T070929
CREATED:20241002T144357Z
LAST-MODIFIED:20241002T144359Z
UID:8140-1734684900-1734687000@www.ashlandsprimary.org.uk
SUMMARY:Class 3 Maple Swimming
DESCRIPTION:
URL:https://www.ashlandsprimary.org.uk/event/class-3-maple-swimming-14/
END:VEVENT
BEGIN:VEVENT
DTSTART;TZID=UTC:20241219T133000
DTEND;TZID=UTC:20241219T150000
DTSTAMP:20260420T070929
CREATED:20241211T151615Z
LAST-MODIFIED:20241211T151615Z
UID:8619-1734615000-1734620400@www.ashlandsprimary.org.uk
SUMMARY:Year 5 Christmas Party
DESCRIPTION:
URL:https://www.ashlandsprimary.org.uk/event/year-5-christmas-party/
END:VEVENT
BEGIN:VEVENT
DTSTART;TZID=UTC:20241219T133000
DTEND;TZID=UTC:20241219T150000
DTSTAMP:20260420T070929
CREATED:20241211T151532Z
LAST-MODIFIED:20241211T151535Z
UID:8617-1734615000-1734620400@www.ashlandsprimary.org.uk
SUMMARY:Year 4 Christmas Party
DESCRIPTION:
URL:https://www.ashlandsprimary.org.uk/event/year-4-christmas-party/
END:VEVENT
BEGIN:VEVENT
DTSTART;TZID=UTC:20241218T100000
DTEND;TZID=UTC:20241218T113000
DTSTAMP:20260420T070929
CREATED:20241107T142654Z
LAST-MODIFIED:20241107T142654Z
UID:8409-1734516000-1734521400@www.ashlandsprimary.org.uk
SUMMARY:KS2 Church Service\, St Johns Church\, Ben Rhydding
DESCRIPTION:
URL:https://www.ashlandsprimary.org.uk/event/ks2-church-service-st-johns-church-ben-rhydding-2/
END:VEVENT
BEGIN:VEVENT
DTSTART;TZID=UTC:20241217T133000
DTEND;TZID=UTC:20241217T150000
DTSTAMP:20260420T070929
CREATED:20241211T151454Z
LAST-MODIFIED:20241211T151457Z
UID:8615-1734442200-1734447600@www.ashlandsprimary.org.uk
SUMMARY:Year 6 Christmas Party
DESCRIPTION:
URL:https://www.ashlandsprimary.org.uk/event/year-6-christmas-party/
END:VEVENT
BEGIN:VEVENT
DTSTART;TZID=UTC:20241217T133000
DTEND;TZID=UTC:20241217T150000
DTSTAMP:20260420T070929
CREATED:20241211T151403Z
LAST-MODIFIED:20241211T151406Z
UID:8613-1734442200-1734447600@www.ashlandsprimary.org.uk
SUMMARY:Year 3 Christmas Party
DESCRIPTION:
URL:https://www.ashlandsprimary.org.uk/event/year-3-christmas-party/
END:VEVENT
BEGIN:VEVENT
DTSTART;TZID=UTC:20241217T100000
DTEND;TZID=UTC:20241217T113000
DTSTAMP:20260420T070929
CREATED:20241107T142602Z
LAST-MODIFIED:20241107T142602Z
UID:8407-1734429600-1734435000@www.ashlandsprimary.org.uk
SUMMARY:KS2 Church Service\, St Johns Church\, Ben Rhydding
DESCRIPTION:
URL:https://www.ashlandsprimary.org.uk/event/ks2-church-service-st-johns-church-ben-rhydding/
END:VEVENT
BEGIN:VEVENT
DTSTART;TZID=UTC:20241216T133000
DTEND;TZID=UTC:20241216T150000
DTSTAMP:20260420T070929
CREATED:20241211T151335Z
LAST-MODIFIED:20241211T151335Z
UID:8611-1734355800-1734361200@www.ashlandsprimary.org.uk
SUMMARY:Early Years Christmas Party
DESCRIPTION:
URL:https://www.ashlandsprimary.org.uk/event/early-years-christmas-party/
END:VEVENT
BEGIN:VEVENT
DTSTART;TZID=UTC:20241216T133000
DTEND;TZID=UTC:20241216T150000
DTSTAMP:20260420T070929
CREATED:20241211T151229Z
LAST-MODIFIED:20241211T151229Z
UID:8609-1734355800-1734361200@www.ashlandsprimary.org.uk
SUMMARY:KS1 Christmas Party
DESCRIPTION:
URL:https://www.ashlandsprimary.org.uk/event/ks1-christmas-party/
END:VEVENT
BEGIN:VEVENT
DTSTART;TZID=UTC:20241213T093000
DTEND;TZID=UTC:20241213T101500
DTSTAMP:20260420T070929
CREATED:20241107T142407Z
LAST-MODIFIED:20241107T142407Z
UID:8405-1734082200-1734084900@www.ashlandsprimary.org.uk
SUMMARY:KS1 Nativity
DESCRIPTION:
URL:https://www.ashlandsprimary.org.uk/event/ks1-nativity/
END:VEVENT
BEGIN:VEVENT
DTSTART;TZID=UTC:20241213T090000
DTEND;TZID=UTC:20241213T153000
DTSTAMP:20260420T070929
CREATED:20241025T141620Z
LAST-MODIFIED:20241025T142020Z
UID:8370-1734080400-1734103800@www.ashlandsprimary.org.uk
SUMMARY:Christmas Dinner - Wear your Christmas jumper and/or Christmas Sock Day - Donate £1.00 to Airedale Hospital
DESCRIPTION:
URL:https://www.ashlandsprimary.org.uk/event/christmas-dinner-wear-your-christmas-jumper-and-or-christmas-sock-day-donate-1-00-to-airedale-hospital/
END:VEVENT
BEGIN:VEVENT
DTSTART;TZID=UTC:20241213T085500
DTEND;TZID=UTC:20241213T093000
DTSTAMP:20260420T070929
CREATED:20241002T144122Z
LAST-MODIFIED:20241002T144255Z
UID:8138-1734080100-1734082200@www.ashlandsprimary.org.uk
SUMMARY:Class 3 Maple Swimming
DESCRIPTION:
URL:https://www.ashlandsprimary.org.uk/event/class-3-maple-swimming-13/
END:VEVENT
BEGIN:VEVENT
DTSTART;TZID=UTC:20241212T144500
DTEND;TZID=UTC:20241212T153000
DTSTAMP:20260420T070929
CREATED:20241107T142142Z
LAST-MODIFIED:20241107T142142Z
UID:8403-1734014700-1734017400@www.ashlandsprimary.org.uk
SUMMARY:Early Years Nativity
DESCRIPTION:
URL:https://www.ashlandsprimary.org.uk/event/early-years-nativity-2/
END:VEVENT
BEGIN:VEVENT
DTSTART;TZID=UTC:20241211T144500
DTEND;TZID=UTC:20241211T153000
DTSTAMP:20260420T070929
CREATED:20241107T141734Z
LAST-MODIFIED:20241107T141734Z
UID:8401-1733928300-1733931000@www.ashlandsprimary.org.uk
SUMMARY:Early Years Nativity
DESCRIPTION:
URL:https://www.ashlandsprimary.org.uk/event/early-years-nativity/
END:VEVENT
BEGIN:VEVENT
DTSTART;TZID=UTC:20241206T160000
DTEND;TZID=UTC:20241206T181500
DTSTAMP:20260420T070929
CREATED:20240925T125330Z
LAST-MODIFIED:20241113T105618Z
UID:7962-1733500800-1733508900@www.ashlandsprimary.org.uk
SUMMARY:Christmas Fair
DESCRIPTION:
URL:https://www.ashlandsprimary.org.uk/event/christmas-fair-3/
END:VEVENT
BEGIN:VEVENT
DTSTART;TZID=UTC:20241206T085500
DTEND;TZID=UTC:20241206T093000
DTSTAMP:20260420T070929
CREATED:20241002T144023Z
LAST-MODIFIED:20241002T144025Z
UID:8136-1733475300-1733477400@www.ashlandsprimary.org.uk
SUMMARY:Class 3 Maple Swimming
DESCRIPTION:
URL:https://www.ashlandsprimary.org.uk/event/class-3-maple-swimming-12/
END:VEVENT
BEGIN:VEVENT
DTSTART;TZID=UTC:20241203T150000
DTEND;TZID=UTC:20241203T153000
DTSTAMP:20260420T070929
CREATED:20241107T141516Z
LAST-MODIFIED:20241107T141516Z
UID:8399-1733238000-1733239800@www.ashlandsprimary.org.uk
SUMMARY:Year 6 Celebration Assembly
DESCRIPTION:
URL:https://www.ashlandsprimary.org.uk/event/year-6-celebration-assembly-2/
END:VEVENT
BEGIN:VEVENT
DTSTART;TZID=UTC:20241129T085500
DTEND;TZID=UTC:20241129T093000
DTSTAMP:20260420T070929
CREATED:20241002T143944Z
LAST-MODIFIED:20241002T153500Z
UID:8134-1732870500-1732872600@www.ashlandsprimary.org.uk
SUMMARY:Class 3 Maple Swimming
DESCRIPTION:
URL:https://www.ashlandsprimary.org.uk/event/class-3-maple-swimming-11/
END:VEVENT
BEGIN:VEVENT
DTSTART;TZID=UTC:20241128T150000
DTEND;TZID=UTC:20241128T153000
DTSTAMP:20260420T070929
CREATED:20241107T140845Z
LAST-MODIFIED:20241107T140845Z
UID:8397-1732806000-1732807800@www.ashlandsprimary.org.uk
SUMMARY:Year 5 Celebration Assembly
DESCRIPTION:
URL:https://www.ashlandsprimary.org.uk/event/year-5-celebration-assembly-2/
END:VEVENT
BEGIN:VEVENT
DTSTART;TZID=UTC:20241127T093000
DTEND;TZID=UTC:20241127T111500
DTSTAMP:20260420T070929
CREATED:20240923T114136Z
LAST-MODIFIED:20240923T114221Z
UID:7927-1732699800-1732706100@www.ashlandsprimary.org.uk
SUMMARY:Open Morning
DESCRIPTION:
URL:https://www.ashlandsprimary.org.uk/event/open-morning-4/
END:VEVENT
BEGIN:VEVENT
DTSTART;TZID=UTC:20241122T085500
DTEND;TZID=UTC:20241122T093000
DTSTAMP:20260420T070929
CREATED:20241002T143834Z
LAST-MODIFIED:20241002T143836Z
UID:8132-1732265700-1732267800@www.ashlandsprimary.org.uk
SUMMARY:Class 3 Maple Swimming
DESCRIPTION:
URL:https://www.ashlandsprimary.org.uk/event/class-3-maple-swimming-10/
END:VEVENT
END:VCALENDAR