BEGIN:VCALENDAR
VERSION:2.0
PRODID:-//Ashlands Primary School - ECPv6.15.17.1//NONSGML v1.0//EN
CALSCALE:GREGORIAN
METHOD:PUBLISH
X-WR-CALNAME:Ashlands Primary School
X-ORIGINAL-URL:https://www.ashlandsprimary.org.uk
X-WR-CALDESC:Events for Ashlands Primary School
REFRESH-INTERVAL;VALUE=DURATION:PT1H
X-Robots-Tag:noindex
X-PUBLISHED-TTL:PT1H
BEGIN:VTIMEZONE
TZID:UTC
BEGIN:STANDARD
TZOFFSETFROM:+0000
TZOFFSETTO:+0000
TZNAME:UTC
DTSTART:20220101T000000
END:STANDARD
END:VTIMEZONE
BEGIN:VEVENT
DTSTART;TZID=UTC:20230503T180000
DTEND;TZID=UTC:20230503T190000
DTSTAMP:20260421T133610
CREATED:20230428T133237Z
LAST-MODIFIED:20230428T133237Z
UID:4052-1683136800-1683140400@www.ashlandsprimary.org.uk
SUMMARY:Year 4 Maths Multiplication Meeting
DESCRIPTION:
URL:https://www.ashlandsprimary.org.uk/event/year-4-maths-multiplication-meeting/
END:VEVENT
BEGIN:VEVENT
DTSTART;TZID=UTC:20230503T090000
DTEND;TZID=UTC:20230503T120000
DTSTAMP:20260421T133610
CREATED:20230124T103025Z
LAST-MODIFIED:20230124T103027Z
UID:3333-1683104400-1683115200@www.ashlandsprimary.org.uk
SUMMARY:Class Photos
DESCRIPTION:
URL:https://www.ashlandsprimary.org.uk/event/class-photos-2/
END:VEVENT
BEGIN:VEVENT
DTSTART;TZID=UTC:20230501T090000
DTEND;TZID=UTC:20230501T120000
DTSTAMP:20260421T133610
CREATED:20230306T105314Z
LAST-MODIFIED:20230306T105510Z
UID:3580-1682931600-1682942400@www.ashlandsprimary.org.uk
SUMMARY:Ilkley Carnival
DESCRIPTION:See Friends page for more details
URL:https://www.ashlandsprimary.org.uk/event/ilkley-carnival/
END:VEVENT
BEGIN:VEVENT
DTSTART;TZID=UTC:20230501T080000
DTEND;TZID=UTC:20230501T170000
DTSTAMP:20260421T133610
CREATED:20230112T152043Z
LAST-MODIFIED:20230112T152043Z
UID:3213-1682928000-1682960400@www.ashlandsprimary.org.uk
SUMMARY:May Day
DESCRIPTION:
URL:https://www.ashlandsprimary.org.uk/event/may-day/
END:VEVENT
BEGIN:VEVENT
DTSTART;TZID=UTC:20230424T153000
DTEND;TZID=UTC:20230424T173000
DTSTAMP:20260421T133610
CREATED:20230418T075344Z
LAST-MODIFIED:20230418T075344Z
UID:3989-1682350200-1682357400@www.ashlandsprimary.org.uk
SUMMARY:Carnival maker Session
DESCRIPTION:
URL:https://www.ashlandsprimary.org.uk/event/carnival-maker-session/
END:VEVENT
BEGIN:VEVENT
DTSTART;TZID=UTC:20230421T153000
DTEND;TZID=UTC:20230421T170000
DTSTAMP:20260421T133610
CREATED:20230331T134046Z
LAST-MODIFIED:20230331T134046Z
UID:3924-1682091000-1682096400@www.ashlandsprimary.org.uk
SUMMARY:Easter Egg Trail & Bake Sale
DESCRIPTION:After school
URL:https://www.ashlandsprimary.org.uk/event/easter-egg-trail-bake-sale/
END:VEVENT
BEGIN:VEVENT
DTSTART;TZID=UTC:20230419T180000
DTEND;TZID=UTC:20230419T180000
DTSTAMP:20260421T133610
CREATED:20230418T075236Z
LAST-MODIFIED:20230418T075236Z
UID:3987-1681927200-1681927200@www.ashlandsprimary.org.uk
SUMMARY:Year 1 Phonics Evening
DESCRIPTION:
URL:https://www.ashlandsprimary.org.uk/event/year-1-phonics-evening/
END:VEVENT
BEGIN:VEVENT
DTSTART;TZID=UTC:20230417T090000
DTEND;TZID=UTC:20230417T090000
DTSTAMP:20260421T133610
CREATED:20230112T151958Z
LAST-MODIFIED:20230112T151958Z
UID:3211-1681722000-1681722000@www.ashlandsprimary.org.uk
SUMMARY:Return to School
DESCRIPTION:
URL:https://www.ashlandsprimary.org.uk/event/return-to-school-3/
END:VEVENT
BEGIN:VEVENT
DTSTART;TZID=UTC:20230331T153000
DTEND;TZID=UTC:20230331T153000
DTSTAMP:20260421T133610
CREATED:20230112T151910Z
LAST-MODIFIED:20230112T151910Z
UID:3209-1680276600-1680276600@www.ashlandsprimary.org.uk
SUMMARY:Break Up
DESCRIPTION:
URL:https://www.ashlandsprimary.org.uk/event/break-up-6/
END:VEVENT
BEGIN:VEVENT
DTSTART;TZID=UTC:20230331T080000
DTEND;TZID=UTC:20230331T170000
DTSTAMP:20260421T133610
CREATED:20230310T091940Z
LAST-MODIFIED:20230310T091940Z
UID:3609-1680249600-1680282000@www.ashlandsprimary.org.uk
SUMMARY:NO Razzmatazz today
DESCRIPTION:
URL:https://www.ashlandsprimary.org.uk/event/no-razzmatazz-today/
END:VEVENT
BEGIN:VEVENT
DTSTART;TZID=UTC:20230329T141500
DTEND;TZID=UTC:20230329T151500
DTSTAMP:20260421T133610
CREATED:20230310T091909Z
LAST-MODIFIED:20230310T091909Z
UID:3607-1680099300-1680102900@www.ashlandsprimary.org.uk
SUMMARY:Spring Music Concert
DESCRIPTION:
URL:https://www.ashlandsprimary.org.uk/event/spring-music-concert/
END:VEVENT
BEGIN:VEVENT
DTSTART;TZID=UTC:20230329T090000
DTEND;TZID=UTC:20230329T120000
DTSTAMP:20260421T133610
CREATED:20230324T110648Z
LAST-MODIFIED:20230324T110651Z
UID:3820-1680080400-1680091200@www.ashlandsprimary.org.uk
SUMMARY:Lempen Puppet Theatre - Reception\, Year 1 and Year 2
DESCRIPTION:
URL:https://www.ashlandsprimary.org.uk/event/lempen-puppet-theatre-reception-year-1-and-year-2/
END:VEVENT
BEGIN:VEVENT
DTSTART;TZID=UTC:20230329T080000
DTEND;TZID=UTC:20230329T190000
DTSTAMP:20260421T133610
CREATED:20230210T153335Z
LAST-MODIFIED:20230210T153335Z
UID:3462-1680076800-1680116400@www.ashlandsprimary.org.uk
SUMMARY:Parents Evening
DESCRIPTION:in person\, in your child’s classroom
URL:https://www.ashlandsprimary.org.uk/event/parents-evening/
END:VEVENT
BEGIN:VEVENT
DTSTART;TZID=UTC:20230328T160000
DTEND;TZID=UTC:20230328T190000
DTSTAMP:20260421T133610
CREATED:20230210T153140Z
LAST-MODIFIED:20230210T153225Z
UID:3459-1680019200-1680030000@www.ashlandsprimary.org.uk
SUMMARY:Parents Evening
DESCRIPTION:in person in your child’s classroom
URL:https://www.ashlandsprimary.org.uk/event/school-disco/
END:VEVENT
BEGIN:VEVENT
DTSTART;TZID=UTC:20230323T145000
DTEND;TZID=UTC:20230323T152000
DTSTAMP:20260421T133610
CREATED:20230210T153103Z
LAST-MODIFIED:20230210T153103Z
UID:3457-1679583000-1679584800@www.ashlandsprimary.org.uk
SUMMARY:Year 6 Share and Celebrate
DESCRIPTION:
URL:https://www.ashlandsprimary.org.uk/event/year-6-share-and-celebrate-2/
END:VEVENT
BEGIN:VEVENT
DTSTART;TZID=UTC:20230323T034500
DTEND;TZID=UTC:20230323T190000
DTSTAMP:20260421T133610
CREATED:20230306T105145Z
LAST-MODIFIED:20230306T105145Z
UID:3577-1679543100-1679598000@www.ashlandsprimary.org.uk
SUMMARY:Children's Disco
DESCRIPTION:Nursery & Reception 3.45pm – 4.30pm \nKS1  4.45pm – 5.45pm \nKS2 6.00pm – 7.00pm
URL:https://www.ashlandsprimary.org.uk/event/childrens-disco/
END:VEVENT
BEGIN:VEVENT
DTSTART;TZID=UTC:20230322T090000
DTEND;TZID=UTC:20230322T153000
DTSTAMP:20260421T133610
CREATED:20230222T143202Z
LAST-MODIFIED:20230222T143202Z
UID:3500-1679475600-1679499000@www.ashlandsprimary.org.uk
SUMMARY:Saltaire Trip - Years 5 and 6
DESCRIPTION:
URL:https://www.ashlandsprimary.org.uk/event/saltaire-trip-years-5-and-6/
END:VEVENT
BEGIN:VEVENT
DTSTART;TZID=UTC:20230322T090000
DTEND;TZID=UTC:20230322T120000
DTSTAMP:20260421T133610
CREATED:20230124T102828Z
LAST-MODIFIED:20230124T102830Z
UID:3331-1679475600-1679486400@www.ashlandsprimary.org.uk
SUMMARY:Year 4 - The Big Sing at the Kings Hall
DESCRIPTION:
URL:https://www.ashlandsprimary.org.uk/event/year-4-the-big-sing-at-the-kings-hall/
END:VEVENT
BEGIN:VEVENT
DTSTART;TZID=UTC:20230321T145000
DTEND;TZID=UTC:20230321T152000
DTSTAMP:20260421T133610
CREATED:20230210T153030Z
LAST-MODIFIED:20230210T153030Z
UID:3454-1679410200-1679412000@www.ashlandsprimary.org.uk
SUMMARY:Year 4 Share and Celebrate
DESCRIPTION:
URL:https://www.ashlandsprimary.org.uk/event/year-4-share-and-celebrate-2/
END:VEVENT
BEGIN:VEVENT
DTSTART;TZID=UTC:20230320T145000
DTEND;TZID=UTC:20230320T152000
DTSTAMP:20260421T133610
CREATED:20230210T152948Z
LAST-MODIFIED:20230210T152948Z
UID:3452-1679323800-1679325600@www.ashlandsprimary.org.uk
SUMMARY:Year 5 Share and Celebrate
DESCRIPTION:
URL:https://www.ashlandsprimary.org.uk/event/year-5-share-and-celebrate-2/
END:VEVENT
BEGIN:VEVENT
DTSTART;TZID=UTC:20230317T080000
DTEND;TZID=UTC:20230317T170000
DTSTAMP:20260421T133610
CREATED:20230310T092321Z
LAST-MODIFIED:20230310T092321Z
UID:3611-1679040000-1679072400@www.ashlandsprimary.org.uk
SUMMARY:Red Nose Day
DESCRIPTION:Wear school uniform and a red nose / face paint a red nose (please donate online)
URL:https://www.ashlandsprimary.org.uk/event/red-nose-day-2/
END:VEVENT
BEGIN:VEVENT
DTSTART;TZID=UTC:20230316T180000
DTEND;TZID=UTC:20230316T190000
DTSTAMP:20260421T133610
CREATED:20230221T163744Z
LAST-MODIFIED:20230221T163744Z
UID:3498-1678989600-1678993200@www.ashlandsprimary.org.uk
SUMMARY:Key Stage 2 - RSE Talk
DESCRIPTION:
URL:https://www.ashlandsprimary.org.uk/event/key-stage-2-rse-talk/
END:VEVENT
BEGIN:VEVENT
DTSTART;TZID=UTC:20230316T145000
DTEND;TZID=UTC:20230316T152000
DTSTAMP:20260421T133610
CREATED:20230210T152907Z
LAST-MODIFIED:20230210T152907Z
UID:3450-1678978200-1678980000@www.ashlandsprimary.org.uk
SUMMARY:Year 2 Share and Celebrate
DESCRIPTION:
URL:https://www.ashlandsprimary.org.uk/event/year-2-share-and-celebrate/
END:VEVENT
BEGIN:VEVENT
DTSTART;TZID=UTC:20230315T145000
DTEND;TZID=UTC:20230315T152000
DTSTAMP:20260421T133610
CREATED:20230210T152827Z
LAST-MODIFIED:20230210T152827Z
UID:3448-1678891800-1678893600@www.ashlandsprimary.org.uk
SUMMARY:Year 3 Share and Celebrate
DESCRIPTION:
URL:https://www.ashlandsprimary.org.uk/event/year-3-share-and-celebrate-2/
END:VEVENT
BEGIN:VEVENT
DTSTART;TZID=UTC:20230314T145000
DTEND;TZID=UTC:20230314T152000
DTSTAMP:20260421T133610
CREATED:20230210T152755Z
LAST-MODIFIED:20230210T153657Z
UID:3446-1678805400-1678807200@www.ashlandsprimary.org.uk
SUMMARY:Year 1 Share and Celebrate
DESCRIPTION:
URL:https://www.ashlandsprimary.org.uk/event/year-1-share-and-celebrate-2/
END:VEVENT
BEGIN:VEVENT
DTSTART;TZID=UTC:20230313T145000
DTEND;TZID=UTC:20230313T152000
DTSTAMP:20260421T133610
CREATED:20230210T152715Z
LAST-MODIFIED:20230210T152715Z
UID:3444-1678719000-1678720800@www.ashlandsprimary.org.uk
SUMMARY:Reception Stay & Play
DESCRIPTION:
URL:https://www.ashlandsprimary.org.uk/event/reception-stay-play/
END:VEVENT
BEGIN:VEVENT
DTSTART;TZID=UTC:20230313T080000
DTEND;TZID=UTC:20230317T170000
DTSTAMP:20260421T133610
CREATED:20230210T152625Z
LAST-MODIFIED:20230210T152625Z
UID:3442-1678694400-1679072400@www.ashlandsprimary.org.uk
SUMMARY:Book Fair in school all week
DESCRIPTION:
URL:https://www.ashlandsprimary.org.uk/event/book-fair-in-school-all-week/
END:VEVENT
BEGIN:VEVENT
DTSTART;TZID=UTC:20230309T153000
DTEND;TZID=UTC:20230309T170000
DTSTAMP:20260421T133610
CREATED:20230302T090358Z
LAST-MODIFIED:20230302T090358Z
UID:3523-1678375800-1678381200@www.ashlandsprimary.org.uk
SUMMARY:Stalls in Playground after school
DESCRIPTION:Cakes\, Bring & Buy\, Homemade and Recycled
URL:https://www.ashlandsprimary.org.uk/event/stalls-in-playground-after-school/
END:VEVENT
BEGIN:VEVENT
DTSTART;TZID=UTC:20230308T080000
DTEND;TZID=UTC:20230308T170000
DTSTAMP:20260421T133610
CREATED:20230302T090137Z
LAST-MODIFIED:20230302T090137Z
UID:3521-1678262400-1678294800@www.ashlandsprimary.org.uk
SUMMARY:Wear an Ocean Day
DESCRIPTION:Wear blue or green to school& donate £1 (voluntary)
URL:https://www.ashlandsprimary.org.uk/event/wear-an-ocean-day/
END:VEVENT
BEGIN:VEVENT
DTSTART;TZID=UTC:20230307T090500
DTEND;TZID=UTC:20230307T100000
DTSTAMP:20260421T133610
CREATED:20230210T152405Z
LAST-MODIFIED:20230210T153548Z
UID:3436-1678179900-1678183200@www.ashlandsprimary.org.uk
SUMMARY:Year 3 & 4 Share & Celebration Assembly
DESCRIPTION:
URL:https://www.ashlandsprimary.org.uk/event/year-3-4-share-celebration-assembly/
END:VEVENT
END:VCALENDAR