BEGIN:VCALENDAR
VERSION:2.0
PRODID:-//Ashlands Primary School - ECPv6.15.17.1//NONSGML v1.0//EN
CALSCALE:GREGORIAN
METHOD:PUBLISH
X-WR-CALNAME:Ashlands Primary School
X-ORIGINAL-URL:https://www.ashlandsprimary.org.uk
X-WR-CALDESC:Events for Ashlands Primary School
REFRESH-INTERVAL;VALUE=DURATION:PT1H
X-Robots-Tag:noindex
X-PUBLISHED-TTL:PT1H
BEGIN:VTIMEZONE
TZID:UTC
BEGIN:STANDARD
TZOFFSETFROM:+0000
TZOFFSETTO:+0000
TZNAME:UTC
DTSTART:20220101T000000
END:STANDARD
END:VTIMEZONE
BEGIN:VEVENT
DTSTART;TZID=UTC:20240116T193000
DTEND;TZID=UTC:20240116T210000
DTSTAMP:20260421T035343
CREATED:20231116T103154Z
LAST-MODIFIED:20231116T103156Z
UID:6299-1705433400-1705438800@www.ashlandsprimary.org.uk
SUMMARY:Friends of Ashlands (PTA) meeting - The Black Hat (all welcome)
DESCRIPTION:
URL:https://www.ashlandsprimary.org.uk/event/friends-of-ashlands-pta-meeting-the-black-hat-all-welcome/
END:VEVENT
BEGIN:VEVENT
DTSTART;TZID=UTC:20240112T090000
DTEND;TZID=UTC:20240112T093000
DTSTAMP:20260421T035343
CREATED:20231215T133859Z
LAST-MODIFIED:20231215T133901Z
UID:6477-1705050000-1705051800@www.ashlandsprimary.org.uk
SUMMARY:Year 3 Swimming
DESCRIPTION:
URL:https://www.ashlandsprimary.org.uk/event/year-3-swimming-2/
END:VEVENT
BEGIN:VEVENT
DTSTART;TZID=UTC:20240109T180000
DTEND;TZID=UTC:20240109T183000
DTSTAMP:20260421T035343
CREATED:20240105T105540Z
LAST-MODIFIED:20240105T105542Z
UID:6521-1704823200-1704825000@www.ashlandsprimary.org.uk
SUMMARY:Year 2 - Parent Information Evening - Maths and Spelling
DESCRIPTION:
URL:https://www.ashlandsprimary.org.uk/event/year-2-parent-information-evening-maths-and-spelling/
END:VEVENT
BEGIN:VEVENT
DTSTART;TZID=UTC:20240108T093000
DTEND;TZID=UTC:20240108T113000
DTSTAMP:20260421T035343
CREATED:20240105T105417Z
LAST-MODIFIED:20240105T105419Z
UID:6519-1704706200-1704713400@www.ashlandsprimary.org.uk
SUMMARY:Year 6 - Geography Field Trip (Local)
DESCRIPTION:
URL:https://www.ashlandsprimary.org.uk/event/year-6-geography-field-trip-local/
END:VEVENT
BEGIN:VEVENT
DTSTART;TZID=UTC:20240105T093000
DTEND;TZID=UTC:20240105T103000
DTSTAMP:20260421T035343
CREATED:20231215T134737Z
LAST-MODIFIED:20231215T134745Z
UID:6490-1704447000-1704450600@www.ashlandsprimary.org.uk
SUMMARY:Year 6 - Height and Weight
DESCRIPTION:
URL:https://www.ashlandsprimary.org.uk/event/year-6-height-and-weight/
END:VEVENT
BEGIN:VEVENT
DTSTART;TZID=UTC:20240105T090000
DTEND;TZID=UTC:20240105T093000
DTSTAMP:20260421T035343
CREATED:20231215T133813Z
LAST-MODIFIED:20231215T133818Z
UID:6475-1704445200-1704447000@www.ashlandsprimary.org.uk
SUMMARY:Year 3 Swimming
DESCRIPTION:
URL:https://www.ashlandsprimary.org.uk/event/year-3-swimming/
END:VEVENT
BEGIN:VEVENT
DTSTART;TZID=UTC:20240103T090000
DTEND;TZID=UTC:20240103T090000
DTSTAMP:20260421T035343
CREATED:20230112T152752Z
LAST-MODIFIED:20230112T152752Z
UID:3227-1704272400-1704272400@www.ashlandsprimary.org.uk
SUMMARY:Return to School
DESCRIPTION:
URL:https://www.ashlandsprimary.org.uk/event/return-to-school-6/
END:VEVENT
BEGIN:VEVENT
DTSTART;TZID=UTC:20240102T090000
DTEND;TZID=UTC:20240102T153000
DTSTAMP:20260421T035343
CREATED:20231115T083544Z
LAST-MODIFIED:20231115T083546Z
UID:6272-1704186000-1704209400@www.ashlandsprimary.org.uk
SUMMARY:Christmas Early Years Holiday Club
DESCRIPTION:
URL:https://www.ashlandsprimary.org.uk/event/christmas-early-years-holiday-club-2/
END:VEVENT
BEGIN:VEVENT
DTSTART;TZID=UTC:20231218T090000
DTEND;TZID=UTC:20231222T153000
DTSTAMP:20260421T035343
CREATED:20231115T083506Z
LAST-MODIFIED:20231115T083506Z
UID:6270-1702890000-1703259000@www.ashlandsprimary.org.uk
SUMMARY:Christmas Early Years Holiday Club
DESCRIPTION:
URL:https://www.ashlandsprimary.org.uk/event/christmas-early-years-holiday-club/
END:VEVENT
BEGIN:VEVENT
DTSTART;TZID=UTC:20231215T153000
DTEND;TZID=UTC:20231215T153000
DTSTAMP:20260421T035343
CREATED:20230112T152632Z
LAST-MODIFIED:20230112T152632Z
UID:3225-1702654200-1702654200@www.ashlandsprimary.org.uk
SUMMARY:Break Up
DESCRIPTION:
URL:https://www.ashlandsprimary.org.uk/event/break-up-10/
END:VEVENT
BEGIN:VEVENT
DTSTART;TZID=UTC:20231214T130000
DTEND;TZID=UTC:20231214T150000
DTSTAMP:20260421T035343
CREATED:20231115T082506Z
LAST-MODIFIED:20231115T082511Z
UID:6265-1702558800-1702566000@www.ashlandsprimary.org.uk
SUMMARY:Years 5 and 6 Christmas Party
DESCRIPTION:
URL:https://www.ashlandsprimary.org.uk/event/years-5-and-6-christmas-party/
END:VEVENT
BEGIN:VEVENT
DTSTART;TZID=UTC:20231214T130000
DTEND;TZID=UTC:20231214T150000
DTSTAMP:20260421T035343
CREATED:20231115T082337Z
LAST-MODIFIED:20231115T082340Z
UID:6263-1702558800-1702566000@www.ashlandsprimary.org.uk
SUMMARY:Nursery and Reception Christmas Party
DESCRIPTION:
URL:https://www.ashlandsprimary.org.uk/event/nursery-and-reception-christmas-party/
END:VEVENT
BEGIN:VEVENT
DTSTART;TZID=UTC:20231214T100000
DTEND;TZID=UTC:20231214T113000
DTSTAMP:20260421T035343
CREATED:20231005T093244Z
LAST-MODIFIED:20231005T093247Z
UID:5532-1702548000-1702553400@www.ashlandsprimary.org.uk
SUMMARY:St Johns Church - KS2 Church Service
DESCRIPTION:
URL:https://www.ashlandsprimary.org.uk/event/st-johns-church-ks2-church-service-2/
END:VEVENT
BEGIN:VEVENT
DTSTART;TZID=UTC:20231213T144500
DTEND;TZID=UTC:20231213T153000
DTSTAMP:20260421T035343
CREATED:20231005T093154Z
LAST-MODIFIED:20231120T114702Z
UID:5529-1702478700-1702481400@www.ashlandsprimary.org.uk
SUMMARY:Nursery and Reception Nativity
DESCRIPTION:
URL:https://www.ashlandsprimary.org.uk/event/nursery-and-reception-nativity-3/
END:VEVENT
BEGIN:VEVENT
DTSTART;TZID=UTC:20231213T100000
DTEND;TZID=UTC:20231213T113000
DTSTAMP:20260421T035343
CREATED:20231005T093050Z
LAST-MODIFIED:20231005T093059Z
UID:5525-1702461600-1702467000@www.ashlandsprimary.org.uk
SUMMARY:St Johns Church - KS2 Church Service
DESCRIPTION:
URL:https://www.ashlandsprimary.org.uk/event/st-johns-church-ks2-church-service/
END:VEVENT
BEGIN:VEVENT
DTSTART;TZID=UTC:20231212T130000
DTEND;TZID=UTC:20231212T150000
DTSTAMP:20260421T035343
CREATED:20231115T081831Z
LAST-MODIFIED:20231115T081833Z
UID:6261-1702386000-1702393200@www.ashlandsprimary.org.uk
SUMMARY:Years 3 and 4 Christmas Party
DESCRIPTION:
URL:https://www.ashlandsprimary.org.uk/event/years-3-and-4-christmas-party/
END:VEVENT
BEGIN:VEVENT
DTSTART;TZID=UTC:20231211T130000
DTEND;TZID=UTC:20231211T150000
DTSTAMP:20260421T035343
CREATED:20231115T081719Z
LAST-MODIFIED:20231115T081719Z
UID:6259-1702299600-1702306800@www.ashlandsprimary.org.uk
SUMMARY:Key Stage 1 Christmas Party
DESCRIPTION:
URL:https://www.ashlandsprimary.org.uk/event/key-stage-1-christmas-party-2/
END:VEVENT
BEGIN:VEVENT
DTSTART;TZID=UTC:20231211T090000
DTEND;TZID=UTC:20231211T113000
DTSTAMP:20260421T035343
CREATED:20231005T093001Z
LAST-MODIFIED:20231005T093004Z
UID:5520-1702285200-1702294200@www.ashlandsprimary.org.uk
SUMMARY:St Johns Church - Dress Rehearsal - KS2 - children only (not parents)
DESCRIPTION:
URL:https://www.ashlandsprimary.org.uk/event/st-johns-church-dress-rehearsal-ks2-children-only-not-parents/
END:VEVENT
BEGIN:VEVENT
DTSTART;TZID=UTC:20231208T153000
DTEND;TZID=UTC:20231208T193000
DTSTAMP:20260421T035343
CREATED:20231005T092854Z
LAST-MODIFIED:20231114T113848Z
UID:5517-1702049400-1702063800@www.ashlandsprimary.org.uk
SUMMARY:Christmas Fair
DESCRIPTION:
URL:https://www.ashlandsprimary.org.uk/event/christmas-fair-2/
END:VEVENT
BEGIN:VEVENT
DTSTART;TZID=UTC:20231207T093000
DTEND;TZID=UTC:20231207T103000
DTSTAMP:20260421T035343
CREATED:20231005T092813Z
LAST-MODIFIED:20231005T092815Z
UID:5515-1701941400-1701945000@www.ashlandsprimary.org.uk
SUMMARY:KS1 Christmas Nativity
DESCRIPTION:
URL:https://www.ashlandsprimary.org.uk/event/ks1-christmas-nativity/
END:VEVENT
BEGIN:VEVENT
DTSTART;TZID=UTC:20231207T090000
DTEND;TZID=UTC:20231207T153000
DTSTAMP:20260421T035343
CREATED:20231005T103936Z
LAST-MODIFIED:20231116T104640Z
UID:5600-1701939600-1701963000@www.ashlandsprimary.org.uk
SUMMARY:National Christmas Jumper Day
DESCRIPTION:
URL:https://www.ashlandsprimary.org.uk/event/national-christmas-jumper-day/
END:VEVENT
BEGIN:VEVENT
DTSTART;TZID=UTC:20231206T120000
DTEND;TZID=UTC:20231206T130000
DTSTAMP:20260421T035343
CREATED:20230921T080303Z
LAST-MODIFIED:20231116T102223Z
UID:5114-1701864000-1701867600@www.ashlandsprimary.org.uk
SUMMARY:Christmas lunch
DESCRIPTION:
URL:https://www.ashlandsprimary.org.uk/event/christmas-lunch-and-christmas-jumper-day/
END:VEVENT
BEGIN:VEVENT
DTSTART;TZID=UTC:20231204T130000
DTEND;TZID=UTC:20231204T153000
DTSTAMP:20260421T035343
CREATED:20231116T102115Z
LAST-MODIFIED:20231116T102118Z
UID:6296-1701694800-1701703800@www.ashlandsprimary.org.uk
SUMMARY:KS1 visit to Church to watch Peter Pan
DESCRIPTION:
URL:https://www.ashlandsprimary.org.uk/event/ks1-visit-to-church-to-watch-peter-pan/
END:VEVENT
BEGIN:VEVENT
DTSTART;TZID=UTC:20231130T130000
DTEND;TZID=UTC:20231130T150000
DTSTAMP:20260421T035343
CREATED:20231115T120410Z
LAST-MODIFIED:20231115T120413Z
UID:6294-1701349200-1701356400@www.ashlandsprimary.org.uk
SUMMARY:Reception visit to the Library
DESCRIPTION:
URL:https://www.ashlandsprimary.org.uk/event/reception-visit-to-the-library/
END:VEVENT
BEGIN:VEVENT
DTSTART;TZID=UTC:20231129T144500
DTEND;TZID=UTC:20231129T153000
DTSTAMP:20260421T035343
CREATED:20231115T120313Z
LAST-MODIFIED:20231120T115456Z
UID:6292-1701269100-1701271800@www.ashlandsprimary.org.uk
SUMMARY:Year 5 Celebration Assembly
DESCRIPTION:
URL:https://www.ashlandsprimary.org.uk/event/year-5-celebration-assembly-2-45pm/
END:VEVENT
BEGIN:VEVENT
DTSTART;TZID=UTC:20231129T093000
DTEND;TZID=UTC:20231129T113000
DTSTAMP:20260421T035343
CREATED:20231005T092534Z
LAST-MODIFIED:20231120T113841Z
UID:5513-1701250200-1701257400@www.ashlandsprimary.org.uk
SUMMARY:Open Morning
DESCRIPTION:
URL:https://www.ashlandsprimary.org.uk/event/open-morning-2/
END:VEVENT
BEGIN:VEVENT
DTSTART;TZID=UTC:20231129T090000
DTEND;TZID=UTC:20231129T153000
DTSTAMP:20260421T035343
CREATED:20231115T120144Z
LAST-MODIFIED:20231115T120146Z
UID:6290-1701248400-1701271800@www.ashlandsprimary.org.uk
SUMMARY:Year 3 Trip to Nell Bank
DESCRIPTION:
URL:https://www.ashlandsprimary.org.uk/event/year-3-trip-to-nell-bank/
END:VEVENT
BEGIN:VEVENT
DTSTART;TZID=UTC:20231128T144500
DTEND;TZID=UTC:20231128T153000
DTSTAMP:20260421T035343
CREATED:20231115T115920Z
LAST-MODIFIED:20231120T115439Z
UID:6288-1701182700-1701185400@www.ashlandsprimary.org.uk
SUMMARY:Year 4 Celebration Assembly
DESCRIPTION:
URL:https://www.ashlandsprimary.org.uk/event/year-4-celebration-assembly-2-45pm/
END:VEVENT
BEGIN:VEVENT
DTSTART;TZID=UTC:20231124T150000
DTEND;TZID=UTC:20231124T153000
DTSTAMP:20260421T035343
CREATED:20231115T115735Z
LAST-MODIFIED:20231120T113734Z
UID:6286-1700838000-1700839800@www.ashlandsprimary.org.uk
SUMMARY:Year 2 Share and Celebrate
DESCRIPTION:
URL:https://www.ashlandsprimary.org.uk/event/year-2-share-and-celebrate-2-45pm/
END:VEVENT
BEGIN:VEVENT
DTSTART;TZID=UTC:20231124T093000
DTEND;TZID=UTC:20231124T110000
DTSTAMP:20260421T035343
CREATED:20231115T115543Z
LAST-MODIFIED:20231115T115546Z
UID:6283-1700818200-1700823600@www.ashlandsprimary.org.uk
SUMMARY:Reception visit to the Fire Station
DESCRIPTION:
URL:https://www.ashlandsprimary.org.uk/event/reception-visit-to-the-fire-station/
END:VEVENT
END:VCALENDAR