BEGIN:VCALENDAR
VERSION:2.0
PRODID:-//Ashlands Primary School - ECPv6.15.17.1//NONSGML v1.0//EN
CALSCALE:GREGORIAN
METHOD:PUBLISH
X-WR-CALNAME:Ashlands Primary School
X-ORIGINAL-URL:https://www.ashlandsprimary.org.uk
X-WR-CALDESC:Events for Ashlands Primary School
REFRESH-INTERVAL;VALUE=DURATION:PT1H
X-Robots-Tag:noindex
X-PUBLISHED-TTL:PT1H
BEGIN:VTIMEZONE
TZID:UTC
BEGIN:STANDARD
TZOFFSETFROM:+0000
TZOFFSETTO:+0000
TZNAME:UTC
DTSTART:20210101T000000
END:STANDARD
END:VTIMEZONE
BEGIN:VEVENT
DTSTART;VALUE=DATE:20220408
DTEND;VALUE=DATE:20220409
DTSTAMP:20260422T223957
CREATED:20220401T105002Z
LAST-MODIFIED:20220401T105002Z
UID:853-1649376000-1649462399@www.ashlandsprimary.org.uk
SUMMARY:Circus
DESCRIPTION:Years 1 – 6
URL:https://www.ashlandsprimary.org.uk/event/circus/
END:VEVENT
BEGIN:VEVENT
DTSTART;TZID=UTC:20220407T160000
DTEND;TZID=UTC:20220407T190000
DTSTAMP:20260422T223957
CREATED:20220401T104740Z
LAST-MODIFIED:20220401T104740Z
UID:849-1649347200-1649358000@www.ashlandsprimary.org.uk
SUMMARY:Spring Term Parents Evening - 4 Yew only
DESCRIPTION:
URL:https://www.ashlandsprimary.org.uk/event/spring-term-parents-evening-4-yew-only/
END:VEVENT
BEGIN:VEVENT
DTSTART;TZID=UTC:20220406T160000
DTEND;TZID=UTC:20220406T200000
DTSTAMP:20260422T223957
CREATED:20220401T104641Z
LAST-MODIFIED:20220401T104641Z
UID:846-1649260800-1649275200@www.ashlandsprimary.org.uk
SUMMARY:Spring Term Parents Evening
DESCRIPTION:For whole school including 4 Yew
URL:https://www.ashlandsprimary.org.uk/event/spring-term-parents-evening-2/
END:VEVENT
BEGIN:VEVENT
DTSTART;TZID=UTC:20220405T160000
DTEND;TZID=UTC:20220405T190000
DTSTAMP:20260422T223957
CREATED:20220401T104602Z
LAST-MODIFIED:20220401T104700Z
UID:844-1649174400-1649185200@www.ashlandsprimary.org.uk
SUMMARY:Spring Term Parents Evening
DESCRIPTION:For whole school except 4 Yew
URL:https://www.ashlandsprimary.org.uk/event/spring-term-parents-evening/
END:VEVENT
BEGIN:VEVENT
DTSTART;VALUE=DATE:20220328
DTEND;VALUE=DATE:20220402
DTSTAMP:20260422T223957
CREATED:20220401T104534Z
LAST-MODIFIED:20220401T104534Z
UID:842-1648425600-1648857599@www.ashlandsprimary.org.uk
SUMMARY:Autism Acceptance Week
DESCRIPTION:
URL:https://www.ashlandsprimary.org.uk/event/autism-acceptance-week/
END:VEVENT
END:VCALENDAR