BEGIN:VCALENDAR
VERSION:2.0
PRODID:-//Ashlands Primary School - ECPv6.15.17.1//NONSGML v1.0//EN
CALSCALE:GREGORIAN
METHOD:PUBLISH
X-WR-CALNAME:Ashlands Primary School
X-ORIGINAL-URL:https://www.ashlandsprimary.org.uk
X-WR-CALDESC:Events for Ashlands Primary School
REFRESH-INTERVAL;VALUE=DURATION:PT1H
X-Robots-Tag:noindex
X-PUBLISHED-TTL:PT1H
BEGIN:VTIMEZONE
TZID:UTC
BEGIN:STANDARD
TZOFFSETFROM:+0000
TZOFFSETTO:+0000
TZNAME:UTC
DTSTART:20240101T000000
END:STANDARD
END:VTIMEZONE
BEGIN:VEVENT
DTSTART;TZID=UTC:20250703T090000
DTEND;TZID=UTC:20250703T153000
DTSTAMP:20260419T235141
CREATED:20250424T140404Z
LAST-MODIFIED:20250424T140407Z
UID:9424-1751533200-1751556600@www.ashlandsprimary.org.uk
SUMMARY:Reception School Trip to Thornton Country Farm Park
DESCRIPTION:
URL:https://www.ashlandsprimary.org.uk/event/reception-school-trip-to-thornton-country-farm-park/
END:VEVENT
BEGIN:VEVENT
DTSTART;TZID=UTC:20250702T120000
DTEND;TZID=UTC:20250702T153000
DTSTAMP:20260419T235141
CREATED:20250613T130654Z
LAST-MODIFIED:20250613T130654Z
UID:9683-1751457600-1751470200@www.ashlandsprimary.org.uk
SUMMARY:Year 6 Bowling Trip
DESCRIPTION:
URL:https://www.ashlandsprimary.org.uk/event/year-6-bowling-trip-3/
END:VEVENT
BEGIN:VEVENT
DTSTART;TZID=UTC:20250702T091500
DTEND;TZID=UTC:20250702T113000
DTSTAMP:20260419T235141
CREATED:20250424T140252Z
LAST-MODIFIED:20250424T140255Z
UID:9422-1751447700-1751455800@www.ashlandsprimary.org.uk
SUMMARY:KS2 Sports Day
DESCRIPTION:
URL:https://www.ashlandsprimary.org.uk/event/ks2-sports-day-2/
END:VEVENT
BEGIN:VEVENT
DTSTART;TZID=UTC:20250630T090000
DTEND;TZID=UTC:20250630T153000
DTSTAMP:20260419T235141
CREATED:20250318T163259Z
LAST-MODIFIED:20250318T163302Z
UID:9299-1751274000-1751297400@www.ashlandsprimary.org.uk
SUMMARY:Year 1 Trip to Harlow Carr\, Harrogate
DESCRIPTION:
URL:https://www.ashlandsprimary.org.uk/event/year-1-trip-to-harlow-carr-harrogate-2/
END:VEVENT
BEGIN:VEVENT
DTSTART;TZID=UTC:20250627T085500
DTEND;TZID=UTC:20250627T093000
DTSTAMP:20260419T235141
CREATED:20241002T152900Z
LAST-MODIFIED:20241002T152902Z
UID:8247-1751014500-1751016600@www.ashlandsprimary.org.uk
SUMMARY:Class 3 Apple Swimming
DESCRIPTION:
URL:https://www.ashlandsprimary.org.uk/event/class-3-apple-swimming-7/
END:VEVENT
BEGIN:VEVENT
DTSTART;TZID=UTC:20250626T144500
DTEND;TZID=UTC:20250626T153000
DTSTAMP:20260419T235141
CREATED:20250424T140147Z
LAST-MODIFIED:20250424T140154Z
UID:9420-1750949100-1750951800@www.ashlandsprimary.org.uk
SUMMARY:Little Acorns 3 and 4 - Outdoor fun on the field
DESCRIPTION:
URL:https://www.ashlandsprimary.org.uk/event/little-acorns-3-and-4-outdoor-fun-on-the-field/
END:VEVENT
BEGIN:VEVENT
DTSTART;TZID=UTC:20250625T091500
DTEND;TZID=UTC:20250625T113000
DTSTAMP:20260419T235141
CREATED:20250424T140059Z
LAST-MODIFIED:20250424T140102Z
UID:9418-1750842900-1750851000@www.ashlandsprimary.org.uk
SUMMARY:KS1 Sports Day
DESCRIPTION:
URL:https://www.ashlandsprimary.org.uk/event/ks1-sports-day-2/
END:VEVENT
BEGIN:VEVENT
DTSTART;TZID=UTC:20250624T150000
DTEND;TZID=UTC:20250624T153000
DTSTAMP:20260419T235141
CREATED:20250424T135957Z
LAST-MODIFIED:20250424T140000Z
UID:9416-1750777200-1750779000@www.ashlandsprimary.org.uk
SUMMARY:Year 2 Share and Celebrate
DESCRIPTION:
URL:https://www.ashlandsprimary.org.uk/event/year-2-share-and-celebrate-7/
END:VEVENT
BEGIN:VEVENT
DTSTART;TZID=UTC:20250623T150000
DTEND;TZID=UTC:20250623T153000
DTSTAMP:20260419T235141
CREATED:20250424T135910Z
LAST-MODIFIED:20250424T135914Z
UID:9414-1750690800-1750692600@www.ashlandsprimary.org.uk
SUMMARY:Year 1 Share and Celebrate
DESCRIPTION:
URL:https://www.ashlandsprimary.org.uk/event/year-1-share-and-celebrate-7/
END:VEVENT
BEGIN:VEVENT
DTSTART;TZID=UTC:20250620T153000
DTEND;TZID=UTC:20250622T170000
DTSTAMP:20260419T235141
CREATED:20240925T130245Z
LAST-MODIFIED:20240925T130247Z
UID:7974-1750433400-1750611600@www.ashlandsprimary.org.uk
SUMMARY:Ashlands Camping Weekend
DESCRIPTION:
URL:https://www.ashlandsprimary.org.uk/event/ashlands-camping-weekend/
END:VEVENT
BEGIN:VEVENT
DTSTART;TZID=UTC:20250620T085500
DTEND;TZID=UTC:20250620T093000
DTSTAMP:20260419T235141
CREATED:20241002T152314Z
LAST-MODIFIED:20241002T152317Z
UID:8242-1750409700-1750411800@www.ashlandsprimary.org.uk
SUMMARY:Class 3 Apple Swimming
DESCRIPTION:
URL:https://www.ashlandsprimary.org.uk/event/class-3-apple-swimming-15/
END:VEVENT
BEGIN:VEVENT
DTSTART;TZID=UTC:20250617T150000
DTEND;TZID=UTC:20250617T153000
DTSTAMP:20260419T235141
CREATED:20250424T134314Z
LAST-MODIFIED:20250424T134319Z
UID:9408-1750172400-1750174200@www.ashlandsprimary.org.uk
SUMMARY:Year 3 Celebration Assembly
DESCRIPTION:
URL:https://www.ashlandsprimary.org.uk/event/year-3-celebration-assembly-5/
END:VEVENT
BEGIN:VEVENT
DTSTART;TZID=UTC:20250613T085500
DTEND;TZID=UTC:20250613T093000
DTSTAMP:20260419T235141
CREATED:20241002T152241Z
LAST-MODIFIED:20241002T152243Z
UID:8240-1749804900-1749807000@www.ashlandsprimary.org.uk
SUMMARY:Class 3 Apple Swimming
DESCRIPTION:
URL:https://www.ashlandsprimary.org.uk/event/class-3-apple-swimming-14/
END:VEVENT
BEGIN:VEVENT
DTSTART;TZID=UTC:20250612T150000
DTEND;TZID=UTC:20250612T153000
DTSTAMP:20260419T235141
CREATED:20250424T134202Z
LAST-MODIFIED:20250424T134241Z
UID:9406-1749740400-1749742200@www.ashlandsprimary.org.uk
SUMMARY:Year 5 Celebration Assembly
DESCRIPTION:
URL:https://www.ashlandsprimary.org.uk/event/year-5-celebration-assembly-4/
END:VEVENT
BEGIN:VEVENT
DTSTART;TZID=UTC:20250610T150000
DTEND;TZID=UTC:20250610T153000
DTSTAMP:20260419T235141
CREATED:20250424T134106Z
LAST-MODIFIED:20250424T134122Z
UID:9404-1749567600-1749569400@www.ashlandsprimary.org.uk
SUMMARY:Year 4 Celebration Assembly
DESCRIPTION:
URL:https://www.ashlandsprimary.org.uk/event/year-4-celebration-assembly-4/
END:VEVENT
BEGIN:VEVENT
DTSTART;TZID=UTC:20250606T085500
DTEND;TZID=UTC:20250606T093000
DTSTAMP:20260419T235141
CREATED:20241002T152209Z
LAST-MODIFIED:20241002T152210Z
UID:8238-1749200100-1749202200@www.ashlandsprimary.org.uk
SUMMARY:Class 3 Apple Swimming
DESCRIPTION:
URL:https://www.ashlandsprimary.org.uk/event/class-3-apple-swimming-13/
END:VEVENT
BEGIN:VEVENT
DTSTART;TZID=UTC:20250605T090000
DTEND;TZID=UTC:20250605T153000
DTSTAMP:20260419T235141
CREATED:20250424T094132Z
LAST-MODIFIED:20250424T094135Z
UID:9391-1749114000-1749137400@www.ashlandsprimary.org.uk
SUMMARY:Year 2 Trip to Skipton Castle
DESCRIPTION:
URL:https://www.ashlandsprimary.org.uk/event/year-2-trip-to-skipton-castle-2/
END:VEVENT
BEGIN:VEVENT
DTSTART;TZID=UTC:20250603T085500
DTEND;TZID=UTC:20250603T085500
DTSTAMP:20260419T235141
CREATED:20240925T131303Z
LAST-MODIFIED:20240925T131305Z
UID:7990-1748940900-1748940900@www.ashlandsprimary.org.uk
SUMMARY:School Re-opens
DESCRIPTION:
URL:https://www.ashlandsprimary.org.uk/event/school-re-opens-6/
END:VEVENT
BEGIN:VEVENT
DTSTART;TZID=UTC:20250523T153000
DTEND;TZID=UTC:20250523T153000
DTSTAMP:20260419T235141
CREATED:20240925T131204Z
LAST-MODIFIED:20240925T131206Z
UID:7988-1748014200-1748014200@www.ashlandsprimary.org.uk
SUMMARY:Break Up
DESCRIPTION:
URL:https://www.ashlandsprimary.org.uk/event/break-up-19/
END:VEVENT
BEGIN:VEVENT
DTSTART;TZID=UTC:20250523T085500
DTEND;TZID=UTC:20250523T093000
DTSTAMP:20260419T235141
CREATED:20241002T152101Z
LAST-MODIFIED:20241002T152104Z
UID:8235-1747990500-1747992600@www.ashlandsprimary.org.uk
SUMMARY:Class 3 Apple Swimming
DESCRIPTION:
URL:https://www.ashlandsprimary.org.uk/event/class-3-apple-swimming-12/
END:VEVENT
BEGIN:VEVENT
DTSTART;TZID=UTC:20250518T090000
DTEND;TZID=UTC:20250518T170000
DTSTAMP:20260419T235141
CREATED:20240925T130146Z
LAST-MODIFIED:20240925T130148Z
UID:7972-1747558800-1747587600@www.ashlandsprimary.org.uk
SUMMARY:Pen Y Ghent Hike
DESCRIPTION:
URL:https://www.ashlandsprimary.org.uk/event/pen-y-ghent-hike/
END:VEVENT
BEGIN:VEVENT
DTSTART;TZID=UTC:20250516T085500
DTEND;TZID=UTC:20250516T093000
DTSTAMP:20260419T235141
CREATED:20241002T152028Z
LAST-MODIFIED:20241002T152029Z
UID:8233-1747385700-1747387800@www.ashlandsprimary.org.uk
SUMMARY:Class 3 Apple Swimming
DESCRIPTION:
URL:https://www.ashlandsprimary.org.uk/event/class-3-apple-swimming-11/
END:VEVENT
BEGIN:VEVENT
DTSTART;TZID=UTC:20250513T193000
DTEND;TZID=UTC:20250513T210000
DTSTAMP:20260419T235141
CREATED:20241119T105545Z
LAST-MODIFIED:20241119T110237Z
UID:8546-1747164600-1747170000@www.ashlandsprimary.org.uk
SUMMARY:Friends of Ashlands (PTA) meeting at The Black Hat\, Ilkley - All parents welcome
DESCRIPTION:
URL:https://www.ashlandsprimary.org.uk/event/friends-of-ashlands-pta-meeting-at-the-black-hat-ilkley-all-welcome-2/
END:VEVENT
BEGIN:VEVENT
DTSTART;TZID=UTC:20250512T090000
DTEND;TZID=UTC:20250515T120000
DTSTAMP:20260419T235141
CREATED:20250424T133920Z
LAST-MODIFIED:20250424T133924Z
UID:9402-1747040400-1747310400@www.ashlandsprimary.org.uk
SUMMARY:SATS Week
DESCRIPTION:
URL:https://www.ashlandsprimary.org.uk/event/sats-week/
END:VEVENT
BEGIN:VEVENT
DTSTART;TZID=UTC:20250509T085500
DTEND;TZID=UTC:20250509T093000
DTSTAMP:20260419T235141
CREATED:20241002T151948Z
LAST-MODIFIED:20241002T151950Z
UID:8231-1746780900-1746783000@www.ashlandsprimary.org.uk
SUMMARY:Class 3 Apple Swimming
DESCRIPTION:
URL:https://www.ashlandsprimary.org.uk/event/class-3-apple-swimming-10/
END:VEVENT
BEGIN:VEVENT
DTSTART;TZID=UTC:20250508T081500
DTEND;TZID=UTC:20250508T153000
DTSTAMP:20260419T235141
CREATED:20250326T150255Z
LAST-MODIFIED:20250326T150258Z
UID:9344-1746692100-1746718200@www.ashlandsprimary.org.uk
SUMMARY:Class 5 Cedar Trip to Oakwell Hall
DESCRIPTION:
URL:https://www.ashlandsprimary.org.uk/event/class-5-cedar-trip-to-oakwell-hall-2/
END:VEVENT
BEGIN:VEVENT
DTSTART;TZID=UTC:20250506T090000
DTEND;TZID=UTC:20250506T153000
DTSTAMP:20260419T235141
CREATED:20250326T163332Z
LAST-MODIFIED:20250326T163349Z
UID:9351-1746522000-1746545400@www.ashlandsprimary.org.uk
SUMMARY:School Photos - Class\, Individual and Sibling
DESCRIPTION:
URL:https://www.ashlandsprimary.org.uk/event/school-photos-class-individual-and-sibling/
END:VEVENT
BEGIN:VEVENT
DTSTART;TZID=UTC:20250505T090000
DTEND;TZID=UTC:20250505T120000
DTSTAMP:20260419T235141
CREATED:20240925T130102Z
LAST-MODIFIED:20240925T130104Z
UID:7970-1746435600-1746446400@www.ashlandsprimary.org.uk
SUMMARY:Ashlands Carnival Parade
DESCRIPTION:
URL:https://www.ashlandsprimary.org.uk/event/ashlands-carnival-parade/
END:VEVENT
BEGIN:VEVENT
DTSTART;TZID=UTC:20250502T085500
DTEND;TZID=UTC:20250502T093000
DTSTAMP:20260419T235141
CREATED:20241002T151917Z
LAST-MODIFIED:20241002T151919Z
UID:8229-1746176100-1746178200@www.ashlandsprimary.org.uk
SUMMARY:Class 3 Apple Swimming
DESCRIPTION:
URL:https://www.ashlandsprimary.org.uk/event/class-3-apple-swimming-9/
END:VEVENT
BEGIN:VEVENT
DTSTART;TZID=UTC:20250501T081500
DTEND;TZID=UTC:20250501T153000
DTSTAMP:20260419T235141
CREATED:20250326T150054Z
LAST-MODIFIED:20250326T150057Z
UID:9342-1746087300-1746113400@www.ashlandsprimary.org.uk
SUMMARY:Class 5 Hawthorn Trip to Oakwell Hall
DESCRIPTION:
URL:https://www.ashlandsprimary.org.uk/event/class-5-hawthorn-trip-to-oakwell-hall-2/
END:VEVENT
END:VCALENDAR