BEGIN:VCALENDAR
VERSION:2.0
PRODID:-//Ashlands Primary School - ECPv6.15.17.1//NONSGML v1.0//EN
CALSCALE:GREGORIAN
METHOD:PUBLISH
X-WR-CALNAME:Ashlands Primary School
X-ORIGINAL-URL:https://www.ashlandsprimary.org.uk
X-WR-CALDESC:Events for Ashlands Primary School
REFRESH-INTERVAL;VALUE=DURATION:PT1H
X-Robots-Tag:noindex
X-PUBLISHED-TTL:PT1H
BEGIN:VTIMEZONE
TZID:UTC
BEGIN:STANDARD
TZOFFSETFROM:+0000
TZOFFSETTO:+0000
TZNAME:UTC
DTSTART:20240101T000000
END:STANDARD
END:VTIMEZONE
BEGIN:VEVENT
DTSTART;TZID=UTC:20251022T160000
DTEND;TZID=UTC:20251022T190000
DTSTAMP:20260419T190030
CREATED:20251002T111619Z
LAST-MODIFIED:20251002T111624Z
UID:10177-1761148800-1761159600@www.ashlandsprimary.org.uk
SUMMARY:Parents Evening
DESCRIPTION:
URL:https://www.ashlandsprimary.org.uk/event/parents-evening-11/
END:VEVENT
BEGIN:VEVENT
DTSTART;TZID=UTC:20251021T090000
DTEND;TZID=UTC:20251021T120000
DTSTAMP:20260419T190030
CREATED:20250912T092711Z
LAST-MODIFIED:20250912T092715Z
UID:9878-1761037200-1761048000@www.ashlandsprimary.org.uk
SUMMARY:Year 6 Height and Weight with the School Nursing Team
DESCRIPTION:
URL:https://www.ashlandsprimary.org.uk/event/year-6-height-and-weight-with-the-school-nursing-team/
END:VEVENT
BEGIN:VEVENT
DTSTART;TZID=UTC:20251020T090000
DTEND;TZID=UTC:20251020T153000
DTSTAMP:20260419T190030
CREATED:20250709T132307Z
LAST-MODIFIED:20250709T132311Z
UID:9749-1760950800-1760974200@www.ashlandsprimary.org.uk
SUMMARY:Year 3 Trip to Stump Cross Caverns
DESCRIPTION:
URL:https://www.ashlandsprimary.org.uk/event/year-3-trip-to-stump-cross-caverns-2/
END:VEVENT
BEGIN:VEVENT
DTSTART;TZID=UTC:20251018T100000
DTEND;TZID=UTC:20251018T120000
DTSTAMP:20260419T190030
CREATED:20251002T111744Z
LAST-MODIFIED:20251015T100143Z
UID:10179-1760781600-1760788800@www.ashlandsprimary.org.uk
SUMMARY:Open Morning
DESCRIPTION:
URL:https://www.ashlandsprimary.org.uk/event/open-morning-8/
END:VEVENT
BEGIN:VEVENT
DTSTART;TZID=UTC:20251017T090000
DTEND;TZID=UTC:20251017T120000
DTSTAMP:20260419T190030
CREATED:20251002T110641Z
LAST-MODIFIED:20251002T110644Z
UID:10168-1760691600-1760702400@www.ashlandsprimary.org.uk
SUMMARY:Open Morning
DESCRIPTION:
URL:https://www.ashlandsprimary.org.uk/event/open-morning-6/
END:VEVENT
BEGIN:VEVENT
DTSTART;TZID=UTC:20251017T090000
DTEND;TZID=UTC:20251017T093000
DTSTAMP:20260419T190030
CREATED:20251002T112510Z
LAST-MODIFIED:20251002T113411Z
UID:10186-1760691600-1760693400@www.ashlandsprimary.org.uk
SUMMARY:3 Apple Swimming
DESCRIPTION:
URL:https://www.ashlandsprimary.org.uk/event/3-apple-swimming-3/
END:VEVENT
BEGIN:VEVENT
DTSTART;TZID=UTC:20251015T160000
DTEND;TZID=UTC:20251015T190000
DTSTAMP:20260419T190030
CREATED:20251002T111545Z
LAST-MODIFIED:20251002T111549Z
UID:10175-1760544000-1760554800@www.ashlandsprimary.org.uk
SUMMARY:Parents Evening
DESCRIPTION:
URL:https://www.ashlandsprimary.org.uk/event/parents-evening-10/
END:VEVENT
BEGIN:VEVENT
DTSTART;TZID=UTC:20251010T090000
DTEND;TZID=UTC:20251010T093000
DTSTAMP:20260419T190030
CREATED:20251002T112440Z
LAST-MODIFIED:20251002T113455Z
UID:10184-1760086800-1760088600@www.ashlandsprimary.org.uk
SUMMARY:3 Apple Swimming
DESCRIPTION:
URL:https://www.ashlandsprimary.org.uk/event/3-apple-swimming-2/
END:VEVENT
BEGIN:VEVENT
DTSTART;TZID=UTC:20251008T090000
DTEND;TZID=UTC:20251010T153000
DTSTAMP:20260419T190030
CREATED:20250912T092533Z
LAST-MODIFIED:20250912T092536Z
UID:9876-1759914000-1760110200@www.ashlandsprimary.org.uk
SUMMARY:Year 6 Residential
DESCRIPTION:
URL:https://www.ashlandsprimary.org.uk/event/year-6-residential-3/
END:VEVENT
BEGIN:VEVENT
DTSTART;TZID=UTC:20251003T090000
DTEND;TZID=UTC:20251003T093000
DTSTAMP:20260419T190030
CREATED:20251002T112410Z
LAST-MODIFIED:20251002T113112Z
UID:10182-1759482000-1759483800@www.ashlandsprimary.org.uk
SUMMARY:3 Apple Swimming
DESCRIPTION:
URL:https://www.ashlandsprimary.org.uk/event/3-apple-swimming/
END:VEVENT
BEGIN:VEVENT
DTSTART;TZID=UTC:20250930T090000
DTEND;TZID=UTC:20250930T153000
DTSTAMP:20260419T190030
CREATED:20250912T092249Z
LAST-MODIFIED:20250912T092252Z
UID:9874-1759222800-1759246200@www.ashlandsprimary.org.uk
SUMMARY:Individual and Sibling Photos
DESCRIPTION:
URL:https://www.ashlandsprimary.org.uk/event/individual-and-sibling-photos-3/
END:VEVENT
BEGIN:VEVENT
DTSTART;TZID=UTC:20250922T090000
DTEND;TZID=UTC:20250926T153000
DTSTAMP:20260419T190030
CREATED:20250912T092207Z
LAST-MODIFIED:20250912T092211Z
UID:9872-1758531600-1758900600@www.ashlandsprimary.org.uk
SUMMARY:Year 6 Bikeability
DESCRIPTION:
URL:https://www.ashlandsprimary.org.uk/event/year-6-bikeability-4/
END:VEVENT
BEGIN:VEVENT
DTSTART;VALUE=DATE:20250902
DTEND;VALUE=DATE:20250903
DTSTAMP:20260419T190030
CREATED:20241118T145615Z
LAST-MODIFIED:20241118T145619Z
UID:8518-1756771200-1756857599@www.ashlandsprimary.org.uk
SUMMARY:Return to school
DESCRIPTION:
URL:https://www.ashlandsprimary.org.uk/event/return-to-school-12/
END:VEVENT
BEGIN:VEVENT
DTSTART;TZID=UTC:20250718T153000
DTEND;TZID=UTC:20250718T153000
DTSTAMP:20260419T190030
CREATED:20240925T131349Z
LAST-MODIFIED:20240925T131351Z
UID:7993-1752852600-1752852600@www.ashlandsprimary.org.uk
SUMMARY:Break Up
DESCRIPTION:
URL:https://www.ashlandsprimary.org.uk/event/break-up-20/
END:VEVENT
BEGIN:VEVENT
DTSTART;TZID=UTC:20250718T091000
DTEND;TZID=UTC:20250718T100000
DTSTAMP:20260419T190030
CREATED:20250424T142114Z
LAST-MODIFIED:20250424T142117Z
UID:9433-1752829800-1752832800@www.ashlandsprimary.org.uk
SUMMARY:Year 6 Leaver's Assembly
DESCRIPTION:
URL:https://www.ashlandsprimary.org.uk/event/year-6-leavers-assembly-3/
END:VEVENT
BEGIN:VEVENT
DTSTART;TZID=UTC:20250718T085500
DTEND;TZID=UTC:20250718T093000
DTSTAMP:20260419T190030
CREATED:20241002T153336Z
LAST-MODIFIED:20241002T153338Z
UID:8251-1752828900-1752831000@www.ashlandsprimary.org.uk
SUMMARY:Class 3 Apple Swimming
DESCRIPTION:
URL:https://www.ashlandsprimary.org.uk/event/class-3-apple-swimming-18/
END:VEVENT
BEGIN:VEVENT
DTSTART;TZID=UTC:20250715T190000
DTEND;TZID=UTC:20250715T200000
DTSTAMP:20260419T190030
CREATED:20250424T142012Z
LAST-MODIFIED:20250424T142015Z
UID:9431-1752606000-1752609600@www.ashlandsprimary.org.uk
SUMMARY:Year 6 Show
DESCRIPTION:
URL:https://www.ashlandsprimary.org.uk/event/year-6-show-4/
END:VEVENT
BEGIN:VEVENT
DTSTART;TZID=UTC:20250714T190000
DTEND;TZID=UTC:20250714T200000
DTSTAMP:20260419T190030
CREATED:20250424T141934Z
LAST-MODIFIED:20250424T141937Z
UID:9429-1752519600-1752523200@www.ashlandsprimary.org.uk
SUMMARY:Year 6 Show
DESCRIPTION:
URL:https://www.ashlandsprimary.org.uk/event/year-6-show-3/
END:VEVENT
BEGIN:VEVENT
DTSTART;TZID=UTC:20250711T085500
DTEND;TZID=UTC:20250711T093000
DTSTAMP:20260419T190030
CREATED:20241002T153240Z
LAST-MODIFIED:20241002T153301Z
UID:8249-1752224100-1752226200@www.ashlandsprimary.org.uk
SUMMARY:Class 3 Apple Swimming
DESCRIPTION:
URL:https://www.ashlandsprimary.org.uk/event/class-3-apple-swimming-17/
END:VEVENT
BEGIN:VEVENT
DTSTART;TZID=UTC:20250709T160000
DTEND;TZID=UTC:20250709T190000
DTSTAMP:20260419T190030
CREATED:20250424T141548Z
LAST-MODIFIED:20250424T143144Z
UID:9427-1752076800-1752087600@www.ashlandsprimary.org.uk
SUMMARY:End of Year Disco
DESCRIPTION:
URL:https://www.ashlandsprimary.org.uk/event/end-of-year-disco/
END:VEVENT
BEGIN:VEVENT
DTSTART;TZID=UTC:20250708T193000
DTEND;TZID=UTC:20250708T210000
DTSTAMP:20260419T190030
CREATED:20241119T110112Z
LAST-MODIFIED:20241119T110115Z
UID:8548-1752003000-1752008400@www.ashlandsprimary.org.uk
SUMMARY:Friends of Ashlands (PTA) meeting at The Black Hat\, Ilkley - all parents welcome
DESCRIPTION:
URL:https://www.ashlandsprimary.org.uk/event/friends-of-ashlands-pta-meeting-at-the-black-hat-ilkley-all-parents-welcome/
END:VEVENT
BEGIN:VEVENT
DTSTART;TZID=UTC:20250708T180000
DTEND;TZID=UTC:20250708T193000
DTSTAMP:20260419T190030
CREATED:20250606T103034Z
LAST-MODIFIED:20250606T103039Z
UID:9627-1751997600-1752003000@www.ashlandsprimary.org.uk
SUMMARY:Year 6 Leavers Disco
DESCRIPTION:
URL:https://www.ashlandsprimary.org.uk/event/year-6-leavers-disco-2/
END:VEVENT
BEGIN:VEVENT
DTSTART;TZID=UTC:20250704T154500
DTEND;TZID=UTC:20250704T183000
DTSTAMP:20260419T190030
CREATED:20240925T130346Z
LAST-MODIFIED:20250613T130544Z
UID:7976-1751643900-1751653800@www.ashlandsprimary.org.uk
SUMMARY:Summer Fair
DESCRIPTION:
URL:https://www.ashlandsprimary.org.uk/event/summer-fair-2/
END:VEVENT
BEGIN:VEVENT
DTSTART;TZID=UTC:20250704T090000
DTEND;TZID=UTC:20250704T153000
DTSTAMP:20260419T190030
CREATED:20250424T142821Z
LAST-MODIFIED:20250424T142825Z
UID:9435-1751619600-1751643000@www.ashlandsprimary.org.uk
SUMMARY:Wear it Blue Day - Donate £1.00 to Airedale Hospital
DESCRIPTION:
URL:https://www.ashlandsprimary.org.uk/event/wear-it-blue-day-donate-1-00-to-airedale-hospital/
END:VEVENT
BEGIN:VEVENT
DTSTART;TZID=UTC:20250704T085500
DTEND;TZID=UTC:20250704T093000
DTSTAMP:20260419T190030
CREATED:20241002T152355Z
LAST-MODIFIED:20241002T152357Z
UID:8244-1751619300-1751621400@www.ashlandsprimary.org.uk
SUMMARY:Class 3 Apple Swimming
DESCRIPTION:
URL:https://www.ashlandsprimary.org.uk/event/class-3-apple-swimming-16/
END:VEVENT
BEGIN:VEVENT
DTSTART;TZID=UTC:20250703T090000
DTEND;TZID=UTC:20250703T153000
DTSTAMP:20260419T190030
CREATED:20250424T140404Z
LAST-MODIFIED:20250424T140407Z
UID:9424-1751533200-1751556600@www.ashlandsprimary.org.uk
SUMMARY:Reception School Trip to Thornton Country Farm Park
DESCRIPTION:
URL:https://www.ashlandsprimary.org.uk/event/reception-school-trip-to-thornton-country-farm-park/
END:VEVENT
BEGIN:VEVENT
DTSTART;TZID=UTC:20250702T120000
DTEND;TZID=UTC:20250702T153000
DTSTAMP:20260419T190030
CREATED:20250613T130654Z
LAST-MODIFIED:20250613T130654Z
UID:9683-1751457600-1751470200@www.ashlandsprimary.org.uk
SUMMARY:Year 6 Bowling Trip
DESCRIPTION:
URL:https://www.ashlandsprimary.org.uk/event/year-6-bowling-trip-3/
END:VEVENT
BEGIN:VEVENT
DTSTART;TZID=UTC:20250702T091500
DTEND;TZID=UTC:20250702T113000
DTSTAMP:20260419T190030
CREATED:20250424T140252Z
LAST-MODIFIED:20250424T140255Z
UID:9422-1751447700-1751455800@www.ashlandsprimary.org.uk
SUMMARY:KS2 Sports Day
DESCRIPTION:
URL:https://www.ashlandsprimary.org.uk/event/ks2-sports-day-2/
END:VEVENT
BEGIN:VEVENT
DTSTART;TZID=UTC:20250630T090000
DTEND;TZID=UTC:20250630T153000
DTSTAMP:20260419T190030
CREATED:20250318T163259Z
LAST-MODIFIED:20250318T163302Z
UID:9299-1751274000-1751297400@www.ashlandsprimary.org.uk
SUMMARY:Year 1 Trip to Harlow Carr\, Harrogate
DESCRIPTION:
URL:https://www.ashlandsprimary.org.uk/event/year-1-trip-to-harlow-carr-harrogate-2/
END:VEVENT
BEGIN:VEVENT
DTSTART;TZID=UTC:20250627T085500
DTEND;TZID=UTC:20250627T093000
DTSTAMP:20260419T190030
CREATED:20241002T152900Z
LAST-MODIFIED:20241002T152902Z
UID:8247-1751014500-1751016600@www.ashlandsprimary.org.uk
SUMMARY:Class 3 Apple Swimming
DESCRIPTION:
URL:https://www.ashlandsprimary.org.uk/event/class-3-apple-swimming-7/
END:VEVENT
END:VCALENDAR