BEGIN:VCALENDAR
VERSION:2.0
PRODID:-//Ashlands Primary School - ECPv6.15.17.1//NONSGML v1.0//EN
CALSCALE:GREGORIAN
METHOD:PUBLISH
X-WR-CALNAME:Ashlands Primary School
X-ORIGINAL-URL:https://www.ashlandsprimary.org.uk
X-WR-CALDESC:Events for Ashlands Primary School
REFRESH-INTERVAL;VALUE=DURATION:PT1H
X-Robots-Tag:noindex
X-PUBLISHED-TTL:PT1H
BEGIN:VTIMEZONE
TZID:UTC
BEGIN:STANDARD
TZOFFSETFROM:+0000
TZOFFSETTO:+0000
TZNAME:UTC
DTSTART:20210101T000000
END:STANDARD
END:VTIMEZONE
BEGIN:VEVENT
DTSTART;TZID=UTC:20221212T133000
DTEND;TZID=UTC:20221212T153000
DTSTAMP:20260421T200617
CREATED:20221108T160950Z
LAST-MODIFIED:20221108T160950Z
UID:2716-1670851800-1670859000@www.ashlandsprimary.org.uk
SUMMARY:Key Stage 1 Christmas Party
DESCRIPTION:
URL:https://www.ashlandsprimary.org.uk/event/key-stage-1-christmas-party/
END:VEVENT
BEGIN:VEVENT
DTSTART;TZID=UTC:20221212T090000
DTEND;TZID=UTC:20221212T120000
DTSTAMP:20260421T200617
CREATED:20221005T153248Z
LAST-MODIFIED:20221005T153248Z
UID:2401-1670835600-1670846400@www.ashlandsprimary.org.uk
SUMMARY:KS2 Dress Rehearsal St Johns Church
DESCRIPTION:
URL:https://www.ashlandsprimary.org.uk/event/ks2-dress-rehearsal-st-johns-church/
END:VEVENT
BEGIN:VEVENT
DTSTART;VALUE=DATE:20221212
DTEND;VALUE=DATE:20221213
DTSTAMP:20260421T200617
CREATED:20221005T153455Z
LAST-MODIFIED:20221005T154642Z
UID:2405-1670803200-1670889599@www.ashlandsprimary.org.uk
SUMMARY:Reception and Nursery Christmas Party
DESCRIPTION:
URL:https://www.ashlandsprimary.org.uk/event/reception-and-nursery-christmas-party/
END:VEVENT
BEGIN:VEVENT
DTSTART;VALUE=DATE:20221212
DTEND;VALUE=DATE:20221213
DTSTAMP:20260421T200617
CREATED:20221005T153406Z
LAST-MODIFIED:20221005T154602Z
UID:2403-1670803200-1670889599@www.ashlandsprimary.org.uk
SUMMARY:Year 1 and Year 2 Christmas Party
DESCRIPTION:
URL:https://www.ashlandsprimary.org.uk/event/year-1-and-year-2-christmas-party/
END:VEVENT
BEGIN:VEVENT
DTSTART;TZID=UTC:20221209T150000
DTEND;TZID=UTC:20221209T153000
DTSTAMP:20260421T200617
CREATED:20221005T151942Z
LAST-MODIFIED:20221005T151942Z
UID:2395-1670598000-1670599800@www.ashlandsprimary.org.uk
SUMMARY:Year 6 Share and Celebrate
DESCRIPTION:
URL:https://www.ashlandsprimary.org.uk/event/year-6-share-and-celebrate/
END:VEVENT
BEGIN:VEVENT
DTSTART;VALUE=DATE:20221209
DTEND;VALUE=DATE:20221210
DTSTAMP:20260421T200617
CREATED:20221005T152034Z
LAST-MODIFIED:20221005T154949Z
UID:2397-1670544000-1670630399@www.ashlandsprimary.org.uk
SUMMARY:KS1 Christmas Performance
DESCRIPTION:
URL:https://www.ashlandsprimary.org.uk/event/ks1-christmas-performance/
END:VEVENT
BEGIN:VEVENT
DTSTART;TZID=UTC:20221208T150000
DTEND;TZID=UTC:20221208T153000
DTSTAMP:20260421T200617
CREATED:20221005T151827Z
LAST-MODIFIED:20221005T151827Z
UID:2393-1670511600-1670513400@www.ashlandsprimary.org.uk
SUMMARY:Year 5 Share and Celebrate
DESCRIPTION:
URL:https://www.ashlandsprimary.org.uk/event/year-5-share-and-celebrate/
END:VEVENT
BEGIN:VEVENT
DTSTART;TZID=UTC:20221208T093000
DTEND;TZID=UTC:20221208T103000
DTSTAMP:20260421T200617
CREATED:20221108T160624Z
LAST-MODIFIED:20221108T160624Z
UID:2714-1670491800-1670495400@www.ashlandsprimary.org.uk
SUMMARY:Nursery and Reception Nativity
DESCRIPTION:
URL:https://www.ashlandsprimary.org.uk/event/nursery-and-reception-nativity-2/
END:VEVENT
BEGIN:VEVENT
DTSTART;TZID=UTC:20221207T150000
DTEND;TZID=UTC:20221207T153000
DTSTAMP:20260421T200617
CREATED:20221005T151517Z
LAST-MODIFIED:20221005T151517Z
UID:2389-1670425200-1670427000@www.ashlandsprimary.org.uk
SUMMARY:Year 4 Share and Celebrate
DESCRIPTION:
URL:https://www.ashlandsprimary.org.uk/event/year-4-share-and-celebrate/
END:VEVENT
BEGIN:VEVENT
DTSTART;TZID=UTC:20221207T093000
DTEND;TZID=UTC:20221207T103000
DTSTAMP:20260421T200617
CREATED:20221005T151655Z
LAST-MODIFIED:20221005T151655Z
UID:2391-1670405400-1670409000@www.ashlandsprimary.org.uk
SUMMARY:Nursery and Reception Nativity
DESCRIPTION:
URL:https://www.ashlandsprimary.org.uk/event/nursery-and-reception-nativity/
END:VEVENT
BEGIN:VEVENT
DTSTART;TZID=UTC:20221207T080000
DTEND;TZID=UTC:20221207T170000
DTSTAMP:20260421T200617
CREATED:20221108T155249Z
LAST-MODIFIED:20221108T155249Z
UID:2705-1670400000-1670432400@www.ashlandsprimary.org.uk
SUMMARY:Christmas Jumper Day
DESCRIPTION:
URL:https://www.ashlandsprimary.org.uk/event/christmas-jumper-day-2/
END:VEVENT
BEGIN:VEVENT
DTSTART;TZID=UTC:20221206T150000
DTEND;TZID=UTC:20221206T153000
DTSTAMP:20260421T200617
CREATED:20221005T151243Z
LAST-MODIFIED:20221005T151243Z
UID:2385-1670338800-1670340600@www.ashlandsprimary.org.uk
SUMMARY:Year 3 Share and Celebrate
DESCRIPTION:
URL:https://www.ashlandsprimary.org.uk/event/year-3-share-and-celebrate/
END:VEVENT
BEGIN:VEVENT
DTSTART;VALUE=DATE:20221206
DTEND;VALUE=DATE:20221207
DTSTAMP:20260421T200617
CREATED:20221005T151415Z
LAST-MODIFIED:20221005T154718Z
UID:2387-1670284800-1670371199@www.ashlandsprimary.org.uk
SUMMARY:Friends of Ashlands - Festive Wreath Workshop
DESCRIPTION:
URL:https://www.ashlandsprimary.org.uk/event/friends-of-ashlands-festive-wreath-workshop/
END:VEVENT
BEGIN:VEVENT
DTSTART;TZID=UTC:20221205T150000
DTEND;TZID=UTC:20221205T153000
DTSTAMP:20260421T200617
CREATED:20221108T160445Z
LAST-MODIFIED:20221108T160445Z
UID:2712-1670252400-1670254200@www.ashlandsprimary.org.uk
SUMMARY:Year 1 Share and Celebrate
DESCRIPTION:
URL:https://www.ashlandsprimary.org.uk/event/year-1-share-and-celebrate/
END:VEVENT
BEGIN:VEVENT
DTSTART;VALUE=DATE:20221203
DTEND;VALUE=DATE:20221204
DTSTAMP:20260421T200617
CREATED:20221005T150457Z
LAST-MODIFIED:20221005T154801Z
UID:2381-1670025600-1670111999@www.ashlandsprimary.org.uk
SUMMARY:Christmas Fair
DESCRIPTION:
URL:https://www.ashlandsprimary.org.uk/event/christmas-fair/
END:VEVENT
BEGIN:VEVENT
DTSTART;TZID=UTC:20221202T150000
DTEND;TZID=UTC:20221202T153000
DTSTAMP:20260421T200617
CREATED:20221108T160306Z
LAST-MODIFIED:20221108T160306Z
UID:2710-1669993200-1669995000@www.ashlandsprimary.org.uk
SUMMARY:Year 2 Share and Celebrate
DESCRIPTION:
URL:https://www.ashlandsprimary.org.uk/event/year-2-share-and-celebrate-2/
END:VEVENT
BEGIN:VEVENT
DTSTART;TZID=UTC:20221130T150000
DTEND;TZID=UTC:20221130T153000
DTSTAMP:20260421T200617
CREATED:20221005T142057Z
LAST-MODIFIED:20221005T142057Z
UID:2374-1669820400-1669822200@www.ashlandsprimary.org.uk
SUMMARY:Reception Stay and Play
DESCRIPTION:
URL:https://www.ashlandsprimary.org.uk/event/reception-stay-and-play/
END:VEVENT
BEGIN:VEVENT
DTSTART;TZID=UTC:20221129T090000
DTEND;TZID=UTC:20221129T120000
DTSTAMP:20260421T200617
CREATED:20221017T131315Z
LAST-MODIFIED:20221017T131315Z
UID:2535-1669712400-1669723200@www.ashlandsprimary.org.uk
SUMMARY:Flu Immunisation Team - Reception to Year 6
DESCRIPTION:
URL:https://www.ashlandsprimary.org.uk/event/flu-immunisation-team-reception-to-year-6/
END:VEVENT
BEGIN:VEVENT
DTSTART;TZID=UTC:20221121T090000
DTEND;TZID=UTC:20221121T120000
DTSTAMP:20260421T200617
CREATED:20221108T155109Z
LAST-MODIFIED:20221108T155109Z
UID:2703-1669021200-1669032000@www.ashlandsprimary.org.uk
SUMMARY:Tempus Fugit Theatre Company - Years 5 and 6
DESCRIPTION:
URL:https://www.ashlandsprimary.org.uk/event/tempus-fugit-theatre-company-years-5-and-6/
END:VEVENT
BEGIN:VEVENT
DTSTART;TZID=UTC:20221118T091500
DTEND;TZID=UTC:20221118T111500
DTSTAMP:20260421T200617
CREATED:20220930T103040Z
LAST-MODIFIED:20220930T103040Z
UID:2345-1668762900-1668770100@www.ashlandsprimary.org.uk
SUMMARY:Open Day
DESCRIPTION:
URL:https://www.ashlandsprimary.org.uk/event/open-day-2/
END:VEVENT
BEGIN:VEVENT
DTSTART;TZID=UTC:20221117T131500
DTEND;TZID=UTC:20221117T151500
DTSTAMP:20260421T200617
CREATED:20220930T102959Z
LAST-MODIFIED:20220930T103110Z
UID:2343-1668690900-1668698100@www.ashlandsprimary.org.uk
SUMMARY:Open Day
DESCRIPTION:
URL:https://www.ashlandsprimary.org.uk/event/open-day/
END:VEVENT
BEGIN:VEVENT
DTSTART;TZID=UTC:20221114T193000
DTEND;TZID=UTC:20221114T213000
DTSTAMP:20260421T200617
CREATED:20221108T160042Z
LAST-MODIFIED:20221108T160042Z
UID:2707-1668454200-1668461400@www.ashlandsprimary.org.uk
SUMMARY:Friends of Ashlands AGM - The Black Hat
DESCRIPTION:
URL:https://www.ashlandsprimary.org.uk/event/friends-of-ashlands-agm-the-black-hat/
END:VEVENT
BEGIN:VEVENT
DTSTART;TZID=UTC:20221105T180000
DTEND;TZID=UTC:20221105T200000
DTSTAMP:20260421T200617
CREATED:20221005T141416Z
LAST-MODIFIED:20221005T141416Z
UID:2372-1667671200-1667678400@www.ashlandsprimary.org.uk
SUMMARY:Friends of Ashlands Bonfire Night
DESCRIPTION:
URL:https://www.ashlandsprimary.org.uk/event/friends-of-ashlands-bonfire-night/
END:VEVENT
BEGIN:VEVENT
DTSTART;TZID=UTC:20221101T090000
DTEND;TZID=UTC:20221101T093000
DTSTAMP:20260421T200617
CREATED:20221005T141157Z
LAST-MODIFIED:20221005T141157Z
UID:2370-1667293200-1667295000@www.ashlandsprimary.org.uk
SUMMARY:Year 5 and Year 6 Celebration Assembly
DESCRIPTION:
URL:https://www.ashlandsprimary.org.uk/event/year-5-and-year-6-celebration-assembly/
END:VEVENT
BEGIN:VEVENT
DTSTART;TZID=UTC:20221021T093000
DTEND;TZID=UTC:20221021T113000
DTSTAMP:20260421T200617
CREATED:20221011T151327Z
LAST-MODIFIED:20221011T151327Z
UID:2494-1666344600-1666351800@www.ashlandsprimary.org.uk
SUMMARY:Year 6 Kings Hall Literature Festival
DESCRIPTION:
URL:https://www.ashlandsprimary.org.uk/event/year-6-kings-hall-literature-festival/
END:VEVENT
BEGIN:VEVENT
DTSTART;TZID=UTC:20221021T090000
DTEND;TZID=UTC:20221021T120000
DTSTAMP:20260421T200617
CREATED:20220916T143518Z
LAST-MODIFIED:20220916T143518Z
UID:2277-1666342800-1666353600@www.ashlandsprimary.org.uk
SUMMARY:Halloween Fancy Dress\, Pumpkin Carving and Bake Sale
DESCRIPTION:
URL:https://www.ashlandsprimary.org.uk/event/halloween-fancy-dress-pumpkin-carving-and-bake-sale/
END:VEVENT
BEGIN:VEVENT
DTSTART;TZID=UTC:20221019T160000
DTEND;TZID=UTC:20221019T190000
DTSTAMP:20260421T200617
CREATED:20220927T072631Z
LAST-MODIFIED:20220927T072631Z
UID:2323-1666195200-1666206000@www.ashlandsprimary.org.uk
SUMMARY:Autumn Term Parents Evening
DESCRIPTION:Parents Evening will be held in the classroom unless you are otherwise notified
URL:https://www.ashlandsprimary.org.uk/event/autumn-term-parents-evening-2/
END:VEVENT
BEGIN:VEVENT
DTSTART;TZID=UTC:20221018T160000
DTEND;TZID=UTC:20221018T190000
DTSTAMP:20260421T200617
CREATED:20220927T072504Z
LAST-MODIFIED:20220927T072504Z
UID:2321-1666108800-1666119600@www.ashlandsprimary.org.uk
SUMMARY:Autumn Term Parents Evening
DESCRIPTION:Parents Evening will be held in the classroom unless you are otherwise notified
URL:https://www.ashlandsprimary.org.uk/event/autumn-term-parents-evening/
END:VEVENT
BEGIN:VEVENT
DTSTART;TZID=UTC:20221018T090000
DTEND;TZID=UTC:20221018T100000
DTSTAMP:20260421T200617
CREATED:20220916T142740Z
LAST-MODIFIED:20220916T142740Z
UID:2275-1666083600-1666087200@www.ashlandsprimary.org.uk
SUMMARY:Year 3 and 4 Celebration Assembly
DESCRIPTION:
URL:https://www.ashlandsprimary.org.uk/event/year-3-and-4-celebration-assembly/
END:VEVENT
BEGIN:VEVENT
DTSTART;TZID=UTC:20221015T090000
DTEND;TZID=UTC:20221015T120000
DTSTAMP:20260421T200617
CREATED:20220916T142532Z
LAST-MODIFIED:20220916T142532Z
UID:2271-1665824400-1665835200@www.ashlandsprimary.org.uk
SUMMARY:Ashlands Cross Country
DESCRIPTION:
URL:https://www.ashlandsprimary.org.uk/event/ashlands-cross-country/
END:VEVENT
END:VCALENDAR