BEGIN:VCALENDAR
VERSION:2.0
PRODID:-//Ashlands Primary School - ECPv6.15.17.1//NONSGML v1.0//EN
CALSCALE:GREGORIAN
METHOD:PUBLISH
X-WR-CALNAME:Ashlands Primary School
X-ORIGINAL-URL:https://www.ashlandsprimary.org.uk
X-WR-CALDESC:Events for Ashlands Primary School
REFRESH-INTERVAL;VALUE=DURATION:PT1H
X-Robots-Tag:noindex
X-PUBLISHED-TTL:PT1H
BEGIN:VTIMEZONE
TZID:UTC
BEGIN:STANDARD
TZOFFSETFROM:+0000
TZOFFSETTO:+0000
TZNAME:UTC
DTSTART:20230101T000000
END:STANDARD
END:VTIMEZONE
BEGIN:VEVENT
DTSTART;TZID=UTC:20240316T090000
DTEND;TZID=UTC:20240316T120000
DTSTAMP:20260420T220705
CREATED:20240105T113354Z
LAST-MODIFIED:20240105T113356Z
UID:6549-1710579600-1710590400@www.ashlandsprimary.org.uk
SUMMARY:Nell Bank Relays
DESCRIPTION:
URL:https://www.ashlandsprimary.org.uk/event/nell-bank-relays/
END:VEVENT
BEGIN:VEVENT
DTSTART;TZID=UTC:20240315T085500
DTEND;TZID=UTC:20240315T093000
DTSTAMP:20260420T220705
CREATED:20240221T164448Z
LAST-MODIFIED:20240221T164451Z
UID:6771-1710492900-1710495000@www.ashlandsprimary.org.uk
SUMMARY:Class 4 Yew Swimming
DESCRIPTION:
URL:https://www.ashlandsprimary.org.uk/event/class-4-yew-swimming-4/
END:VEVENT
BEGIN:VEVENT
DTSTART;TZID=UTC:20240314T153000
DTEND;TZID=UTC:20240314T190000
DTSTAMP:20260420T220705
CREATED:20231005T095005Z
LAST-MODIFIED:20231005T095012Z
UID:5559-1710430200-1710442800@www.ashlandsprimary.org.uk
SUMMARY:School Disco
DESCRIPTION:
URL:https://www.ashlandsprimary.org.uk/event/school-disco-2/
END:VEVENT
BEGIN:VEVENT
DTSTART;TZID=UTC:20240313T160000
DTEND;TZID=UTC:20240313T190000
DTSTAMP:20260420T220705
CREATED:20240221T164903Z
LAST-MODIFIED:20240221T164905Z
UID:6775-1710345600-1710356400@www.ashlandsprimary.org.uk
SUMMARY:Parents Evening
DESCRIPTION:
URL:https://www.ashlandsprimary.org.uk/event/parents-evening-4/
END:VEVENT
BEGIN:VEVENT
DTSTART;TZID=UTC:20240313T144500
DTEND;TZID=UTC:20240313T152000
DTSTAMP:20260420T220705
CREATED:20240105T113137Z
LAST-MODIFIED:20240105T113140Z
UID:6547-1710341100-1710343200@www.ashlandsprimary.org.uk
SUMMARY:Year 6 Celebration Assembly
DESCRIPTION:
URL:https://www.ashlandsprimary.org.uk/event/year-6-celebration-assembly/
END:VEVENT
BEGIN:VEVENT
DTSTART;TZID=UTC:20240312T144500
DTEND;TZID=UTC:20240312T152000
DTSTAMP:20260420T220705
CREATED:20240105T112940Z
LAST-MODIFIED:20240105T112942Z
UID:6545-1710254700-1710256800@www.ashlandsprimary.org.uk
SUMMARY:Year 4 Celebration Assembly
DESCRIPTION:
URL:https://www.ashlandsprimary.org.uk/event/year-4-celebration-assembly/
END:VEVENT
BEGIN:VEVENT
DTSTART;TZID=UTC:20240308T085500
DTEND;TZID=UTC:20240308T093000
DTSTAMP:20260420T220705
CREATED:20240221T164247Z
LAST-MODIFIED:20240221T164258Z
UID:6769-1709888100-1709890200@www.ashlandsprimary.org.uk
SUMMARY:Class 4 Yew Swimming
DESCRIPTION:
URL:https://www.ashlandsprimary.org.uk/event/class-4-yew-swimming-3/
END:VEVENT
BEGIN:VEVENT
DTSTART;TZID=UTC:20240307T090000
DTEND;TZID=UTC:20240307T153000
DTSTAMP:20260420T220705
CREATED:20240105T113428Z
LAST-MODIFIED:20240105T113655Z
UID:6551-1709802000-1709825400@www.ashlandsprimary.org.uk
SUMMARY:World Book Day
DESCRIPTION:
URL:https://www.ashlandsprimary.org.uk/event/world-book-day-2/
END:VEVENT
BEGIN:VEVENT
DTSTART;TZID=UTC:20240306T144500
DTEND;TZID=UTC:20240306T152000
DTSTAMP:20260420T220705
CREATED:20240105T112333Z
LAST-MODIFIED:20240105T112334Z
UID:6543-1709736300-1709738400@www.ashlandsprimary.org.uk
SUMMARY:Year 5 Celebration Assembly
DESCRIPTION:
URL:https://www.ashlandsprimary.org.uk/event/year-5-celebration-assembly/
END:VEVENT
BEGIN:VEVENT
DTSTART;TZID=UTC:20240306T090000
DTEND;TZID=UTC:20240306T120000
DTSTAMP:20260420T220705
CREATED:20240205T104010Z
LAST-MODIFIED:20240205T104212Z
UID:6708-1709715600-1709726400@www.ashlandsprimary.org.uk
SUMMARY:Year 1 visit to Ilkley Toy Museum
DESCRIPTION:
URL:https://www.ashlandsprimary.org.uk/event/year-1-visit-to-ilkley-toy-museum/
END:VEVENT
BEGIN:VEVENT
DTSTART;TZID=UTC:20240305T144500
DTEND;TZID=UTC:20240305T152000
DTSTAMP:20260420T220705
CREATED:20240105T112248Z
LAST-MODIFIED:20240105T112249Z
UID:6541-1709649900-1709652000@www.ashlandsprimary.org.uk
SUMMARY:Year 3 Celebration Assembly
DESCRIPTION:
URL:https://www.ashlandsprimary.org.uk/event/year-3-celebration-assembly-2/
END:VEVENT
BEGIN:VEVENT
DTSTART;TZID=UTC:20240302T090000
DTEND;TZID=UTC:20240302T120000
DTSTAMP:20260420T220705
CREATED:20240105T112202Z
LAST-MODIFIED:20240105T112202Z
UID:6539-1709370000-1709380800@www.ashlandsprimary.org.uk
SUMMARY:All Saints Cross Country
DESCRIPTION:
URL:https://www.ashlandsprimary.org.uk/event/all-saints-cross-country-2/
END:VEVENT
BEGIN:VEVENT
DTSTART;TZID=UTC:20240301T085500
DTEND;TZID=UTC:20240301T090000
DTSTAMP:20260420T220705
CREATED:20240221T164128Z
LAST-MODIFIED:20240221T164130Z
UID:6767-1709283300-1709283600@www.ashlandsprimary.org.uk
SUMMARY:Class 4 Yew Swimming
DESCRIPTION:
URL:https://www.ashlandsprimary.org.uk/event/class-4-yew-swimming-2/
END:VEVENT
BEGIN:VEVENT
DTSTART;TZID=UTC:20240229T144500
DTEND;TZID=UTC:20240229T152000
DTSTAMP:20260420T220705
CREATED:20240105T111754Z
LAST-MODIFIED:20240105T112109Z
UID:6537-1709217900-1709220000@www.ashlandsprimary.org.uk
SUMMARY:Year 2 Share and Celebrate
DESCRIPTION:
URL:https://www.ashlandsprimary.org.uk/event/year-2-share-and-celebrate-4/
END:VEVENT
BEGIN:VEVENT
DTSTART;TZID=UTC:20240227T144500
DTEND;TZID=UTC:20240227T152000
DTSTAMP:20260420T220705
CREATED:20240105T111657Z
LAST-MODIFIED:20240105T111659Z
UID:6535-1709045100-1709047200@www.ashlandsprimary.org.uk
SUMMARY:Year 1 Share and Celebrate
DESCRIPTION:
URL:https://www.ashlandsprimary.org.uk/event/year-1-share-and-celebrate-4/
END:VEVENT
BEGIN:VEVENT
DTSTART;TZID=UTC:20240226T144500
DTEND;TZID=UTC:20240226T152000
DTSTAMP:20260420T220705
CREATED:20240105T111550Z
LAST-MODIFIED:20240105T111611Z
UID:6532-1708958700-1708960800@www.ashlandsprimary.org.uk
SUMMARY:Nursery and Reception Stay and Play
DESCRIPTION:
URL:https://www.ashlandsprimary.org.uk/event/foundation-stay-and-play/
END:VEVENT
BEGIN:VEVENT
DTSTART;TZID=UTC:20240224T090000
DTEND;TZID=UTC:20240224T120000
DTSTAMP:20260420T220705
CREATED:20240105T111436Z
LAST-MODIFIED:20240105T111438Z
UID:6530-1708765200-1708776000@www.ashlandsprimary.org.uk
SUMMARY:Ghyll Royd Cross Country
DESCRIPTION:
URL:https://www.ashlandsprimary.org.uk/event/ghyll-royd-cross-country/
END:VEVENT
BEGIN:VEVENT
DTSTART;TZID=UTC:20240223T085500
DTEND;TZID=UTC:20240223T093000
DTSTAMP:20260420T220705
CREATED:20240221T163736Z
LAST-MODIFIED:20240221T163744Z
UID:6765-1708678500-1708680600@www.ashlandsprimary.org.uk
SUMMARY:Class 4 Yew Swimming
DESCRIPTION:
URL:https://www.ashlandsprimary.org.uk/event/class-4-yew-swimming/
END:VEVENT
BEGIN:VEVENT
DTSTART;TZID=UTC:20240223T084500
DTEND;TZID=UTC:20240223T153000
DTSTAMP:20260420T220705
CREATED:20240125T111613Z
LAST-MODIFIED:20240125T111615Z
UID:6668-1708677900-1708702200@www.ashlandsprimary.org.uk
SUMMARY:Year 2 - School Trip to the Yorkshire Air Museum
DESCRIPTION:
URL:https://www.ashlandsprimary.org.uk/event/year-2-school-trip-to-the-yorkshire-air-museum/
END:VEVENT
BEGIN:VEVENT
DTSTART;TZID=UTC:20240222T180000
DTEND;TZID=UTC:20240222T190000
DTSTAMP:20260420T220705
CREATED:20240105T111330Z
LAST-MODIFIED:20240105T111332Z
UID:6528-1708624800-1708628400@www.ashlandsprimary.org.uk
SUMMARY:Parents RSE Talk - All parents welcome
DESCRIPTION:
URL:https://www.ashlandsprimary.org.uk/event/parents-rse-talk-all-parents-welcome/
END:VEVENT
BEGIN:VEVENT
DTSTART;TZID=UTC:20240219T090000
DTEND;TZID=UTC:20240219T090000
DTSTAMP:20260420T220705
CREATED:20230112T152936Z
LAST-MODIFIED:20230112T152936Z
UID:3231-1708333200-1708333200@www.ashlandsprimary.org.uk
SUMMARY:Return to School
DESCRIPTION:
URL:https://www.ashlandsprimary.org.uk/event/return-to-school-7/
END:VEVENT
BEGIN:VEVENT
DTSTART;TZID=UTC:20240209T153000
DTEND;TZID=UTC:20240209T153000
DTSTAMP:20260420T220705
CREATED:20230112T152906Z
LAST-MODIFIED:20230112T152906Z
UID:3229-1707492600-1707492600@www.ashlandsprimary.org.uk
SUMMARY:Break Up
DESCRIPTION:
URL:https://www.ashlandsprimary.org.uk/event/break-up-11/
END:VEVENT
BEGIN:VEVENT
DTSTART;TZID=UTC:20240209T090000
DTEND;TZID=UTC:20240209T153000
DTSTAMP:20260420T220705
CREATED:20240205T103607Z
LAST-MODIFIED:20240205T103609Z
UID:6706-1707469200-1707492600@www.ashlandsprimary.org.uk
SUMMARY:Non Uniform Day - Mental Health Week - Dress to Express
DESCRIPTION:
URL:https://www.ashlandsprimary.org.uk/event/non-uniform-day-mental-health-week-dress-to-express/
END:VEVENT
BEGIN:VEVENT
DTSTART;TZID=UTC:20240209T090000
DTEND;TZID=UTC:20240209T093000
DTSTAMP:20260420T220705
CREATED:20231215T134211Z
LAST-MODIFIED:20231215T134215Z
UID:6485-1707469200-1707471000@www.ashlandsprimary.org.uk
SUMMARY:Year 3 Swimming (last one for Year 3)
DESCRIPTION:
URL:https://www.ashlandsprimary.org.uk/event/year-3-swimming-last-one-for-year-3/
END:VEVENT
BEGIN:VEVENT
DTSTART;TZID=UTC:20240209T083000
DTEND;TZID=UTC:20240209T093000
DTSTAMP:20260420T220705
CREATED:20231215T134500Z
LAST-MODIFIED:20231215T134502Z
UID:6487-1707467400-1707471000@www.ashlandsprimary.org.uk
SUMMARY:Razzmatazz Open Rehearsal (Parents Welcome)
DESCRIPTION:
URL:https://www.ashlandsprimary.org.uk/event/razzmatazz-open-rehearsal-parents-welcome/
END:VEVENT
BEGIN:VEVENT
DTSTART;TZID=UTC:20240207T093000
DTEND;TZID=UTC:20240207T120000
DTSTAMP:20260420T220705
CREATED:20240125T111206Z
LAST-MODIFIED:20240125T111208Z
UID:6666-1707298200-1707307200@www.ashlandsprimary.org.uk
SUMMARY:Reception - Height\, Weight and Hearing
DESCRIPTION:
URL:https://www.ashlandsprimary.org.uk/event/reception-height-weight-and-hearing/
END:VEVENT
BEGIN:VEVENT
DTSTART;TZID=UTC:20240205T090000
DTEND;TZID=UTC:20240209T153000
DTSTAMP:20260420T220705
CREATED:20240125T111113Z
LAST-MODIFIED:20240125T111117Z
UID:6664-1707123600-1707492600@www.ashlandsprimary.org.uk
SUMMARY:Interfaith Harmony Week
DESCRIPTION:
URL:https://www.ashlandsprimary.org.uk/event/interfaith-harmony-week/
END:VEVENT
BEGIN:VEVENT
DTSTART;TZID=UTC:20240203T090000
DTEND;TZID=UTC:20240203T120000
DTSTAMP:20260420T220705
CREATED:20240105T110525Z
LAST-MODIFIED:20240105T115303Z
UID:6526-1706950800-1706961600@www.ashlandsprimary.org.uk
SUMMARY:Ben Rhydding Cross Country
DESCRIPTION:
URL:https://www.ashlandsprimary.org.uk/event/ben-rhydding-cross-country/
END:VEVENT
BEGIN:VEVENT
DTSTART;TZID=UTC:20240202T090000
DTEND;TZID=UTC:20240202T093000
DTSTAMP:20260420T220705
CREATED:20231215T134118Z
LAST-MODIFIED:20231215T134118Z
UID:6483-1706864400-1706866200@www.ashlandsprimary.org.uk
SUMMARY:Year 3 Swimming
DESCRIPTION:
URL:https://www.ashlandsprimary.org.uk/event/year-3-swimming-5/
END:VEVENT
BEGIN:VEVENT
DTSTART;TZID=UTC:20240130T153000
DTEND;TZID=UTC:20240130T163000
DTSTAMP:20260420T220705
CREATED:20240125T110925Z
LAST-MODIFIED:20240125T110927Z
UID:6662-1706628600-1706632200@www.ashlandsprimary.org.uk
SUMMARY:Year 5 - Parent Information Evening for School Residential
DESCRIPTION:
URL:https://www.ashlandsprimary.org.uk/event/year-5-parent-information-evening-for-school-residential/
END:VEVENT
END:VCALENDAR