BEGIN:VCALENDAR
VERSION:2.0
PRODID:-//Ashlands Primary School - ECPv6.15.17.1//NONSGML v1.0//EN
CALSCALE:GREGORIAN
METHOD:PUBLISH
X-WR-CALNAME:Ashlands Primary School
X-ORIGINAL-URL:https://www.ashlandsprimary.org.uk
X-WR-CALDESC:Events for Ashlands Primary School
REFRESH-INTERVAL;VALUE=DURATION:PT1H
X-Robots-Tag:noindex
X-PUBLISHED-TTL:PT1H
BEGIN:VTIMEZONE
TZID:UTC
BEGIN:STANDARD
TZOFFSETFROM:+0000
TZOFFSETTO:+0000
TZNAME:UTC
DTSTART:20210101T000000
END:STANDARD
END:VTIMEZONE
BEGIN:VEVENT
DTSTART;TZID=UTC:20221101T090000
DTEND;TZID=UTC:20221101T093000
DTSTAMP:20260421T152513
CREATED:20221005T141157Z
LAST-MODIFIED:20221005T141157Z
UID:2370-1667293200-1667295000@www.ashlandsprimary.org.uk
SUMMARY:Year 5 and Year 6 Celebration Assembly
DESCRIPTION:
URL:https://www.ashlandsprimary.org.uk/event/year-5-and-year-6-celebration-assembly/
END:VEVENT
BEGIN:VEVENT
DTSTART;TZID=UTC:20221105T180000
DTEND;TZID=UTC:20221105T200000
DTSTAMP:20260421T152513
CREATED:20221005T141416Z
LAST-MODIFIED:20221005T141416Z
UID:2372-1667671200-1667678400@www.ashlandsprimary.org.uk
SUMMARY:Friends of Ashlands Bonfire Night
DESCRIPTION:
URL:https://www.ashlandsprimary.org.uk/event/friends-of-ashlands-bonfire-night/
END:VEVENT
BEGIN:VEVENT
DTSTART;TZID=UTC:20221114T193000
DTEND;TZID=UTC:20221114T213000
DTSTAMP:20260421T152513
CREATED:20221108T160042Z
LAST-MODIFIED:20221108T160042Z
UID:2707-1668454200-1668461400@www.ashlandsprimary.org.uk
SUMMARY:Friends of Ashlands AGM - The Black Hat
DESCRIPTION:
URL:https://www.ashlandsprimary.org.uk/event/friends-of-ashlands-agm-the-black-hat/
END:VEVENT
BEGIN:VEVENT
DTSTART;TZID=UTC:20221117T131500
DTEND;TZID=UTC:20221117T151500
DTSTAMP:20260421T152513
CREATED:20220930T102959Z
LAST-MODIFIED:20220930T103110Z
UID:2343-1668690900-1668698100@www.ashlandsprimary.org.uk
SUMMARY:Open Day
DESCRIPTION:
URL:https://www.ashlandsprimary.org.uk/event/open-day/
END:VEVENT
BEGIN:VEVENT
DTSTART;TZID=UTC:20221118T091500
DTEND;TZID=UTC:20221118T111500
DTSTAMP:20260421T152513
CREATED:20220930T103040Z
LAST-MODIFIED:20220930T103040Z
UID:2345-1668762900-1668770100@www.ashlandsprimary.org.uk
SUMMARY:Open Day
DESCRIPTION:
URL:https://www.ashlandsprimary.org.uk/event/open-day-2/
END:VEVENT
BEGIN:VEVENT
DTSTART;TZID=UTC:20221121T090000
DTEND;TZID=UTC:20221121T120000
DTSTAMP:20260421T152513
CREATED:20221108T155109Z
LAST-MODIFIED:20221108T155109Z
UID:2703-1669021200-1669032000@www.ashlandsprimary.org.uk
SUMMARY:Tempus Fugit Theatre Company - Years 5 and 6
DESCRIPTION:
URL:https://www.ashlandsprimary.org.uk/event/tempus-fugit-theatre-company-years-5-and-6/
END:VEVENT
BEGIN:VEVENT
DTSTART;TZID=UTC:20221129T090000
DTEND;TZID=UTC:20221129T120000
DTSTAMP:20260421T152513
CREATED:20221017T131315Z
LAST-MODIFIED:20221017T131315Z
UID:2535-1669712400-1669723200@www.ashlandsprimary.org.uk
SUMMARY:Flu Immunisation Team - Reception to Year 6
DESCRIPTION:
URL:https://www.ashlandsprimary.org.uk/event/flu-immunisation-team-reception-to-year-6/
END:VEVENT
BEGIN:VEVENT
DTSTART;TZID=UTC:20221130T150000
DTEND;TZID=UTC:20221130T153000
DTSTAMP:20260421T152513
CREATED:20221005T142057Z
LAST-MODIFIED:20221005T142057Z
UID:2374-1669820400-1669822200@www.ashlandsprimary.org.uk
SUMMARY:Reception Stay and Play
DESCRIPTION:
URL:https://www.ashlandsprimary.org.uk/event/reception-stay-and-play/
END:VEVENT
END:VCALENDAR