BEGIN:VCALENDAR
VERSION:2.0
PRODID:-//Ashlands Primary School - ECPv6.15.17.1//NONSGML v1.0//EN
CALSCALE:GREGORIAN
METHOD:PUBLISH
X-ORIGINAL-URL:https://www.ashlandsprimary.org.uk
X-WR-CALDESC:Events for Ashlands Primary School
REFRESH-INTERVAL;VALUE=DURATION:PT1H
X-Robots-Tag:noindex
X-PUBLISHED-TTL:PT1H
BEGIN:VTIMEZONE
TZID:UTC
BEGIN:STANDARD
TZOFFSETFROM:+0000
TZOFFSETTO:+0000
TZNAME:UTC
DTSTART:20220101T000000
END:STANDARD
END:VTIMEZONE
BEGIN:VEVENT
DTSTART;TZID=UTC:20230417T090000
DTEND;TZID=UTC:20230417T090000
DTSTAMP:20260421T090212
CREATED:20230112T151958Z
LAST-MODIFIED:20230112T151958Z
UID:3211-1681722000-1681722000@www.ashlandsprimary.org.uk
SUMMARY:Return to School
DESCRIPTION:
URL:https://www.ashlandsprimary.org.uk/event/return-to-school-3/
END:VEVENT
BEGIN:VEVENT
DTSTART;TZID=UTC:20230419T180000
DTEND;TZID=UTC:20230419T180000
DTSTAMP:20260421T090212
CREATED:20230418T075236Z
LAST-MODIFIED:20230418T075236Z
UID:3987-1681927200-1681927200@www.ashlandsprimary.org.uk
SUMMARY:Year 1 Phonics Evening
DESCRIPTION:
URL:https://www.ashlandsprimary.org.uk/event/year-1-phonics-evening/
END:VEVENT
BEGIN:VEVENT
DTSTART;TZID=UTC:20230421T153000
DTEND;TZID=UTC:20230421T170000
DTSTAMP:20260421T090212
CREATED:20230331T134046Z
LAST-MODIFIED:20230331T134046Z
UID:3924-1682091000-1682096400@www.ashlandsprimary.org.uk
SUMMARY:Easter Egg Trail & Bake Sale
DESCRIPTION:After school
URL:https://www.ashlandsprimary.org.uk/event/easter-egg-trail-bake-sale/
END:VEVENT
BEGIN:VEVENT
DTSTART;TZID=UTC:20230424T153000
DTEND;TZID=UTC:20230424T173000
DTSTAMP:20260421T090212
CREATED:20230418T075344Z
LAST-MODIFIED:20230418T075344Z
UID:3989-1682350200-1682357400@www.ashlandsprimary.org.uk
SUMMARY:Carnival maker Session
DESCRIPTION:
URL:https://www.ashlandsprimary.org.uk/event/carnival-maker-session/
END:VEVENT
END:VCALENDAR