BEGIN:VCALENDAR
VERSION:2.0
PRODID:-//Ashlands Primary School - ECPv6.15.17.1//NONSGML v1.0//EN
CALSCALE:GREGORIAN
METHOD:PUBLISH
X-ORIGINAL-URL:https://www.ashlandsprimary.org.uk
X-WR-CALDESC:Events for Ashlands Primary School
REFRESH-INTERVAL;VALUE=DURATION:PT1H
X-Robots-Tag:noindex
X-PUBLISHED-TTL:PT1H
BEGIN:VTIMEZONE
TZID:UTC
BEGIN:STANDARD
TZOFFSETFROM:+0000
TZOFFSETTO:+0000
TZNAME:UTC
DTSTART:20220101T000000
END:STANDARD
END:VTIMEZONE
BEGIN:VEVENT
DTSTART;TZID=UTC:20230704T090000
DTEND;TZID=UTC:20230704T093000
DTSTAMP:20260421T044209
CREATED:20230510T145252Z
LAST-MODIFIED:20230510T145254Z
UID:4139-1688461200-1688463000@www.ashlandsprimary.org.uk
SUMMARY:Years 5 and 6 Celebration Assembly
DESCRIPTION:
URL:https://www.ashlandsprimary.org.uk/event/years-5-and-6-celebration-assembly/
END:VEVENT
BEGIN:VEVENT
DTSTART;TZID=UTC:20230709T120000
DTEND;TZID=UTC:20230709T160000
DTSTAMP:20260421T044209
CREATED:20230331T134312Z
LAST-MODIFIED:20230630T084230Z
UID:3928-1688904000-1688918400@www.ashlandsprimary.org.uk
SUMMARY:Friends Summer Fair
DESCRIPTION:
URL:https://www.ashlandsprimary.org.uk/event/friends-summer-fair/
END:VEVENT
BEGIN:VEVENT
DTSTART;TZID=UTC:20230710T134500
DTEND;TZID=UTC:20230710T151500
DTSTAMP:20260421T044209
CREATED:20230510T145353Z
LAST-MODIFIED:20230630T084159Z
UID:4141-1688996700-1689002100@www.ashlandsprimary.org.uk
SUMMARY:KS1 Sports Day
DESCRIPTION:
URL:https://www.ashlandsprimary.org.uk/event/ks1-sports-day/
END:VEVENT
BEGIN:VEVENT
DTSTART;TZID=UTC:20230713T090000
DTEND;TZID=UTC:20230713T153000
DTSTAMP:20260421T044209
CREATED:20230510T145453Z
LAST-MODIFIED:20230510T145606Z
UID:4143-1689238800-1689262200@www.ashlandsprimary.org.uk
SUMMARY:Transition Day
DESCRIPTION:
URL:https://www.ashlandsprimary.org.uk/event/transition-day-2/
END:VEVENT
BEGIN:VEVENT
DTSTART;TZID=UTC:20230716T080000
DTEND;TZID=UTC:20230716T170000
DTSTAMP:20260421T044209
CREATED:20230331T134343Z
LAST-MODIFIED:20230331T134343Z
UID:3930-1689494400-1689526800@www.ashlandsprimary.org.uk
SUMMARY:Ilkley Half Marathon
DESCRIPTION:
URL:https://www.ashlandsprimary.org.uk/event/ilkley-half-marathon/
END:VEVENT
BEGIN:VEVENT
DTSTART;TZID=UTC:20230721T153000
DTEND;TZID=UTC:20230721T153000
DTSTAMP:20260421T044209
CREATED:20230112T152312Z
LAST-MODIFIED:20230112T152312Z
UID:3219-1689953400-1689953400@www.ashlandsprimary.org.uk
SUMMARY:Break Up
DESCRIPTION:
URL:https://www.ashlandsprimary.org.uk/event/break-up-8/
END:VEVENT
END:VCALENDAR