BEGIN:VCALENDAR
VERSION:2.0
PRODID:-//Ashlands Primary School - ECPv6.15.17.1//NONSGML v1.0//EN
CALSCALE:GREGORIAN
METHOD:PUBLISH
X-ORIGINAL-URL:https://www.ashlandsprimary.org.uk
X-WR-CALDESC:Events for Ashlands Primary School
REFRESH-INTERVAL;VALUE=DURATION:PT1H
X-Robots-Tag:noindex
X-PUBLISHED-TTL:PT1H
BEGIN:VTIMEZONE
TZID:UTC
BEGIN:STANDARD
TZOFFSETFROM:+0000
TZOFFSETTO:+0000
TZNAME:UTC
DTSTART:20220101T000000
END:STANDARD
END:VTIMEZONE
BEGIN:VEVENT
DTSTART;TZID=UTC:20230905T090000
DTEND;TZID=UTC:20230905T090000
DTSTAMP:20260421T020339
CREATED:20230112T151041Z
LAST-MODIFIED:20230112T151429Z
UID:3198-1693904400-1693904400@www.ashlandsprimary.org.uk
SUMMARY:Return to School
DESCRIPTION:
URL:https://www.ashlandsprimary.org.uk/event/break-up-4/
END:VEVENT
BEGIN:VEVENT
DTSTART;TZID=UTC:20230906T090000
DTEND;TZID=UTC:20230906T094500
DTSTAMP:20260421T020339
CREATED:20230802T130259Z
LAST-MODIFIED:20230802T130259Z
UID:4825-1693990800-1693993500@www.ashlandsprimary.org.uk
SUMMARY:New to Ashlands teas & coffees
DESCRIPTION:
URL:https://www.ashlandsprimary.org.uk/event/new-to-ashlands-teas-coffees/
END:VEVENT
BEGIN:VEVENT
DTSTART;TZID=UTC:20230909T100000
DTEND;TZID=UTC:20230909T120000
DTSTAMP:20260421T020339
CREATED:20230802T130708Z
LAST-MODIFIED:20230802T130932Z
UID:4830-1694253600-1694260800@www.ashlandsprimary.org.uk
SUMMARY:Riverside Walk for new to Ashlands parents / carers
DESCRIPTION:Meet at the Riverside Hotel at 10.00am
URL:https://www.ashlandsprimary.org.uk/event/riverside-walk-for-new-to-ashlands-parents-carers/
END:VEVENT
BEGIN:VEVENT
DTSTART;TZID=UTC:20230913T090000
DTEND;TZID=UTC:20230913T153000
DTSTAMP:20260421T020339
CREATED:20230906T105331Z
LAST-MODIFIED:20230906T105605Z
UID:4960-1694595600-1694619000@www.ashlandsprimary.org.uk
SUMMARY:Year 6 Bikeability
DESCRIPTION:
URL:https://www.ashlandsprimary.org.uk/event/year-6-bikeability/
END:VEVENT
BEGIN:VEVENT
DTSTART;TZID=UTC:20230914T090000
DTEND;TZID=UTC:20230914T153000
DTSTAMP:20260421T020339
CREATED:20230906T105401Z
LAST-MODIFIED:20230906T105529Z
UID:4962-1694682000-1694705400@www.ashlandsprimary.org.uk
SUMMARY:Year 6 Bikeability
DESCRIPTION:
URL:https://www.ashlandsprimary.org.uk/event/year-6-bikeability-2/
END:VEVENT
BEGIN:VEVENT
DTSTART;TZID=UTC:20230915T090000
DTEND;TZID=UTC:20230915T153000
DTSTAMP:20260421T020339
CREATED:20230906T105429Z
LAST-MODIFIED:20230906T105503Z
UID:4964-1694768400-1694791800@www.ashlandsprimary.org.uk
SUMMARY:Year 6 Bikeability
DESCRIPTION:
URL:https://www.ashlandsprimary.org.uk/event/year-6-bikeability-3/
END:VEVENT
BEGIN:VEVENT
DTSTART;TZID=UTC:20230918T180000
DTEND;TZID=UTC:20230918T190000
DTSTAMP:20260421T020339
CREATED:20230802T130514Z
LAST-MODIFIED:20230802T130514Z
UID:4827-1695060000-1695063600@www.ashlandsprimary.org.uk
SUMMARY:Reception Phonics & Maths Information Evening
DESCRIPTION:Information evening for reception parents and carers
URL:https://www.ashlandsprimary.org.uk/event/reception-phonics-maths-information-evening/
END:VEVENT
BEGIN:VEVENT
DTSTART;TZID=UTC:20230921T193000
DTEND;TZID=UTC:20230921T210000
DTSTAMP:20260421T020339
CREATED:20230802T130855Z
LAST-MODIFIED:20230802T130855Z
UID:4833-1695324600-1695330000@www.ashlandsprimary.org.uk
SUMMARY:Friends of Ashlands Drinks at Black Hat for new to Ashlands parents / carers
DESCRIPTION:Meet at the Black Hat at 7.30pm
URL:https://www.ashlandsprimary.org.uk/event/friends-of-ashlands-drinks-at-black-hat-for-new-to-ashlands-parents-carers/
END:VEVENT
BEGIN:VEVENT
DTSTART;TZID=UTC:20230922T090000
DTEND;TZID=UTC:20230922T153000
DTSTAMP:20260421T020339
CREATED:20230914T135622Z
LAST-MODIFIED:20230914T135629Z
UID:5063-1695373200-1695396600@www.ashlandsprimary.org.uk
SUMMARY:Jeans for Genes
DESCRIPTION:Come to school in denim or blue.
URL:https://www.ashlandsprimary.org.uk/event/jeans-for-genes/
END:VEVENT
BEGIN:VEVENT
DTSTART;TZID=UTC:20230925T090000
DTEND;TZID=UTC:20230925T153000
DTSTAMP:20260421T020339
CREATED:20230906T105718Z
LAST-MODIFIED:20230906T105718Z
UID:4966-1695632400-1695655800@www.ashlandsprimary.org.uk
SUMMARY:Key Stage 2 - Individual and Sibling Photos
DESCRIPTION:
URL:https://www.ashlandsprimary.org.uk/event/key-stage-2-individual-and-sibling-photos/
END:VEVENT
END:VCALENDAR