BEGIN:VCALENDAR
VERSION:2.0
PRODID:-//Ashlands Primary School - ECPv6.15.17.1//NONSGML v1.0//EN
CALSCALE:GREGORIAN
METHOD:PUBLISH
X-ORIGINAL-URL:https://www.ashlandsprimary.org.uk
X-WR-CALDESC:Events for Ashlands Primary School
REFRESH-INTERVAL;VALUE=DURATION:PT1H
X-Robots-Tag:noindex
X-PUBLISHED-TTL:PT1H
BEGIN:VTIMEZONE
TZID:UTC
BEGIN:STANDARD
TZOFFSETFROM:+0000
TZOFFSETTO:+0000
TZNAME:UTC
DTSTART:20230101T000000
END:STANDARD
END:VTIMEZONE
BEGIN:VEVENT
DTSTART;TZID=UTC:20240501T090000
DTEND;TZID=UTC:20240501T120000
DTSTAMP:20260420T145104
CREATED:20240418T125109Z
LAST-MODIFIED:20240418T125112Z
UID:7070-1714554000-1714564800@www.ashlandsprimary.org.uk
SUMMARY:Class Photos
DESCRIPTION:
URL:https://www.ashlandsprimary.org.uk/event/class-photos-4/
END:VEVENT
BEGIN:VEVENT
DTSTART;TZID=UTC:20240503T090000
DTEND;TZID=UTC:20240503T093000
DTSTAMP:20260420T145104
CREATED:20240418T130223Z
LAST-MODIFIED:20240418T130223Z
UID:7081-1714726800-1714728600@www.ashlandsprimary.org.uk
SUMMARY:Class 4 Yew (last swimming lesson)
DESCRIPTION:
URL:https://www.ashlandsprimary.org.uk/event/class-4-yew-last-swimming-lesson/
END:VEVENT
BEGIN:VEVENT
DTSTART;TZID=UTC:20240506T080000
DTEND;TZID=UTC:20240506T170000
DTSTAMP:20260420T145104
CREATED:20230112T153111Z
LAST-MODIFIED:20230112T153111Z
UID:3237-1714982400-1715014800@www.ashlandsprimary.org.uk
SUMMARY:May Day
DESCRIPTION:
URL:https://www.ashlandsprimary.org.uk/event/may-day-2/
END:VEVENT
BEGIN:VEVENT
DTSTART;TZID=UTC:20240506T090000
DTEND;TZID=UTC:20240506T130000
DTSTAMP:20260420T145104
CREATED:20231005T095629Z
LAST-MODIFIED:20231005T095640Z
UID:5569-1714986000-1715000400@www.ashlandsprimary.org.uk
SUMMARY:Ilkley Carnival
DESCRIPTION:
URL:https://www.ashlandsprimary.org.uk/event/ilkley-carnival-2/
END:VEVENT
BEGIN:VEVENT
DTSTART;TZID=UTC:20240510T090000
DTEND;TZID=UTC:20240510T093000
DTSTAMP:20260420T145104
CREATED:20240418T130257Z
LAST-MODIFIED:20240418T130257Z
UID:7083-1715331600-1715333400@www.ashlandsprimary.org.uk
SUMMARY:Class 4 Rowan Swimming
DESCRIPTION:
URL:https://www.ashlandsprimary.org.uk/event/class-4-rowan-swimming/
END:VEVENT
BEGIN:VEVENT
DTSTART;TZID=UTC:20240517T090000
DTEND;TZID=UTC:20240517T093000
DTSTAMP:20260420T145104
CREATED:20240418T130332Z
LAST-MODIFIED:20240418T130332Z
UID:7085-1715936400-1715938200@www.ashlandsprimary.org.uk
SUMMARY:Class 4 Rowan Swimming
DESCRIPTION:
URL:https://www.ashlandsprimary.org.uk/event/class-4-rowan-swimming-2/
END:VEVENT
BEGIN:VEVENT
DTSTART;TZID=UTC:20240519T080000
DTEND;TZID=UTC:20240519T170000
DTSTAMP:20260420T145104
CREATED:20231005T101013Z
LAST-MODIFIED:20231005T101016Z
UID:5586-1716105600-1716138000@www.ashlandsprimary.org.uk
SUMMARY:Pen Y Ghent Hike - Friends of Ashlands
DESCRIPTION:
URL:https://www.ashlandsprimary.org.uk/event/pen-y-ghent-hike-friends-of-ashlands/
END:VEVENT
BEGIN:VEVENT
DTSTART;TZID=UTC:20240521T090000
DTEND;TZID=UTC:20240521T150000
DTSTAMP:20260420T145104
CREATED:20240105T115704Z
LAST-MODIFIED:20240105T115706Z
UID:6559-1716282000-1716303600@www.ashlandsprimary.org.uk
SUMMARY:Road Safety Team here - Years 1 to 6
DESCRIPTION:
URL:https://www.ashlandsprimary.org.uk/event/road-safety-team-here-years-1-to-6/
END:VEVENT
BEGIN:VEVENT
DTSTART;TZID=UTC:20240522T084500
DTEND;TZID=UTC:20240522T153000
DTSTAMP:20260420T145104
CREATED:20240418T125308Z
LAST-MODIFIED:20240418T125310Z
UID:7072-1716367500-1716391800@www.ashlandsprimary.org.uk
SUMMARY:Year 6 School Trip to Ripon Prison Museum and Courthouse
DESCRIPTION:
URL:https://www.ashlandsprimary.org.uk/event/year-6-school-trip-to-ripon-prison-museum-and-courthouse/
END:VEVENT
BEGIN:VEVENT
DTSTART;TZID=UTC:20240523T083000
DTEND;TZID=UTC:20240523T090000
DTSTAMP:20260420T145104
CREATED:20240517T132436Z
LAST-MODIFIED:20240517T132438Z
UID:7354-1716453000-1716454800@www.ashlandsprimary.org.uk
SUMMARY:Walk to School - Bring your breakfast to the playground
DESCRIPTION:
URL:https://www.ashlandsprimary.org.uk/event/walk-to-school-bring-your-breakfast-to-the-playground/
END:VEVENT
BEGIN:VEVENT
DTSTART;TZID=UTC:20240523T090000
DTEND;TZID=UTC:20240523T153000
DTSTAMP:20260420T145104
CREATED:20240517T132215Z
LAST-MODIFIED:20240517T132218Z
UID:7352-1716454800-1716478200@www.ashlandsprimary.org.uk
SUMMARY:Crazy Hair Day for Diabetes
DESCRIPTION:
URL:https://www.ashlandsprimary.org.uk/event/crazy-hair-day-for-diabetes/
END:VEVENT
BEGIN:VEVENT
DTSTART;TZID=UTC:20240524T090000
DTEND;TZID=UTC:20240524T093000
DTSTAMP:20260420T145104
CREATED:20240418T130406Z
LAST-MODIFIED:20240418T130406Z
UID:7087-1716541200-1716543000@www.ashlandsprimary.org.uk
SUMMARY:Class 4 Rowan Swimming
DESCRIPTION:
URL:https://www.ashlandsprimary.org.uk/event/class-4-rowan-swimming-3/
END:VEVENT
BEGIN:VEVENT
DTSTART;TZID=UTC:20240524T153000
DTEND;TZID=UTC:20240524T170000
DTSTAMP:20260420T145104
CREATED:20230112T153140Z
LAST-MODIFIED:20230112T153140Z
UID:3239-1716564600-1716570000@www.ashlandsprimary.org.uk
SUMMARY:Break Up
DESCRIPTION:
URL:https://www.ashlandsprimary.org.uk/event/break-up-13/
END:VEVENT
END:VCALENDAR