BEGIN:VCALENDAR
VERSION:2.0
PRODID:-//Ashlands Primary School - ECPv6.15.17.1//NONSGML v1.0//EN
CALSCALE:GREGORIAN
METHOD:PUBLISH
X-ORIGINAL-URL:https://www.ashlandsprimary.org.uk
X-WR-CALDESC:Events for Ashlands Primary School
REFRESH-INTERVAL;VALUE=DURATION:PT1H
X-Robots-Tag:noindex
X-PUBLISHED-TTL:PT1H
BEGIN:VTIMEZONE
TZID:UTC
BEGIN:STANDARD
TZOFFSETFROM:+0000
TZOFFSETTO:+0000
TZNAME:UTC
DTSTART:20230101T000000
END:STANDARD
END:VTIMEZONE
BEGIN:VEVENT
DTSTART;TZID=UTC:20240604T090000
DTEND;TZID=UTC:20240604T090000
DTSTAMP:20260420T133243
CREATED:20230112T153214Z
LAST-MODIFIED:20230112T153214Z
UID:3241-1717491600-1717491600@www.ashlandsprimary.org.uk
SUMMARY:Return to School
DESCRIPTION:
URL:https://www.ashlandsprimary.org.uk/event/return-to-school-9/
END:VEVENT
BEGIN:VEVENT
DTSTART;TZID=UTC:20240605T090000
DTEND;TZID=UTC:20240605T150000
DTSTAMP:20260420T133243
CREATED:20240105T115753Z
LAST-MODIFIED:20240418T125907Z
UID:6561-1717578000-1717599600@www.ashlandsprimary.org.uk
SUMMARY:Road Safety Team here - Year 3
DESCRIPTION:
URL:https://www.ashlandsprimary.org.uk/event/road-safety-team-here-years-1-to-6-2/
END:VEVENT
BEGIN:VEVENT
DTSTART;TZID=UTC:20240605T090000
DTEND;TZID=UTC:20240605T153000
DTSTAMP:20260420T133243
CREATED:20240423T132411Z
LAST-MODIFIED:20240423T132413Z
UID:7125-1717578000-1717601400@www.ashlandsprimary.org.uk
SUMMARY:Year 2 Trip to Skipton Castle
DESCRIPTION:
URL:https://www.ashlandsprimary.org.uk/event/year-2-trip-to-skipton-castle/
END:VEVENT
BEGIN:VEVENT
DTSTART;TZID=UTC:20240607T090000
DTEND;TZID=UTC:20240607T093000
DTSTAMP:20260420T133243
CREATED:20240418T130438Z
LAST-MODIFIED:20240418T130438Z
UID:7089-1717750800-1717752600@www.ashlandsprimary.org.uk
SUMMARY:Class 4 Rowan Swimming
DESCRIPTION:
URL:https://www.ashlandsprimary.org.uk/event/class-4-rowan-swimming-4/
END:VEVENT
BEGIN:VEVENT
DTSTART;TZID=UTC:20240611T084500
DTEND;TZID=UTC:20240611T153000
DTSTAMP:20260420T133243
CREATED:20240425T151326Z
LAST-MODIFIED:20240425T151330Z
UID:7135-1718095500-1718119800@www.ashlandsprimary.org.uk
SUMMARY:Year 4 Trip to Temple Newsam
DESCRIPTION:
URL:https://www.ashlandsprimary.org.uk/event/year-4-trip-to-temple-newsam/
END:VEVENT
BEGIN:VEVENT
DTSTART;TZID=UTC:20240614T090000
DTEND;TZID=UTC:20240614T093000
DTSTAMP:20260420T133243
CREATED:20240418T130514Z
LAST-MODIFIED:20240418T130514Z
UID:7091-1718355600-1718357400@www.ashlandsprimary.org.uk
SUMMARY:Class 4 Rowan Swimming
DESCRIPTION:
URL:https://www.ashlandsprimary.org.uk/event/class-4-rowan-swimming-5/
END:VEVENT
BEGIN:VEVENT
DTSTART;TZID=UTC:20240614T090000
DTEND;TZID=UTC:20240614T153000
DTSTAMP:20260420T133243
CREATED:20240515T123115Z
LAST-MODIFIED:20240515T123115Z
UID:7303-1718355600-1718379000@www.ashlandsprimary.org.uk
SUMMARY:Year 3 Trip to Cliffe Castle\, Keighley
DESCRIPTION:
URL:https://www.ashlandsprimary.org.uk/event/year-3-trip-to-cliffe-castle-keighley/
END:VEVENT
BEGIN:VEVENT
DTSTART;TZID=UTC:20240621T080000
DTEND;TZID=UTC:20240622T170000
DTSTAMP:20260420T133243
CREATED:20231005T101052Z
LAST-MODIFIED:20231005T101054Z
UID:5589-1718956800-1719075600@www.ashlandsprimary.org.uk
SUMMARY:Friends of Ashlands - Camping Weekend
DESCRIPTION:
URL:https://www.ashlandsprimary.org.uk/event/friends-of-ashlands-camping-weekend/
END:VEVENT
BEGIN:VEVENT
DTSTART;TZID=UTC:20240621T090000
DTEND;TZID=UTC:20240621T093000
DTSTAMP:20260420T133243
CREATED:20240418T130559Z
LAST-MODIFIED:20240418T130559Z
UID:7093-1718960400-1718962200@www.ashlandsprimary.org.uk
SUMMARY:Class 4 Rowan Swimming
DESCRIPTION:
URL:https://www.ashlandsprimary.org.uk/event/class-4-rowan-swimming-6/
END:VEVENT
BEGIN:VEVENT
DTSTART;TZID=UTC:20240628T090000
DTEND;TZID=UTC:20240628T093000
DTSTAMP:20260420T133243
CREATED:20240418T130634Z
LAST-MODIFIED:20240418T130634Z
UID:7095-1719565200-1719567000@www.ashlandsprimary.org.uk
SUMMARY:Class 4 Rowan Swimming
DESCRIPTION:
URL:https://www.ashlandsprimary.org.uk/event/class-4-rowan-swimming-7/
END:VEVENT
END:VCALENDAR